BEGIN:VCALENDAR
VERSION:2.0
PRODID:-//Wisconsin Waterfowl Association - ECPv6.15.20//NONSGML v1.0//EN
CALSCALE:GREGORIAN
METHOD:PUBLISH
X-WR-CALNAME:Wisconsin Waterfowl Association
X-ORIGINAL-URL:https://wisducks.org
X-WR-CALDESC:Events for Wisconsin Waterfowl Association
REFRESH-INTERVAL;VALUE=DURATION:PT1H
X-Robots-Tag:noindex
X-PUBLISHED-TTL:PT1H
BEGIN:VTIMEZONE
TZID:America/Chicago
BEGIN:DAYLIGHT
TZOFFSETFROM:-0600
TZOFFSETTO:-0500
TZNAME:CDT
DTSTART:20170312T080000
END:DAYLIGHT
BEGIN:STANDARD
TZOFFSETFROM:-0500
TZOFFSETTO:-0600
TZNAME:CST
DTSTART:20171105T070000
END:STANDARD
BEGIN:DAYLIGHT
TZOFFSETFROM:-0600
TZOFFSETTO:-0500
TZNAME:CDT
DTSTART:20180311T080000
END:DAYLIGHT
BEGIN:STANDARD
TZOFFSETFROM:-0500
TZOFFSETTO:-0600
TZNAME:CST
DTSTART:20181104T070000
END:STANDARD
BEGIN:DAYLIGHT
TZOFFSETFROM:-0600
TZOFFSETTO:-0500
TZNAME:CDT
DTSTART:20190310T080000
END:DAYLIGHT
BEGIN:STANDARD
TZOFFSETFROM:-0500
TZOFFSETTO:-0600
TZNAME:CST
DTSTART:20191103T070000
END:STANDARD
END:VTIMEZONE
BEGIN:VEVENT
DTSTART;TZID=America/Chicago:20180613T180000
DTEND;TZID=America/Chicago:20180613T183000
DTSTAMP:20260423T065227
CREATED:20171221T144034Z
LAST-MODIFIED:20171221T144437Z
UID:10000090-1528912800-1528914600@wisducks.org
SUMMARY:2018 Conservation Calendar Raffle Drawing
DESCRIPTION:
URL:https://wisducks.org/event/2018-conservation-calendar-raffle-drawing/2018-06-13/
LOCATION:Marsh Inn\, 220 S. County Road W\, Reedsville\, WI\, 54230\, United States
ORGANIZER;CN="Wisconsin Waterfowl Association":MAILTO:info@wisducks.org
GEO:44.0968482;-87.8214713
X-APPLE-STRUCTURED-LOCATION;VALUE=URI;X-ADDRESS=Marsh Inn 220 S. County Road W Reedsville WI 54230 United States;X-APPLE-RADIUS=500;X-TITLE=220 S. County Road W:geo:-87.8214713,44.0968482
END:VEVENT
BEGIN:VEVENT
DTSTART;TZID=America/Chicago:20180619T113000
DTEND;TZID=America/Chicago:20180619T180000
DTSTAMP:20260423T065227
CREATED:20160427T193435Z
LAST-MODIFIED:20180509T170928Z
UID:10000065-1529407800-1529431200@wisducks.org
SUMMARY:Madison Scramble Golf Outing
DESCRIPTION:Join the Wisconsin Waterfowl Association on Tuesday\, June 19th for our 4th Annual Madison Scramble Golf Outing at The Oaks Golf Course\, located in Cottage Grove. \nSpecial thanks to sponsor Dave’s Turf & Marine of Watertown\, WI.  \n\nWhat: A day of golf at The Oaks Golf Course to benefit the Wisconsin Waterfowl Association\, with the opportunity to win a John Deere Gator 825m\, valued at $17\,500 if you get a Hole-In-One!\nWin this John Deere Gator 825m\, valued at $17\,500!\nWhen: Tuesday\, June 19\, 2018\n\n11:00-11:45 am – Registration\n12:00 noon – Shotgun Start\n12:00 noon – 4:30pm – Golf (box lunch and complimentary drink tickets provided. Snacks will also be available to purchase on course)\n4:30pm – Drinks\, Raffles\, Silent Auction\, Draw Winners from Course Games\n5:00pm –Dinner\n\n\nWhy: To enjoy a great day of golf on a truly outstanding course with a fantastic design. This is a perfect opportunity to entertain your clients or guests while also helping to support the mission of WWA\, including our habitat restoration\, education and legislative programs. Great golf\, great food and great fun with friends\, all in support of a great cause – Wisconsin Waterfowl Association!\nPrice: $125 per Golfer or $500 per Four-some\, includes 18 holes of golf with cart\, box lunch\, dinner\, goody bag and WWA Membership. Sponsorship opportunities available. Early Registration Bonus: If you are the Captain of one of our first 12 foursomes registered\, you will be entered into a drawing for $250!\nPre-Event (need not be present to win) Class A Raffle:\n\nGrand Prize: WIN a Beretta A300 camo 12ga \n2nd Prize: a Beretta M9 9mm pistol  \n3rd Prize: a Milwaukee Electric Tool M18 Lithium Four Tool Combo Set!\nTickets just $20 each\, only 300 will be sold\, get yours securely online\, below.\n\n\n\n\nPlease purchase your Outing tickets securely online below or\, to pay by check\, download our printable mail-in 2018 Madison Outing brochure here.
URL:https://wisducks.org/event/madison-golf-outing/
LOCATION:The Oaks Golf Course\, 4740 Pierceville Road\, Cottage Grove\, WI\, 53527\, United States
ORGANIZER;CN="Wisconsin Waterfowl Association":MAILTO:info@wisducks.org
GEO:43.1125578;-89.1718365
X-APPLE-STRUCTURED-LOCATION;VALUE=URI;X-ADDRESS=The Oaks Golf Course 4740 Pierceville Road Cottage Grove WI 53527 United States;X-APPLE-RADIUS=500;X-TITLE=4740 Pierceville Road:geo:-89.1718365,43.1125578
END:VEVENT
BEGIN:VEVENT
DTSTART;TZID=America/Chicago:20180624T083000
DTEND;TZID=America/Chicago:20180624T143000
DTSTAMP:20260423T065227
CREATED:20160212T190014Z
LAST-MODIFIED:20180524T190244Z
UID:10000047-1529829000-1529850600@wisducks.org
SUMMARY:Waukesha County Sporting Clays Shoot
DESCRIPTION:Shoot #3 in the WWA 2018 Shoot Series \n \nEntry Fee Includes 50 Rounds of Clays\, (1) Entry into the Grand Door Prize Drawing AND a 1-Year WWA Regular or Youth Membership \nDay-of Registration & Check-in: 8:30 am; Shooting: 9:00 am – 3:00 pm (last group out at 2:15 pm); Bucket raffles drawn after shooting concludes.  \nJust $30 to Shoot\, Youth Entry (17 & Under) Only $25! \n$25 Re-Shoots available day-of (no additional grand door prize entries with re-shoots) \nFood & Beverages available for purchase \nShoot will be held rain or shine (5-Stand Trailer used if raining) \nSave $5 off your registration if you shot at our  Spring 2018 Shoot! Use coupon code 2018wwashoot at checkout\, your attendance at a prior shoot will be verified at registration. \nPRIZES — RAFFLES — COURSE CHALLENGES \n\n3-Bird Shoot on 5-Stand\n\nBring your semi-autos!\n\n\nPurchase a $20 Shooting Ticket to earn 3 bucket raffle tickets per bird broken and/or purchase a Wingspan of 40 bucket raffle tickets and receive 1 ticket to win a case of shotgun shells (3 winners)!\nCard Raffle: purchase a card from each or all of the 3 decks available for a chance at winning a\n\nPacker’s canopy/chairs/tables tailgate set\, a\nhunting/fishing kayak and/or a\nParker Bushwacker crossbow & bolts\n\n\nAnd MANY more prizes\, including\n\nDecoys\, WWA clothing and much more!\n\n\nSPECIAL: Bring your bachelor or bachelorette party to the Shoot (minimum group of 5)\, and the Groom or Bride shoots for FREE! Notify us in the customer’s section at checkout of the names of your group.\nPlus\, every shooter receives entry into the 2018 Shoot Series Grand Prize for the Browning Primal 23 gun vault from Chase Outdoors  \n\n 
URL:https://wisducks.org/event/waukesha-county-sporting-clays-shoot/
LOCATION:Waukesha Gun Club\, N22W23170 Watertown Rd\, Waukesha\, WI\, 53188\, United States
ORGANIZER;CN="Wisconsin Waterfowl Association":MAILTO:info@wisducks.org
GEO:43.0607631;-88.2086241
X-APPLE-STRUCTURED-LOCATION;VALUE=URI;X-ADDRESS=Waukesha Gun Club N22W23170 Watertown Rd Waukesha WI 53188 United States;X-APPLE-RADIUS=500;X-TITLE=N22W23170 Watertown Rd:geo:-88.2086241,43.0607631
END:VEVENT
END:VCALENDAR