BEGIN:VCALENDAR
VERSION:2.0
PRODID:-//Wisconsin Waterfowl Association - ECPv6.15.20//NONSGML v1.0//EN
CALSCALE:GREGORIAN
METHOD:PUBLISH
X-WR-CALNAME:Wisconsin Waterfowl Association
X-ORIGINAL-URL:https://wisducks.org
X-WR-CALDESC:Events for Wisconsin Waterfowl Association
REFRESH-INTERVAL;VALUE=DURATION:PT1H
X-Robots-Tag:noindex
X-PUBLISHED-TTL:PT1H
BEGIN:VTIMEZONE
TZID:America/Chicago
BEGIN:DAYLIGHT
TZOFFSETFROM:-0600
TZOFFSETTO:-0500
TZNAME:CDT
DTSTART:20170312T080000
END:DAYLIGHT
BEGIN:STANDARD
TZOFFSETFROM:-0500
TZOFFSETTO:-0600
TZNAME:CST
DTSTART:20171105T070000
END:STANDARD
BEGIN:DAYLIGHT
TZOFFSETFROM:-0600
TZOFFSETTO:-0500
TZNAME:CDT
DTSTART:20180311T080000
END:DAYLIGHT
BEGIN:STANDARD
TZOFFSETFROM:-0500
TZOFFSETTO:-0600
TZNAME:CST
DTSTART:20181104T070000
END:STANDARD
BEGIN:DAYLIGHT
TZOFFSETFROM:-0600
TZOFFSETTO:-0500
TZNAME:CDT
DTSTART:20190310T080000
END:DAYLIGHT
BEGIN:STANDARD
TZOFFSETFROM:-0500
TZOFFSETTO:-0600
TZNAME:CST
DTSTART:20191103T070000
END:STANDARD
END:VTIMEZONE
BEGIN:VEVENT
DTSTART;TZID=America/Chicago:20180804T170000
DTEND;TZID=America/Chicago:20180804T220000
DTSTAMP:20260423T101636
CREATED:20160622T164128Z
LAST-MODIFIED:20180713T183420Z
UID:10000070-1533402000-1533420000@wisducks.org
SUMMARY:Wausau Chapter Banquet
DESCRIPTION:3rd Annual Banquet\nPrizes\, Games\, Raffles\, Auctions\, Hunts\, Guns! \n5:00 p.m. Doors Open/Cocktails\, 7:00 p.m. Dinner \nOur chapter has adopted Mead Wildlife Area! Attend our banquet to find out more.\nEvent Highlights: \n\n1 in 8 Wins a Gun!\nSponsor our banquet for only $250 ($450 merchandise donation) and you’ll be entered into our Sponsors Only raffle for a Henry Golden Boy gun \n Gun Boards\, Featuring:\n\nBoard #1\n\nBenelli SBE III \nRuger 6.5 Creedmor  \nTaurus Judge  \nHeritage .22 Revolver  \n\n\nBoard #2\n\nWinchester SX4 Camo \nAR15 300 Blackout\nSavage .17 HMR \nRuger EC9  \n\n\n\n\nCanadian Fishing Trip Raffle: \n\nGrand prize Anderson’s Manitou Falls Camp\, 2-person\, 4-night & 4-day fully guided fishing trip with lodging\, boat\, minnows & $400 cash!\n\n\nGoosehog Outdoors Snowgoose Hunt Raffle: \n\n2-1/2 day guided hunt (March 2019) PLUS a custom Snowgoose gun by 10:11 Outdoors\n\n\nPre-Event Gun Raffle:\n\nGrand Prize Franchi Intensity 3.5″ 12 Gauge Shotgun\n2nd Prize: Smith & Wesson M&P Sport II \n3rd Prize: Winchester XPR Mossy Oak 7mm Rem \n4th Prize: Springfield Mod 2 FDE45 \nTickets are $10 each and only 600 will be sold.  Get yours now!\n\n\n2018 Waterfowler’s Dream Hunt Raffle\n\nWinner receives entry into the statewide drawing for the 2018 State Hunt with SEMO Outfitters and each raffle ticket purchased banquet night will count as a drawing entry for a bonus gun that will be given away banquet night! \n\n\nFree Kid’s Raffle\n\nGrand prize: youth shotgun!\n\n\nBottomless Cup of Beer Raffle\nField Hunter Extravaganza Raffle\nRig’em Right Package Raffle\nSuper Yahtzee $1000 Cash Game\nPlinko\n& More!\n\nPurchase your banquet tickets securely online\, below or\, to pay by check\, download our printable event flyer here
URL:https://wisducks.org/event/wausau-chapter-banquet/
LOCATION:Dale’s Weston Lanes\, 5902 Schofield Avenue\, Weston\, WI\, 54476\, United States
GEO:44.9042686;-89.549518
X-APPLE-STRUCTURED-LOCATION;VALUE=URI;X-ADDRESS=Dale’s Weston Lanes 5902 Schofield Avenue Weston WI 54476 United States;X-APPLE-RADIUS=500;X-TITLE=5902 Schofield Avenue:geo:-89.549518,44.9042686
END:VEVENT
BEGIN:VEVENT
DTSTART;TZID=America/Chicago:20180808T180000
DTEND;TZID=America/Chicago:20180808T183000
DTSTAMP:20260423T101636
CREATED:20171221T144034Z
LAST-MODIFIED:20171221T144437Z
UID:10000092-1533751200-1533753000@wisducks.org
SUMMARY:2018 Conservation Calendar Raffle Drawing
DESCRIPTION:
URL:https://wisducks.org/event/2018-conservation-calendar-raffle-drawing/2018-08-08/
LOCATION:Marsh Inn\, 220 S. County Road W\, Reedsville\, WI\, 54230\, United States
ORGANIZER;CN="Wisconsin Waterfowl Association":MAILTO:info@wisducks.org
GEO:44.0968482;-87.8214713
X-APPLE-STRUCTURED-LOCATION;VALUE=URI;X-ADDRESS=Marsh Inn 220 S. County Road W Reedsville WI 54230 United States;X-APPLE-RADIUS=500;X-TITLE=220 S. County Road W:geo:-87.8214713,44.0968482
END:VEVENT
BEGIN:VEVENT
DTSTART;TZID=America/Chicago:20180810T093000
DTEND;TZID=America/Chicago:20180810T163000
DTSTAMP:20260423T101636
CREATED:20161025T165540Z
LAST-MODIFIED:20180601T195121Z
UID:10000076-1533893400-1533918600@wisducks.org
SUMMARY:WWA Decoy Carving Competition Weekend
DESCRIPTION:2nd Annual Decoy Carving Contest and Exhibition\nAugust 10 – 11\, 2018 \nThis year’s competition will be part of a Waterfowl Weekend and held in conjunction with Wisconsin State Duck and Goose Calling Championships at the same location.  Please note\, for those of you that participated in our First Annual Decoy Carving Contest\, there have been some changes in categories and entrant classes for the 2018 contest. \nDecoys may be checked in on Friday\, August 10th. \nJudging is on Saturday\, August 11th. \nDecoys may be checked out after 1:00 p.m. on Sunday\, August 12th. \n[row]\n[column lg=”4″ md=”12″ sm=”12″ xs=”12″ ]I Want To Enter A Decoy \n[/column][column lg=”4″ md=”12″ sm=”12″ xs=”12″ ]Learn More and Get Involved \n  \n[/column]\n[row]
URL:https://wisducks.org/event/decoy-carving-competition/2018-08-10/
LOCATION:Cabela’s\, 1 Cabela Way\, Richfield\, WI\, 53076\, United States
ORGANIZER;CN="Wisconsin Waterfowl Association":MAILTO:info@wisducks.org
GEO:43.2781906;-88.1878787
X-APPLE-STRUCTURED-LOCATION;VALUE=URI;X-ADDRESS=Cabela’s 1 Cabela Way Richfield WI 53076 United States;X-APPLE-RADIUS=500;X-TITLE=1 Cabela Way:geo:-88.1878787,43.2781906
END:VEVENT
BEGIN:VEVENT
DTSTART;TZID=America/Chicago:20180811T093000
DTEND;TZID=America/Chicago:20180811T163000
DTSTAMP:20260423T101636
CREATED:20161025T165540Z
LAST-MODIFIED:20180601T195121Z
UID:10000077-1533979800-1534005000@wisducks.org
SUMMARY:WWA Decoy Carving Competition Weekend
DESCRIPTION:2nd Annual Decoy Carving Contest and Exhibition\nAugust 10 – 11\, 2018 \nThis year’s competition will be part of a Waterfowl Weekend and held in conjunction with Wisconsin State Duck and Goose Calling Championships at the same location.  Please note\, for those of you that participated in our First Annual Decoy Carving Contest\, there have been some changes in categories and entrant classes for the 2018 contest. \nDecoys may be checked in on Friday\, August 10th. \nJudging is on Saturday\, August 11th. \nDecoys may be checked out after 1:00 p.m. on Sunday\, August 12th. \n[row]\n[column lg=”4″ md=”12″ sm=”12″ xs=”12″ ]I Want To Enter A Decoy \n[/column][column lg=”4″ md=”12″ sm=”12″ xs=”12″ ]Learn More and Get Involved \n  \n[/column]\n[row]
URL:https://wisducks.org/event/decoy-carving-competition/2018-08-11/
LOCATION:Cabela’s\, 1 Cabela Way\, Richfield\, WI\, 53076\, United States
ORGANIZER;CN="Wisconsin Waterfowl Association":MAILTO:info@wisducks.org
GEO:43.2781906;-88.1878787
X-APPLE-STRUCTURED-LOCATION;VALUE=URI;X-ADDRESS=Cabela’s 1 Cabela Way Richfield WI 53076 United States;X-APPLE-RADIUS=500;X-TITLE=1 Cabela Way:geo:-88.1878787,43.2781906
END:VEVENT
BEGIN:VEVENT
DTSTART;TZID=America/Chicago:20180812T090000
DTEND;TZID=America/Chicago:20180812T150000
DTSTAMP:20260423T101636
CREATED:20160512T193325Z
LAST-MODIFIED:20171106T231844Z
UID:10000068-1534064400-1534086000@wisducks.org
SUMMARY:Wisconsin State Duck And Goose Calling Championships
DESCRIPTION:Sponsored By: \nDay of Registration: 9:00am – 9:45am at the front entrance of Cabela’s store. \nContest will begin at 10:00am in the tent located on the east side of the building. \nAdults just $25 to participate (only $40 if you sign up for both Adult Duck and Adult Goose!) \nYouth and Intermediate Callers participate for free! \nThe Schedule of Calling events will be: \n\nAdult Duck Calling (Ages 18 and up)\nDuck & Goose Intermediate Calling (Ages 13-17)\nYouth Calling (Ages 12 and under)\nAdult Goose Calling (Ages 18 and up)\n\nAdult Duck & Goose Calling Prizes: To Be Announced\n \n*The Winner of the Adult Duck Calling Competition will go on to represent Wisconsin at the World’s Championship Duck Calling Contest in Stuttgart\, Arkansas. \nTrophies will also be given to the top 3 places in the Intermediate and Youth Contests. \nNote: Contest open to Wisconsin residents only\, all entrants must show valid proof of Wisconsin residency at registration\nOnline registration coming late Spring 2018
URL:https://wisducks.org/event/wisconsin-state-duck-goose-calling-championships/
LOCATION:Cabela’s\, 1 Cabela Way\, Richfield\, WI\, 53076\, United States
ORGANIZER;CN="Wisconsin Waterfowl Association":MAILTO:info@wisducks.org
GEO:43.2781906;-88.1878787
X-APPLE-STRUCTURED-LOCATION;VALUE=URI;X-ADDRESS=Cabela’s 1 Cabela Way Richfield WI 53076 United States;X-APPLE-RADIUS=500;X-TITLE=1 Cabela Way:geo:-88.1878787,43.2781906
END:VEVENT
BEGIN:VEVENT
DTSTART;TZID=America/Chicago:20180818T083000
DTEND;TZID=America/Chicago:20180818T150000
DTSTAMP:20260423T101636
CREATED:20160426T233327Z
LAST-MODIFIED:20180725T231557Z
UID:10000064-1534581000-1534604400@wisducks.org
SUMMARY:19th Annual State Shoot at Wern Valley
DESCRIPTION:A special “Duck Hunt” Sporting Clays Shoot to benefit WWA\nFinal Shoot #6 in the WWA 2018 Shoot Series \n \nEntry Fee Includes 50 Rounds of Clays\, (1) Shooters Raffle Ticket for Every Target You Break\, (1) Entry into the Grand Door Prize Drawing AND a 1-Year WWA Regular or Youth Membership \nDay-of Registration & Check-in: 8:30 am\n \nShooting: 9:00 am – 3:00 pm\, last shooters out at 2:15pm\n \nRaffles Drawn 3:00 – 3:30 pm \n$25 Re-Shoots available day-of (no additional grand door prize entries with re-shoots) \nSave $5 off your registration if you shot at our Spring\, Waukesha County\, Ozaukee or Abrams 2018 Shoots! Use coupon code 2018wwashoot at checkout\, your attendance at a prior shoot will be verified at registration. \n \nSHOOT PROGRAM/EVENTS  \n\nFifty (50) Rounds of Sporting Clays Course especially designed for duck hunters and duck hunting situations\n\n3 shots are allowed at each station so don’t forget to bring your duck gun with 75+ rounds of lead shot #6 or smaller!\n\n\nLewis Class Awards\n\n1st Place: Case of ammo\n2nd Place: 1/2 case of ammo\n3rd Place: 2 boxes ammo\n\n\nShooters Prizes\n\nMen’s: 1st Place: $75\, 2nd Place: 1/2 case ammo\, 3rd Place: Round of sporting clays at Wern Valley\nLadies: 1st Place: $50\, 2nd Place: 1/2 case ammo\, 3rd Place: Round of sporting clays at Wern Valley\nYouth: 1st Place: 3 bird hunt at Wern Valley\, 2nd Place: WWA FA camo field bag\, 3rd Place: Round of sporting clays at Wern Valley\n\n\nSpecial “Shooter’s Raffle” (a ticket for each target you break)\nCome out and support the Kettle Moraine High School Lasers shooting team\, as their members serve as pullers for our event\, and offer an opportunity to participate in their fundraising efforts as well\, for a future generation of shooting sports enthusiasts!\n2-Person Team “Flurry Shoot” – Only $20 per team and\n\nfirst place winners get HALF the CASH! This will be a 24-bird team event shot from a hunting blind. Compete against your friends to see who will come out on top\, prizes to the first three teams.\n2nd Prize: 2 WWA camo seat cushions\, 2 WWA olive caps & 40 Shooters’ bucket raffle tickets\n3rd Prize: 80 tickets (2 wingspans) for the Shooters’ bucket raffle selections\nLunch Available for a minimal charge. Please pre-register so we can plan food quantities.\nRe-entry fee: $25 (more shooter’s raffle tickets!)\n\n\nGames\, Raffles\, Prizes!\n\nStand–alone major prize card raffles:\n\nCabela’s rocking chairs/cooler/lamp set\nGB Packers canopy/tables/chairs tailgate set\nCountertop wine chiller/8 bottles of wine set\n**Card Raffle Special:  Spend $25 – get 1 card from each of the 3 decks\, above!**\n\n\n2018 Waterfowlers Dream Hunt Raffle:\n\nBonus prize winner takes home 3-Item Vortex Optics Package including a Lazer Rangefinder\, Binoculars\, Rifle Scope AND  Accessories!\n\n\nAnd many more raffles & prizes from 30 buckets of awesome selections for shooters to choose from with their tickets – with some worth more than $125! Including:\n\nWWA Clothing and accessories\,\nDecoys\,\nDove hunting kits\,\nPEET gun vault dryer\,\nHunting blind\,\n$100 Sherper’s gift certificates\,\nAnd much\, much more!\n\n\n\n\n\n\nPLUS: Each shooter receives entry into the 2018 Shoot Series Grand Prize for the Browning Primal 23 gun vault from Chase Outdoors  \n\nPlease note: Shoot will be held rain or shine.  \nLimited to 150 shooters
URL:https://wisducks.org/event/state-shoot/
LOCATION:Wern Valley Sportsmen’s Club\, S36 W29657 Wern Way\, Waukesha\, WI\, 53189\, United States
GEO:42.9768169;-88.348355
X-APPLE-STRUCTURED-LOCATION;VALUE=URI;X-ADDRESS=Wern Valley Sportsmen’s Club S36 W29657 Wern Way Waukesha WI 53189 United States;X-APPLE-RADIUS=500;X-TITLE=S36 W29657 Wern Way:geo:-88.348355,42.9768169
END:VEVENT
BEGIN:VEVENT
DTSTART;TZID=America/Chicago:20180823T173000
DTEND;TZID=America/Chicago:20180823T220000
DTSTAMP:20260423T101636
CREATED:20160428T163000Z
LAST-MODIFIED:20180821T222106Z
UID:10000066-1535045400-1535061600@wisducks.org
SUMMARY:Midland Wings/West Bend Chapter Banquet
DESCRIPTION:9th Annual Event SOLD OUT\nThank you to everyone who registered early\, we look forward to seeing you on the 23rd. If you were unable to get tickets please check out WWA’s West Allis Chapter banquet. \nFeaturing amazing gun boards\, high quality raffle items\, prizes\, games and more! \n  \n \nOur chapter has adopted Jackson Marsh Wildlife Area! Attend our banquet to find out more. \n5:30pm Doors Open – 7:00pm Prime Rib & Chicken Buffet Dinner \nBanquet Highlights: \n\nBetter than 1 in 10 odds of winning a gun!\nSponsor our banquet for only $250 ($450 merchandise donation) and you’ll be entered into our Sponsors Only raffle for a CZ 712 G2 Semi-Auto 12ga Shotgun! \nFeaturing quality firearms\, including\n\nCedar Lake Sales Gun Board:\n\nBrowning X-Bolt Hells Canyon 6.5 Creedmoor \nBenelli Super Vinci Camo 12ga 3 1/2″ auto \nBeretta Pico 380 cal Pistol \n\n\n Schwais Meats Gun Board:\n\nKimber Montana 300 Win Mag Bolt Rifle \nCZ Swamp Magnum Camo 12ga 3 1/2″ O/U \nSpringfield Armory XDS 45 ACP Pistol \n\n\n No No’s Restaurant of Newburg Gun Board:\n\nTika T3 Lite 30-06 Bolt Rifle \nBrowning Cynergy Walnut 12ga O/U \nKimber Micro 1911 Pistol \n\n\n\n\n2018 Waterfowler’s Dream Hunt Raffle\n\nWinner receives entry into the statewide drawing for the 2018 State Hunt with SEMO Outfitters and each raffle ticket purchased banquet night will count as a drawing entry for a Stoeger P350 12ga 3 1/2″ mag shotgun with extended magazine that will be given away banquet night!   \n\n\nPre-Event Class A (need not be present to win) raffle:\n\nGrand Prize: a Winchester SX3 camo 12ga  \n2nd Prize: a Savage Axis .308 w/scope  \n3rd Prize: a SCCY CPX 9mm pistol  \n4th Prize: $250 cash \n5th Prize: $100 cash  \nTickets are 1 for $10 or 3 for $20 and only 600 will be sold. Drawing will be held at 7:00pm banquet night. Get your tickets securely online now before we sell out.\n\n\nCabela’s 60qt Cooler Package Raffle\nRig ’em Right Raffle\n1/4 Beef Raffle from Banaszak Farms\nVortex Package Raffle\nPlinko\nSuper Yahtzee\nVocal & Silent Auctions\nWalk-thru’s\nAnd much more!\n\nPurchase your banquet tickets securely online\, below or\, to pay by check\, download our printable event flyer here.
URL:https://wisducks.org/event/midland-wingswest-bend-chapter-banquet/
LOCATION:The Columbian\, 3245 Lighthouse Lane\, West Bend\, WI\, 53090\, United States
GEO:43.454898;-88.198717
X-APPLE-STRUCTURED-LOCATION;VALUE=URI;X-ADDRESS=The Columbian 3245 Lighthouse Lane West Bend WI 53090 United States;X-APPLE-RADIUS=500;X-TITLE=3245 Lighthouse Lane:geo:-88.198717,43.454898
END:VEVENT
BEGIN:VEVENT
DTSTART;TZID=America/Chicago:20180830T180000
DTEND;TZID=America/Chicago:20180830T200000
DTSTAMP:20260423T101636
CREATED:20160504T115552Z
LAST-MODIFIED:20180810T110351Z
UID:10000067-1535652000-1535659200@wisducks.org
SUMMARY:Hunter's Eve Bash
DESCRIPTION:Join WWA at our 4th Annual Hunter’s Eve Bash Event\nRaffles\, Games\, Free Beer or Soda & Hot/Cold Appetizers from 6:00-7:30 pm. Winners drawn at 7:30\, you’re out the door by 8:00!\nTickets are just $25 if you pre-register online prior to 5:00 pm August 29th\, $20 if you attended ANY of our 2018 Shoot Series events & pre-register (use coupon code 2018wwashoot). \nOnly $30 registration at the door! \nEvent Highlights: \n\nFeaturing the drawing of our 2018 Shoot Series Grand Prize\, the Browning Primal 23 gun vault from Chase Outdoors!  \nPlay bean bag toss to win the 2018 Flurry Shoot duck blind set! \nPurchase a $10 “key”chances to win a mini-vault & a Ruger EC9s carry pistol  \nPlay the card raffle for a Packer Ultimate Tailgate Package   \n2018 Waterfowler’s Dream Hunt Raffle\n\nWinner receives entry into the statewide drawing for the 2018 State Hunt with SEMO Outfitters and each raffle ticket purchased banquet night will count as a drawing entry for a 3 piece Vortex set plus accessories (valued at $1100!) that will be given away banquet night!      \n\n\nPlay PLINKO for the 10’ kayak w/paddle\, and other cool prizes \n Purchase $1 raffle tickets for the Cabela’s rocking chairs/table/lantern set  \n\n  \nOur Hunter’s Eve Bash will also feature the drawing of our statewide Class A (need not be present to win) Chevy Heaven\, The Great Hunting Truck Raffle! The grand prize winner in this raffle shall receive a pre-paid\, 24-month 10\,000 mile/year vehicle lease on a brand new\, well-equipped Chevrolet 1500 Silverado Double Cab 4×4 All-Star Edition\, provided through Berstrom Chevrolet of Neenah\, WI! \n \nWinner must be 21 years of age or older to enter and win and have approved credit\, determined by the leasing company to be sufficient to qualify for the truck lease. View the full rules and regulations of WWA’s Chevy Heaven\, The Great Hunting Truck Raffle here. \nTickets on sale now! Get yours here forbut hurry\, The Great Hunting Truck Raffle is limited to the first 2500 tickets sold! \nTickets purchased online shall be filled out in the name of the purchaser and a copy of the ticket will be emailed to the address given at purchase. If you wish another name to be used on a raffle ticket(s) please indicate so in checkout. \nThe truck raffle will be drawn at 7:45pm and the winner\, if not present\, will be notified by the phone\, email and/or mailing address given on the winning ticket. \n 
URL:https://wisducks.org/event/hunters-eve-bash/
LOCATION:Waverly Beach Bar & Grill\, N8770 Fire Lane 1\, Menasha\, WI\, 54952\, United States
ORGANIZER;CN="Wisconsin Waterfowl Association":MAILTO:info@wisducks.org
GEO:44.2092261;-88.403261
X-APPLE-STRUCTURED-LOCATION;VALUE=URI;X-ADDRESS=Waverly Beach Bar & Grill N8770 Fire Lane 1 Menasha WI 54952 United States;X-APPLE-RADIUS=500;X-TITLE=N8770 Fire Lane 1:geo:-88.403261,44.2092261
END:VEVENT
END:VCALENDAR