BEGIN:VCALENDAR
VERSION:2.0
PRODID:-//Wisconsin Waterfowl Association - ECPv6.15.20//NONSGML v1.0//EN
CALSCALE:GREGORIAN
METHOD:PUBLISH
X-WR-CALNAME:Wisconsin Waterfowl Association
X-ORIGINAL-URL:https://wisducks.org
X-WR-CALDESC:Events for Wisconsin Waterfowl Association
REFRESH-INTERVAL;VALUE=DURATION:PT1H
X-Robots-Tag:noindex
X-PUBLISHED-TTL:PT1H
BEGIN:VTIMEZONE
TZID:America/Chicago
BEGIN:DAYLIGHT
TZOFFSETFROM:-0600
TZOFFSETTO:-0500
TZNAME:CDT
DTSTART:20170312T080000
END:DAYLIGHT
BEGIN:STANDARD
TZOFFSETFROM:-0500
TZOFFSETTO:-0600
TZNAME:CST
DTSTART:20171105T070000
END:STANDARD
BEGIN:DAYLIGHT
TZOFFSETFROM:-0600
TZOFFSETTO:-0500
TZNAME:CDT
DTSTART:20180311T080000
END:DAYLIGHT
BEGIN:STANDARD
TZOFFSETFROM:-0500
TZOFFSETTO:-0600
TZNAME:CST
DTSTART:20181104T070000
END:STANDARD
BEGIN:DAYLIGHT
TZOFFSETFROM:-0600
TZOFFSETTO:-0500
TZNAME:CDT
DTSTART:20190310T080000
END:DAYLIGHT
BEGIN:STANDARD
TZOFFSETFROM:-0500
TZOFFSETTO:-0600
TZNAME:CST
DTSTART:20191103T070000
END:STANDARD
END:VTIMEZONE
BEGIN:VEVENT
DTSTART;TZID=America/Chicago:20181206T180000
DTEND;TZID=America/Chicago:20181206T200000
DTSTAMP:20260423T173019
CREATED:20160831T184734Z
LAST-MODIFIED:20181201T112156Z
UID:10000073-1544119200-1544126400@wisducks.org
SUMMARY:2018 Christmas Bash
DESCRIPTION:Join WWA for our 3rd Annual Christmas Bash\nHosted by our Waukesha County Chapter \nLIMITED EVENT: OPEN TO THE FIRST 125 THAT PURCHASE ATTENDANCE! \nGUNS!!! – Raffles – Games – Free Beer! – Appetizers \nFeaturing the main event of the evening: the final ticket sales and drawing of our 2018 Waterfowler’s Dream Hunt Raffle. Bash bonus: each raffle ticket purchased on the night of the Bash will count as a drawing entry for a special\, high-end bonus prize\, TBA! (Note: must be present to win bonus prize). \n  \nJust $35* gets you in the door along with FREE beer\, hot and cold appetizers and a one-year WWA Regular Membership.  Plus\, all attendees receive a ticket for the grand door prize drawing of a Final Approach camo field bag & camo WWA ball cap!\n \n*$30 entry fee valid through November\, 2018\, afterwards and day-of event registrations (at door only) will be $35.   \nNEW! NEW! NEW! NEW! NEW! NEW! NEW! NEW! NEW! NEW! NEW! NEW! NEW! NEW! NEW! NEW! \n Featuring some of the “must-have” guns of 2018\, the Waukesha County Team has assembled a Gun Board to make the holidays even more cheerful for the lucky winners. \n\nTHE BASH GUN BOARD: An excellent mix of cutting edge\, along with some classics.\n\nNote:  Guns subject to change based on availability\, but we will maintain the same quality selection with any substitution.   \nSig Sauer P365 9mm \nWinchester SX4 Universal Hunter Shotgun 28” \nGLOCK 19X Crossover 9mm Luger Pistol \nRemington Model 783 .223 Heavy Barrel Dark Earth Threaded  \nCZ-USA 712 G2 Semi-Auto Bronze with Camo \n\n\nSpecial STOCKING STUFFER Pistol Raffle for a ROCK ISLAND ARMORY – M1911-A1 TACTICAL 3.5IN 45 ACP PARKERIZED 7+1RD. \nAWESOME  and CABELA’S COOLER with CHRISTMAS DINNER RAFFLE  \nMatch Game for a Gun \nPlinko Game for a Gun \nPLUS: Numerous Walk Around Gun Raffles… along with some MEATY selections! And MORE!
URL:https://wisducks.org/event/christmas-bash/
LOCATION:Delafield Brewhaus\, 3832 Hillside Drive\, Delafield\, WI\, 53018\, United States
ORGANIZER;CN="Mike Alaimo":MAILTO:malaimo73@gmail.com
GEO:43.0482103;-88.3551855
X-APPLE-STRUCTURED-LOCATION;VALUE=URI;X-ADDRESS=Delafield Brewhaus 3832 Hillside Drive Delafield WI 53018 United States;X-APPLE-RADIUS=500;X-TITLE=3832 Hillside Drive:geo:-88.3551855,43.0482103
END:VEVENT
BEGIN:VEVENT
DTSTART;TZID=America/Chicago:20181212T180000
DTEND;TZID=America/Chicago:20181212T183000
DTSTAMP:20260423T173019
CREATED:20171221T144034Z
LAST-MODIFIED:20171221T144437Z
UID:10000096-1544637600-1544639400@wisducks.org
SUMMARY:2018 Conservation Calendar Raffle Drawing
DESCRIPTION:
URL:https://wisducks.org/event/2018-conservation-calendar-raffle-drawing/2018-12-12/
LOCATION:Marsh Inn\, 220 S. County Road W\, Reedsville\, WI\, 54230\, United States
ORGANIZER;CN="Wisconsin Waterfowl Association":MAILTO:info@wisducks.org
GEO:44.0968482;-87.8214713
X-APPLE-STRUCTURED-LOCATION;VALUE=URI;X-ADDRESS=Marsh Inn 220 S. County Road W Reedsville WI 54230 United States;X-APPLE-RADIUS=500;X-TITLE=220 S. County Road W:geo:-87.8214713,44.0968482
END:VEVENT
END:VCALENDAR