BEGIN:VCALENDAR
VERSION:2.0
PRODID:-//Wisconsin Waterfowl Association - ECPv6.15.20//NONSGML v1.0//EN
CALSCALE:GREGORIAN
METHOD:PUBLISH
X-WR-CALNAME:Wisconsin Waterfowl Association
X-ORIGINAL-URL:https://wisducks.org
X-WR-CALDESC:Events for Wisconsin Waterfowl Association
REFRESH-INTERVAL;VALUE=DURATION:PT1H
X-Robots-Tag:noindex
X-PUBLISHED-TTL:PT1H
BEGIN:VTIMEZONE
TZID:America/Chicago
BEGIN:DAYLIGHT
TZOFFSETFROM:-0600
TZOFFSETTO:-0500
TZNAME:CDT
DTSTART:20180311T080000
END:DAYLIGHT
BEGIN:STANDARD
TZOFFSETFROM:-0500
TZOFFSETTO:-0600
TZNAME:CST
DTSTART:20181104T070000
END:STANDARD
BEGIN:DAYLIGHT
TZOFFSETFROM:-0600
TZOFFSETTO:-0500
TZNAME:CDT
DTSTART:20190310T080000
END:DAYLIGHT
BEGIN:STANDARD
TZOFFSETFROM:-0500
TZOFFSETTO:-0600
TZNAME:CST
DTSTART:20191103T070000
END:STANDARD
BEGIN:DAYLIGHT
TZOFFSETFROM:-0600
TZOFFSETTO:-0500
TZNAME:CDT
DTSTART:20200308T080000
END:DAYLIGHT
BEGIN:STANDARD
TZOFFSETFROM:-0500
TZOFFSETTO:-0600
TZNAME:CST
DTSTART:20201101T070000
END:STANDARD
END:VTIMEZONE
BEGIN:VEVENT
DTSTART;TZID=America/Chicago:20190207T170000
DTEND;TZID=America/Chicago:20190210T160000
DTSTAMP:20260423T211404
CREATED:20181217T205449Z
LAST-MODIFIED:20181217T205449Z
UID:10000018-1549558800-1549814400@wisducks.org
SUMMARY:Visit WWA at the 2019 La Crosse Sports Show
DESCRIPTION:WWA will be making its first appearance at the La Crosse Boat\, Sports\, Travel\, RV & Hunting Show and our booth will feature some amazing raffles including fine firearms and much more\, as well as information about our 1st Annual La Crosse banquet taking place March 30th at All Star Lanes!  Mark your calendars and stop by to visit us in the Hunting Section\, show hours are: \n\nThursday 5p.m. – 9p.m.\nFriday 10a.m. – 9p.m.\nSaturday 10a.m. – 9p.m.\nSunday 10a.m. – 4p.m.
URL:https://wisducks.org/event/visit-wwa-at-the-2019-la-crosse-sports-show/
LOCATION:La Crosse Convention Center\, 300 Harborview Plaza\, La Crosse\, WI\, 54601\, United States
GEO:43.8119148;-91.2558623
X-APPLE-STRUCTURED-LOCATION;VALUE=URI;X-ADDRESS=La Crosse Convention Center 300 Harborview Plaza La Crosse WI 54601 United States;X-APPLE-RADIUS=500;X-TITLE=300 Harborview Plaza:geo:-91.2558623,43.8119148
END:VEVENT
BEGIN:VEVENT
DTSTART;TZID=America/Chicago:20190213T180000
DTEND;TZID=America/Chicago:20190213T183000
DTSTAMP:20260423T211404
CREATED:20181120T162920Z
LAST-MODIFIED:20181120T164311Z
UID:10000003-1550080800-1550082600@wisducks.org
SUMMARY:2019 Conservation Calendar Raffle Drawing
DESCRIPTION:
URL:https://wisducks.org/event/2019-conservation-calendar-raffle-drawing/2019-02-13/
LOCATION:Marsh Inn\, 220 S. County Road W\, Reedsville\, WI\, 54230\, United States
ORGANIZER;CN="Wisconsin Waterfowl Association":MAILTO:info@wisducks.org
GEO:44.0968482;-87.8214713
X-APPLE-STRUCTURED-LOCATION;VALUE=URI;X-ADDRESS=Marsh Inn 220 S. County Road W Reedsville WI 54230 United States;X-APPLE-RADIUS=500;X-TITLE=220 S. County Road W:geo:-87.8214713,44.0968482
END:VEVENT
BEGIN:VEVENT
DTSTART;TZID=America/Chicago:20190223T173000
DTEND;TZID=America/Chicago:20190223T220000
DTSTAMP:20260423T211404
CREATED:20180829T235026Z
LAST-MODIFIED:20190201T160139Z
UID:10000106-1550943000-1550959200@wisducks.org
SUMMARY:14th Annual Northern Wetlands Chapter Banquet
DESCRIPTION:Raffles\, Auction\, Prizes\, Games\, Guns \n5:30 pm Doors Open/Cocktails  – 7:00 pm Dinner \nPurchase your event tickets by February 14th & you’ll be entered into a free drawing for a $200 ticket package! \nEvent Highlights: \n\nBucketheads Gun Board\n\nFranchi Momentum 30-06 \nKimber 1911 Two Tone .45 ACP  \nWinchester SXP Turkey 12ga \n\n\nCoVantage Credit Union Gun Board\n\nBrowning X-Bolt Medallion 30-06  \nSmith & Wesson 9mm w/ laser \nMossberg 500 American 12ga \n\n\nThor Wick Gun Board\n\nRemington 700 SPS .300 WSM \nStevens 555 O/U 20ga \nSmith & Wesson Shield .40 S&W \n\n\nCulligan Gun Board\n\nMarlin 336 .35 Rem Lever \nBenelli Super Nova 12ga  \nBrowning Buck Mark .22 LR \n\n\nPre-Event (need not be present to win) 7-Prize Raffle:\n\n1st Prize: Franchi Instinct 12ga. O/U Shotgun \n2nd Prize: Wincchester SX4 12ga. Semi-auto Shotgun \n3rd Prize: Browning A-Bolt 7mm Mag. Rifle \n4th Prize: Kimber Custom II 1911 45 ACP Pistol \n5th Prize: Ruger LC9 9mm Pistol \n6th Prize: Parker Crossbow \n7th Prize: Ion Ice Drill \n\n\nGreat guns\, Games & Bluelight Walk-Thrus\nSilent Auction with art\, trips & hunts!\nChildren’s Raffle\nWomen’s Raffle\nTaste of the Town\nFinal Approach Decoy Raffle\nWheel Barrow of Booze Raffle\nCabela’s Raffle\nBeer-Cup Raffle\nWWA Dream Hunt Raffle\n\nSpring Snow Goose Hunt with Epic Guide Service: the grand prize winner will receive 3 fully guided days of hunting for spring snow geese for 4 hunters in Arkansas or South Dakota with 3 nights lodging.  The snow goose hunt winner will be drawn December 2019.  Tickets 1/$5\, 3/$10 or 10/$20. 10/$20 ticket package includes a bonus ticket for a Winchester SXP 12ga that will be given away banquet night! \n\n\nMystery Gun\nNorthland Marine Big Cash Raffle\nFood Pantry Raffle\n\nBring in a non-perishable food item and receive a ticket for this special gun raffle!\n\n\nCrandon Cardinals Trap Team raffle\n\nPurchase your event tickets securely online\, below\, or download our printable mail-in registration flyer to pay by check. \n 
URL:https://wisducks.org/event/14th-annual-northern-wetlands-chapter-banquet/
LOCATION:Cabaret Cove\, 1540 Pueblo Dr.\, Rhinelander\, WI\, 54501\, United States
GEO:45.6561798;-89.3933897
X-APPLE-STRUCTURED-LOCATION;VALUE=URI;X-ADDRESS=Cabaret Cove 1540 Pueblo Dr. Rhinelander WI 54501 United States;X-APPLE-RADIUS=500;X-TITLE=1540 Pueblo Dr.:geo:-89.3933897,45.6561798
END:VEVENT
BEGIN:VEVENT
DTSTART;TZID=America/Chicago:20190228T173000
DTEND;TZID=America/Chicago:20190228T220000
DTSTAMP:20260423T211404
CREATED:20180828T193035Z
LAST-MODIFIED:20190207T141807Z
UID:10000104-1551375000-1551391200@wisducks.org
SUMMARY:34th Annual Appleton/Valley Chapter Banquet
DESCRIPTION:Raffles\, Auction\, Prizes\, Games\, Guns \n5:30 pm Doors Open – 7:00 pm – Dinner\, FREE Tap Beer & Soda 7:00 – 10:00 pm! \nPurchase your banquet tickets by February 15th and you’ll be entered into a special drawing for extra ticket packages* \nEvent Highlights: \n\nAwesome Gun Boards\, featuring:\n\nMagnum Gun Board\n\nBeretta A-300 \nSavage 1117mm Mag w/ Nikon Scope  \nBenelli SBE 12ga 3″ semi-auto \n\n\nBig Game Gun Board\n\nBrowning A5 12ga 3.5″ \nMathews Z2 Compound Bow \nTikka T-3 Hunter Rifle .243 \n\n\n\n\nScheels $1000 Gift Card Raffle \nPre-Event (need not be present to win) Gun Raffle:\n\nKimber Custom Two Tone II  45 cal Pistol\nLimited to 300 Tickets\n1 for $10 or 3 for $20\n\n\nWaterfowler’s Dream Hunt Raffle\n\nSpring Snow Goose Hunt with Epic Guide Service: the grand prize winner will receive 3 fully guided days of hunting for spring snow geese for 4 hunters in Arkansas or South Dakota with 3 nights lodging.  The snow goose hunt winner will be drawn December 2019.  One winner will be drawn for a Stoeger M3000 12ga semi-auto shotgun the night of the banquet! \n\n\nVortex Optics raffle\nHi-Lo Dice game\nYouth raffle\nGenerator raffle\nPluck-a-Duck game\nSilent Auction\nYahtzee game\nFun Gun raffle\nKimber pistol raffle\nSpecial Gun Board!\n50/50 Cash raffle\nWalk Around raffles and many more great events happening banquet night!\n\n*Four Pintail ticket packages will be drawn as the first event on banquet night. Those that purchase banquet tickets on or before February 15\, 2019 will be entered into the drawing. \nPurchase your banquet tickets securely online\, below\, or\, to pay by check please download our printable mail-in banquet registration form here.
URL:https://wisducks.org/event/34th-annual-appleton-valley-chapter-banquet/
LOCATION:Darboy Club\, N9695 County N\, Appleton\, WI\, 54915\, United States
ORGANIZER;CN="Brad Miller":MAILTO:millbunch0311@gmail.com
GEO:44.2430162;-88.3237983
X-APPLE-STRUCTURED-LOCATION;VALUE=URI;X-ADDRESS=Darboy Club N9695 County N Appleton WI 54915 United States;X-APPLE-RADIUS=500;X-TITLE=N9695 County N:geo:-88.3237983,44.2430162
END:VEVENT
END:VCALENDAR