BEGIN:VCALENDAR
VERSION:2.0
PRODID:-//Wisconsin Waterfowl Association - ECPv6.15.20//NONSGML v1.0//EN
CALSCALE:GREGORIAN
METHOD:PUBLISH
X-WR-CALNAME:Wisconsin Waterfowl Association
X-ORIGINAL-URL:https://wisducks.org
X-WR-CALDESC:Events for Wisconsin Waterfowl Association
REFRESH-INTERVAL;VALUE=DURATION:PT1H
X-Robots-Tag:noindex
X-PUBLISHED-TTL:PT1H
BEGIN:VTIMEZONE
TZID:America/Chicago
BEGIN:DAYLIGHT
TZOFFSETFROM:-0600
TZOFFSETTO:-0500
TZNAME:CDT
DTSTART:20180311T080000
END:DAYLIGHT
BEGIN:STANDARD
TZOFFSETFROM:-0500
TZOFFSETTO:-0600
TZNAME:CST
DTSTART:20181104T070000
END:STANDARD
BEGIN:DAYLIGHT
TZOFFSETFROM:-0600
TZOFFSETTO:-0500
TZNAME:CDT
DTSTART:20190310T080000
END:DAYLIGHT
BEGIN:STANDARD
TZOFFSETFROM:-0500
TZOFFSETTO:-0600
TZNAME:CST
DTSTART:20191103T070000
END:STANDARD
BEGIN:DAYLIGHT
TZOFFSETFROM:-0600
TZOFFSETTO:-0500
TZNAME:CDT
DTSTART:20200308T080000
END:DAYLIGHT
BEGIN:STANDARD
TZOFFSETFROM:-0500
TZOFFSETTO:-0600
TZNAME:CST
DTSTART:20201101T070000
END:STANDARD
END:VTIMEZONE
BEGIN:VEVENT
DTSTART;TZID=America/Chicago:20190504T173000
DTEND;TZID=America/Chicago:20190504T220000
DTSTAMP:20260424T022233
CREATED:20181112T145038Z
LAST-MODIFIED:20190502T123542Z
UID:10000113-1556991000-1557007200@wisducks.org
SUMMARY:18th Annual Twin Rivers Jefferson County Chapter Banquet
DESCRIPTION:Your support of our banquet has allowed our chapter to: \n\nRaise over $215\,000 for WI ducks through our first 16 years of banquets.\nIn 2016 we teamed up with the WDNR and put in over 100 volunteer man hours cleaning up the Rome Pond wildlife area.\nOver 30 restoration projects have been completed in Jefferson County since WWA’s inception 35 years ago.\n\n5:30 p.m. Cocktails/Doors Open – 7:00 p.m. Dinner  \nEvent strictly limited to 190 attendees.  We sold out in 2018 so purchase your event tickets early! \nRegister by April 1\, 2019 and you’ll be entered into a drawing for a FREE Pintail Package drawn banquet night!! \nEvent Highlights: \n\nQuality Gun Boards\, Featuring:\n\nRedhead Gun Board\n\nBeretta A300 Mallard 12ga 3″ \nSavage 110 Trophy 243 w/ Nikon \nBenelli Nova 3.5″ 12ga \n\n\nBluebill Gun Board\n\nRuger American .17 HMR \nSavage 110 Storm 6.5 Creedmor \nCZ Tenda O/U 3″ 12ga \n\n\nHandgun Board\n\nS&W Victory .22 \nS&W Shield 2.0 9mm \nTaurus 992 Tracker Revolver .22/.22 mag \n\n\n\n\nSilent Auction\nFREE Youth Raffle (ages 16 & under)\nWaterfowler’s Dream Hunt Raffle\n\nSpring Snow Goose Hunt with Epic Guide Service: the grand prize winner will receive 3 fully guided days of hunting for spring snow geese for 4 hunters in Arkansas or South Dakota with 3 nights lodging.  The snow goose hunt winner will be drawn December 2019.  One winner will be drawn for a Tactacam 4.0 hunting action camera that will be given away the night of the banquet! \n\n\nWaterfowl Call Gun Raffle\nDeck of Cards Gun Raffles\nAmerican Legion/VFW Special Gun Raffle\nPre-Event Gun Raffle SOLD OUT\n\nBack by popular demand\, the $1 per ticket Early Bird (need not be present to win!) gun raffle. Win a Sig Sauer “We The People” 1911 45 ACP valued at $1400!! \nNo ticket limit per person. If winner is not present at banquet they will be contacted via the information given on the winning ticket.\n\n\nHigh/Lo Card Game\nAnd many more prizes\, games & raffles!\n\nPurchase your banquet tickets securely online\, below\, or to pay by check download our printable mail-in registration flyer here.
URL:https://wisducks.org/event/18th-annual-twin-rivers-jefferson-county-chapter-banquet/
LOCATION:13 East/Neighbor’s Grill & Pizza\, 216 Golf Drive\, Jefferson\, 53549\, United States
GEO:43.0032141;-88.7900636
X-APPLE-STRUCTURED-LOCATION;VALUE=URI;X-ADDRESS=13 East/Neighbor’s Grill & Pizza 216 Golf Drive Jefferson 53549 United States;X-APPLE-RADIUS=500;X-TITLE=216 Golf Drive:geo:-88.7900636,43.0032141
END:VEVENT
BEGIN:VEVENT
DTSTART;TZID=America/Chicago:20190508T180000
DTEND;TZID=America/Chicago:20190508T183000
DTSTAMP:20260424T022233
CREATED:20181120T162920Z
LAST-MODIFIED:20181120T164311Z
UID:10000006-1557338400-1557340200@wisducks.org
SUMMARY:2019 Conservation Calendar Raffle Drawing
DESCRIPTION:
URL:https://wisducks.org/event/2019-conservation-calendar-raffle-drawing/2019-05-08/
LOCATION:Marsh Inn\, 220 S. County Road W\, Reedsville\, WI\, 54230\, United States
ORGANIZER;CN="Wisconsin Waterfowl Association":MAILTO:info@wisducks.org
GEO:44.0968482;-87.8214713
X-APPLE-STRUCTURED-LOCATION;VALUE=URI;X-ADDRESS=Marsh Inn 220 S. County Road W Reedsville WI 54230 United States;X-APPLE-RADIUS=500;X-TITLE=220 S. County Road W:geo:-87.8214713,44.0968482
END:VEVENT
BEGIN:VEVENT
DTSTART;TZID=America/Chicago:20190510T173000
DTEND;TZID=America/Chicago:20190510T220000
DTSTAMP:20260424T022233
CREATED:20180615T174417Z
LAST-MODIFIED:20190331T130942Z
UID:10000098-1557509400-1557525600@wisducks.org
SUMMARY:Mississippi River/La Crosse Chapter Banquet
DESCRIPTION:EVENT DATE CHANGED to May 10\, 2019!\nOur pre-event class A 5-gun raffle was drawn March 30th. See all the winners here. \nMark your calendars and plan to join our newly reconvened Mississippi River/La Crosse chapter committee for their first annual banquet dinner event. \nRaffles\, Auctions\, Prizes\, Games & Guns \n5:30 pm Doors Open – 7:00 pm Dinner \nEvent Highlights: \n\nAwesome Gun Boards\, featuring:\n\nGoose Gun Board:\n\nBrowning Wicked Wings A-5 12ga 3 1/2″ Mag Semi-Auto \nSmith & Wesson 686 .357 Mag Revolver \nSavage Axis Bolt 6.5 Creedmoor Rifle \n\n\nMallard Gun Board:\n\nBenelli SBE II 12ga 3 1/2″ Mag Semi-Auto \nBrowning Silver Camo 12ga 3 1/2″ Mag Semi-Auto \nBeretta Tika T-3 Lite Bolt .270 Win Rifle \n\n\n\n\nField Hunter Raffle\nBooze Raffle  \nWaterfowler’s Dream Hunt Raffle\n\nSpring Snow Goose Hunt with Epic Guide Service: the grand prize winner will receive 3 fully guided days of hunting for spring snow geese for 4 hunters in Arkansas or South Dakota with 3 nights lodging.  The snow goose hunt winner will be drawn December 2019.  One winner will be drawn for a Tactacam 4.0 hunting action camera that will be given away the night of the banquet! \n\n\nCabela’s Cooler Raffle \nTactacam Raffle \nSilent Auction\nWalk-thru Gun Raffle\n& More!\n\nPurchase your event tickets securely online\, below\, or download our printable mail-in registration flyer to pay by check.
URL:https://wisducks.org/event/mississippi-river-la-crosse-chapter-banquet/
LOCATION:All Star Lanes & Banquets\, 4735 Mormon Coulee Road\, La Crosse\, WI\, 54601\, United States
GEO:43.7658467;-91.2101046
X-APPLE-STRUCTURED-LOCATION;VALUE=URI;X-ADDRESS=All Star Lanes & Banquets 4735 Mormon Coulee Road La Crosse WI 54601 United States;X-APPLE-RADIUS=500;X-TITLE=4735 Mormon Coulee Road:geo:-91.2101046,43.7658467
END:VEVENT
BEGIN:VEVENT
DTSTART;TZID=America/Chicago:20190521T110000
DTEND;TZID=America/Chicago:20190521T180000
DTSTAMP:20260424T022233
CREATED:20181031T185709Z
LAST-MODIFIED:20190403T210824Z
UID:10000108-1558436400-1558461600@wisducks.org
SUMMARY:7th Annual Southeast Wisconsin Golf Outing Scramble
DESCRIPTION:Presented By: \n  \n11:00 a.m. Registration Begins – 12:00 noon Shotgun Start \n**Box Lunch Provided**\n \n  \nImmediately Following Golf: Drinks\, raffles\, winners drawn from course games & bucket raffles. Plus\, “Mexican Fiesta”  buffet dinner with fajitas\, burritos\, tacos\, and more! \nAll Golfers receive 18 holes of golf with cart\, box lunch\, on-course raffles/games\, complementary refreshments\, delicious buffet dinner\, awards ceremony\, a one-year WWA membership & many chances to WIN LOTS of GREAT prizes. \n  \nFeaturing our BIG FOUR on-course prizes: \n\nMeat & Freezer Raffle\, featuring a 5 cubic foot freezer chock full of goodies from Roberts’ Specialty Meats!\nCabela’s Raffle\, featuring a Cabela’s Polar Cap Equalizer 60 qt cooler!\nBeretta Raffle: win a Beretta APX in Flat Dark Earth!\nO/U & Hunt Raffle: winner will take home a Pointer 101 12ga wood O/U AND each person gets one bonus ticket for entry into the December drawing for our 2019 Waterfowlers Dream Hunt!\n\nBUCKET RAFFLES: \nWill feature many more amazing prizes including: Vortex binoculars\, rangefinder & riflescope\, WWA clothing\, a Tactacam 4.0\, decoys\, wine & tour packages and much more! \n\nPurchase a “Wingspan” of 40 bucket raffle tickets and you’ll get a bonus ticket for a SCCY pistol to be drawn after play!! \n\n  \nPlus\, if you’re one of the first twelve foursomes to sign up you’ll be entered into our infamous cash raffle to win $250! \nAlso drawn after golf: WWA’s pre-event (need not be present to win) SE WI Golf Outing Guns Class A Raffle\, featuring: \n\n1st Prize: Browning 1911 380ACP Black Label Pro \n2nd Prize: TSA Viper Max 12ga. 3.5″ Semi-Auto Shotgun \n3rd Prize: Winchester XPR .308 cal. Rifle\nDrawing will take place at Ironwood at 4:30pm;  tickets are 1 for $10 or 5 for $40 and only 500 will be sold. Winners not present will be notified by phone.\n\nPlease purchase your event tickets securely online below or\, to pay by check\, download our printable mail-in 2019 SE WI Outing Brochure.
URL:https://wisducks.org/event/7th-annual-southeast-wisconsin-golf-outing-scramble/
LOCATION:Ironwood Golf Course\, W270 N6166 Moraine Drive\, Sussex\, WI\, 53089\, United States
ORGANIZER;CN="Wisconsin Waterfowl Association":MAILTO:info@wisducks.org
GEO:43.1307538;-88.28523
X-APPLE-STRUCTURED-LOCATION;VALUE=URI;X-ADDRESS=Ironwood Golf Course W270 N6166 Moraine Drive Sussex WI 53089 United States;X-APPLE-RADIUS=500;X-TITLE=W270 N6166 Moraine Drive:geo:-88.28523,43.1307538
END:VEVENT
END:VCALENDAR