BEGIN:VCALENDAR
VERSION:2.0
PRODID:-//Wisconsin Waterfowl Association - ECPv6.15.20//NONSGML v1.0//EN
CALSCALE:GREGORIAN
METHOD:PUBLISH
X-WR-CALNAME:Wisconsin Waterfowl Association
X-ORIGINAL-URL:https://wisducks.org
X-WR-CALDESC:Events for Wisconsin Waterfowl Association
REFRESH-INTERVAL;VALUE=DURATION:PT1H
X-Robots-Tag:noindex
X-PUBLISHED-TTL:PT1H
BEGIN:VTIMEZONE
TZID:America/Chicago
BEGIN:DAYLIGHT
TZOFFSETFROM:-0600
TZOFFSETTO:-0500
TZNAME:CDT
DTSTART:20180311T080000
END:DAYLIGHT
BEGIN:STANDARD
TZOFFSETFROM:-0500
TZOFFSETTO:-0600
TZNAME:CST
DTSTART:20181104T070000
END:STANDARD
BEGIN:DAYLIGHT
TZOFFSETFROM:-0600
TZOFFSETTO:-0500
TZNAME:CDT
DTSTART:20190310T080000
END:DAYLIGHT
BEGIN:STANDARD
TZOFFSETFROM:-0500
TZOFFSETTO:-0600
TZNAME:CST
DTSTART:20191103T070000
END:STANDARD
BEGIN:DAYLIGHT
TZOFFSETFROM:-0600
TZOFFSETTO:-0500
TZNAME:CDT
DTSTART:20200308T080000
END:DAYLIGHT
BEGIN:STANDARD
TZOFFSETFROM:-0500
TZOFFSETTO:-0600
TZNAME:CST
DTSTART:20201101T070000
END:STANDARD
END:VTIMEZONE
BEGIN:VEVENT
DTSTART;TZID=America/Chicago:20190810T170000
DTEND;TZID=America/Chicago:20190810T220000
DTSTAMP:20260424T073508
CREATED:20190312T005139Z
LAST-MODIFIED:20190725T215701Z
UID:10000022-1565456400-1565474400@wisducks.org
SUMMARY:4th Annual Wausau Chapter Banquet
DESCRIPTION:Prizes\, Games\, Raffles\, Auctions\, Hunts\, Guns! \n5:00 p.m. Doors Open/Cocktails\, 7:00 p.m. Dinner \nSponsor our event for only $250 cash ($450 retail donation) and you’ll be entered into our Sponsors-Only drawing for a “Henry Golden Boy” gun!  \nEvent highlights: \n\nGun Board\, featuring:\n\nBenelli SBE III Optifade Timber \nBrowning 22-250 X Bolt \nSmith & Wesson M&P .40 \nFanchi Intensity 12ga 3.5″ \nWinchester XPR Bolt \n\n\nBottomless Cup of Beer Raffle\nField Hunter Extravaganza Raffle\nRig ’em Right Package Raffle\nSuper Yahtzee $1000 Cash Game\n2019 Waterfowlers Dream Hunt raffle\n\nSpring Snow Goose Hunt with Epic Guide Service: the grand prize winner will receive 3 fully guided days of hunting for spring snow geese for 4 hunters in Arkansas or South Dakota with 3 nights lodging.  The snow goose hunt winner will be drawn December 2019.  One winner will be drawn for a Tactacam 4.0 hunting action camera that will be given away the night of the banquet! \n\n\nPlinko\nNutro Dog Food Package\n Two Pre-Event Class A (need not be present to win!) raffles:\n\nCanadian Fishing Trip Raffle: Grand Prize Anderson’s Manitou Falls Camp 2-Person\, 4-Night & 4-Day fully guided fishing trip including lodging\, boat\, gas\, minnows AND $400 cash! \n\nTickets are 1 for $5\, 3 for $10 or 7 for $20 and if the winner is not present at the drawing he/she will be contacted via the information given on the winning ticket.\n\n\nPre-Event Gun Raffle\, Featuring:\nGrand Prize: Browning Maxus Wicked Wing 12ga \n2nd Prize: Browning A-Bolt 3 Combo \n3rd Prize: Standard Mfg AR-15 \n4th Prize: Taurus G2C  9mm \nTickets are $10 each and only 600 will be sold\, winners not present at the drawing will be notified via the contact information given on the winning ticket(s).\n\n\nAnd more!\n\nPurchase your event tickets securely online\, below.
URL:https://wisducks.org/event/4th-annual-wausau-chapter-banquet/
LOCATION:Dale’s Weston Lanes\, 5902 Schofield Avenue\, Weston\, WI\, 54476\, United States
GEO:44.9042686;-89.549518
X-APPLE-STRUCTURED-LOCATION;VALUE=URI;X-ADDRESS=Dale’s Weston Lanes 5902 Schofield Avenue Weston WI 54476 United States;X-APPLE-RADIUS=500;X-TITLE=5902 Schofield Avenue:geo:-89.549518,44.9042686
END:VEVENT
BEGIN:VEVENT
DTSTART;TZID=America/Chicago:20190814T180000
DTEND;TZID=America/Chicago:20190814T183000
DTSTAMP:20260424T073508
CREATED:20181120T162920Z
LAST-MODIFIED:20181120T164311Z
UID:10000009-1565805600-1565807400@wisducks.org
SUMMARY:2019 Conservation Calendar Raffle Drawing
DESCRIPTION:
URL:https://wisducks.org/event/2019-conservation-calendar-raffle-drawing/2019-08-14/
LOCATION:Marsh Inn\, 220 S. County Road W\, Reedsville\, WI\, 54230\, United States
ORGANIZER;CN="Wisconsin Waterfowl Association":MAILTO:info@wisducks.org
GEO:44.0968482;-87.8214713
X-APPLE-STRUCTURED-LOCATION;VALUE=URI;X-ADDRESS=Marsh Inn 220 S. County Road W Reedsville WI 54230 United States;X-APPLE-RADIUS=500;X-TITLE=220 S. County Road W:geo:-87.8214713,44.0968482
END:VEVENT
BEGIN:VEVENT
DTSTART;TZID=America/Chicago:20190817T083000
DTEND;TZID=America/Chicago:20190817T153000
DTSTAMP:20260424T073508
CREATED:20180820T164647Z
LAST-MODIFIED:20190726T173440Z
UID:10000100-1566030600-1566055800@wisducks.org
SUMMARY:20th Annual WWA State Shoot
DESCRIPTION:A special “Duck Hunt” Sporting Clays Shoot to benefit WWA\n \n$50 entry fee includes 50 Rounds of Clays\, (1) Shooters Raffle Ticket for every target you break\, (1) Entry into the Grand Door Prize drawing AND a 1-Year WWA Regular or Youth Membership. Only $40 with a valid Military ID – ID verification will be done at shoot check-in. Youth ages 16 and under shoot for only $25! \nOnline pre-registration ends Friday August 16th at 4:00 pm \nPLEASE NOTE TIME CHANGES: \nDay-of registration & check-in begins at 8:00 am\n \nShooting: 8:30 am – 2:30 pm\, last shooters out at 1:45 pm\n \nRaffles Drawn 2:30 – 3:00 pm \n$30 Re-Shoots ($20 Youth) available day-of (also includes 1 Shooter’s Raffle ticket for each target broken and 1 additional Grand Door Prize entry) \nPlease note: Shoot will be held rain or shine. \nLimited to 150 shooters \nFeaturing: \n\nOver $2\,000 worth of Shooter’s Bucket Raffle Prizes!\nDoor Prizes: 1 case of shotgun shells will be given away for every 25 shooters\nMen’s & Women’s winners will receive 1 case of shells\nYouth winner will receive a 3-bird pheasant hunt with Wern Valley!\nShoot the Flurry: 2-person flurry\, winner’s receive 1/2 the net cash\nSponsor the Shoot for only $275 and receive: 1 round of 50 clay birds\, 5 tickets for each target broken for the Shooter’s Bucket Prize raffle\, 3 tickets for the Grand Door Prize drawing\, a 1-year WWA sponsor membership & 2019 sponsor gift PLUS a 3-bird pheasant hunt with Wern Valley!\nAnd MORE raffles & games\n\nBring your 3-Shot Duck Guns\, you will be shooting doubles & triples. \nPurchase your Shoot tickets securely online\, below.
URL:https://wisducks.org/event/20th-annual-wwa-state-shoot/
LOCATION:Wern Valley Sportsmen’s Club\, S36 W29657 Wern Way\, Waukesha\, WI\, 53189\, United States
GEO:42.9768169;-88.348355
X-APPLE-STRUCTURED-LOCATION;VALUE=URI;X-ADDRESS=Wern Valley Sportsmen’s Club S36 W29657 Wern Way Waukesha WI 53189 United States;X-APPLE-RADIUS=500;X-TITLE=S36 W29657 Wern Way:geo:-88.348355,42.9768169
END:VEVENT
BEGIN:VEVENT
DTSTART;TZID=America/Chicago:20190817T090000
DTEND;TZID=America/Chicago:20190817T150000
DTSTAMP:20260424T073508
CREATED:20181212T202712Z
LAST-MODIFIED:20190724T162746Z
UID:10000016-1566032400-1566054000@wisducks.org
SUMMARY:2019 WI State Duck & Goose Calling Championships
DESCRIPTION:Now part of Midwestern Shooters Supply’s Fall Fest!\nOnline pre-registration open through 4:00 pm Friday August 16th \nAdult Duck & Goose Calling Day of Registration: 9:00 am – 11:30 am \nYouth & Intermediate Duck & Goose Calling Day of Registration: 9:00 am – 9:45 am \nYouth Contest will begin at 10:00 am in the tent\, followed by Intermediate and then Adult \nAuction from 10:00 am – 12:00 noon. \nAdults just $25 to participate (only $40 if you sign up for both Adult Duck and Adult Goose!) \nYouth and Intermediate Callers participate for free! \nPlease note: If you will turn 18 before the date of the World’s Contest\, Saturday\, November 30th\, you may participate as an Adult in our Duck Calling Contest. \n  \nAdult Duck & Goose Calling Prizes: To Be Announced\n \n*The Winner of the Adult Duck Calling Competition will go on to represent Wisconsin at the World’s Championship Duck Calling Contest in Stuttgart\, Arkansas. \nTrophies will also be given to the top 3 places in the Intermediate and Youth Contests. \nNote: Contest open to Wisconsin residents only\, all entrants must show valid proof of Wisconsin residency at registration
URL:https://wisducks.org/event/2019-wisconsin-state-duck-and-goose-calling-championships/
LOCATION:Midwestern Shooters Supply\, 191 Church street\, Lomira\, WI\, 53048\, United States
ORGANIZER;CN="Wisconsin Waterfowl Association":MAILTO:info@wisducks.org
GEO:43.584981;-88.4280448
X-APPLE-STRUCTURED-LOCATION;VALUE=URI;X-ADDRESS=Midwestern Shooters Supply 191 Church street Lomira WI 53048 United States;X-APPLE-RADIUS=500;X-TITLE=191 Church street:geo:-88.4280448,43.584981
END:VEVENT
BEGIN:VEVENT
DTSTART;TZID=America/Chicago:20190822T173000
DTEND;TZID=America/Chicago:20190822T220000
DTSTAMP:20260424T073508
CREATED:20181112T145839Z
LAST-MODIFIED:20190709T173257Z
UID:10000116-1566495000-1566511200@wisducks.org
SUMMARY:10th Annual Midland Wings West Bend Chapter Banquet
DESCRIPTION:Featuring amazing gun boards\, high quality raffle items\, prizes\, games and more! \n5:30pm Doors Open – 7:00pm Prime Rib & Chicken Buffet Dinner \nSponsor Our Banquet! Sponsorships are only $250 cash (or $450 retail donation) and you’ll be entered into our sponsors-only drawing for a Tristar G2 Bronze 20ga Shotgun!  \nEvent Highlights: \n\nBetter than 1 in 10 odds of winning a gun!\nCedar Lake Sales Gun Board\n\nBeretta A-400 Xtreme Optifade 12ga Auto \nWinchester XPR 300 Win Bolt Rifle \nSpringfield Armory XDS 45 acp Pistol w/ laser  \n\n\nBanaszak Farms Gun Board\n\nBrowning Citori White Satin 12ga O/U \nHowa Gameking Package 6.5 Creedmoor Bolt Rifle \nGlock 19 X 9mm Pistol \n\n\nNo No’s Restaurant Newberg Gun Board\n\nBeretta A-300 12ga Auto \nBrowning Mark III .270 Win Bolt Rifle \nSig Sauer P320 FDE 9mm Pistol  \n\n\nCabela’s 60 qt. Cooler Package Raffle \nTanglefree Decoys Raffle\nVortex Package Raffle\nPlinko & Super Yahtzee\nVocal & Silent Auctions\nWalk-Throughs\n2019 Waterfowlers Dream Hunt raffle\n\nSpring Snow Goose Hunt with Epic Guide Service: the grand prize winner will receive 3 fully guided days of hunting for spring snow geese for 4 hunters in Arkansas or South Dakota with 3 nights lodging.  The snow goose hunt winner will be drawn December 2019.  One winner will be drawn for a Tactacam 4.0 hunting action camera that will be given away the night of the banquet! \n\n\nClass A (need not be present to win) Early Bird Habitat Raffle.\n\n1st Prize: Weatherby Orion 12ga O/U Shotgun \n2nd Prize: Beretta A-300 12ga Semi-Auto Shotgun \n3rd Prize: Taurus Spectrum Dark Earth 380 cal Semi-Auto Pistol \n4th Prize: Savage Axis 30-06 Bolt Rifle \nTickets are 1 for $10 or 3 for $20 and only 600 will be sold. Get yours now securely online\, below\, before we sell out! All winners not present will be contacted by phone and/or mailing address given on winning ticket.\n\n\nAnd much more!\n\nThank you to our gun supplier\, Midwest Handguns\, for their support of our raffle and event!  \nPurchase your event tickets securely online\, below\, or print out our banquet registration flyer here to pay by check.
URL:https://wisducks.org/event/10th-annual-midland-wings-west-bend-chapter-banquet/
LOCATION:The Columbian\, 3245 Lighthouse Lane\, West Bend\, WI\, 53090\, United States
ORGANIZER;CN="Kevin Banaszak":MAILTO:kevin.banaszak87@gmail.com
GEO:43.454898;-88.198717
X-APPLE-STRUCTURED-LOCATION;VALUE=URI;X-ADDRESS=The Columbian 3245 Lighthouse Lane West Bend WI 53090 United States;X-APPLE-RADIUS=500;X-TITLE=3245 Lighthouse Lane:geo:-88.198717,43.454898
END:VEVENT
BEGIN:VEVENT
DTSTART;TZID=America/Chicago:20190826T173000
DTEND;TZID=America/Chicago:20190826T200000
DTSTAMP:20260424T073508
CREATED:20190109T134735Z
LAST-MODIFIED:20190822T200000Z
UID:10000020-1566840600-1566849600@wisducks.org
SUMMARY:2019 Hunter's Eve Bash
DESCRIPTION:Join WWA at our 5th Annual Hunter’s Eve Bash\n$25 entry gets you FREE beer\, soda & food! \nRaffles\, Walk-Arounds\, Silent Auction\, Games of Skill & Chance\, Food & Drinks \nFeaturing the Drawing of WWA’s\nAlso featuring WWA’s 2019 Waterfowlers Dream Hunt Raffle \n\nSpring Snow Goose Hunt with Epic Guide Service: the grand prize winner will receive 3 fully guided days of hunting for spring snow geese for 4 hunters in Arkansas or South Dakota with 3 nights lodging.  The snow goose hunt winner will be drawn December 2019.  One winner will be drawn for a Tactacam 4.0 hunting action camera that will be given away the night of the Bash (need not be present to be entered into the grand prize drawing for the Dream Hunt; must be present to win the Tactacam)! \nVortex Raffles\nTactacam Camera Raffles\nDog Bed Raffle\nGames of Skill & Chance\nCooler with Meat Raffle \nBooze Raffle \n\nAlso drawing: \nValley Chapter’s Summer Habitat Gun Raffle! \n\n\n\nWin a Kimber Ultra 2 Tone .45 ACP Pistol!\nTickets are 1 for $10 or 3 for $20 and only 300 will be sold. Drawing will be held at 6:30pm\n\n\n\nPurchase your event and/or UTV raffle tickets securely online\, below. Official UTV raffle rules are available here.
URL:https://wisducks.org/event/2019-hunters-eve-bash/
LOCATION:Beaver Dam Conservationists Club\, W9554 County Road G\, Beaver Dam\, WI\, 53916\, United States
ORGANIZER;CN="Rob Monette":MAILTO:rmonette@wisducks.org
GEO:43.450246;-88.876459
X-APPLE-STRUCTURED-LOCATION;VALUE=URI;X-ADDRESS=Beaver Dam Conservationists Club W9554 County Road G Beaver Dam WI 53916 United States;X-APPLE-RADIUS=500;X-TITLE=W9554 County Road G:geo:-88.876459,43.450246
END:VEVENT
END:VCALENDAR