BEGIN:VCALENDAR
VERSION:2.0
PRODID:-//Wisconsin Waterfowl Association - ECPv6.15.20//NONSGML v1.0//EN
CALSCALE:GREGORIAN
METHOD:PUBLISH
X-ORIGINAL-URL:https://wisducks.org
X-WR-CALDESC:Events for Wisconsin Waterfowl Association
REFRESH-INTERVAL;VALUE=DURATION:PT1H
X-Robots-Tag:noindex
X-PUBLISHED-TTL:PT1H
BEGIN:VTIMEZONE
TZID:America/Chicago
BEGIN:DAYLIGHT
TZOFFSETFROM:-0600
TZOFFSETTO:-0500
TZNAME:CDT
DTSTART:20180311T080000
END:DAYLIGHT
BEGIN:STANDARD
TZOFFSETFROM:-0500
TZOFFSETTO:-0600
TZNAME:CST
DTSTART:20181104T070000
END:STANDARD
BEGIN:DAYLIGHT
TZOFFSETFROM:-0600
TZOFFSETTO:-0500
TZNAME:CDT
DTSTART:20190310T080000
END:DAYLIGHT
BEGIN:STANDARD
TZOFFSETFROM:-0500
TZOFFSETTO:-0600
TZNAME:CST
DTSTART:20191103T070000
END:STANDARD
BEGIN:DAYLIGHT
TZOFFSETFROM:-0600
TZOFFSETTO:-0500
TZNAME:CDT
DTSTART:20200308T080000
END:DAYLIGHT
BEGIN:STANDARD
TZOFFSETFROM:-0500
TZOFFSETTO:-0600
TZNAME:CST
DTSTART:20201101T070000
END:STANDARD
END:VTIMEZONE
BEGIN:VEVENT
DTSTART;TZID=America/Chicago:20191113T173000
DTEND;TZID=America/Chicago:20191113T220000
DTSTAMP:20260424T125734
CREATED:20190718T194015Z
LAST-MODIFIED:20191015T194343Z
UID:10000119-1573666200-1573682400@wisducks.org
SUMMARY:30th Annual Lakeshore/Manitowoc Chapter Banquet
DESCRIPTION:Raffles\, Auctions\, Prizes\, Games and Guns \nDoors Open/Cocktails 5:30 pm; Buffet Style Dinner 5:30pm – 7:00pm \nOnly $25 to attend!* \nEveryone gets a chance to win a TSA Setter 12ga O/U AND a 20ga O/U Shotgun!   \nEvent Highlights: \n\nAwesome Gun Boards\, featuring:\n\nMagnum Shotgun Board\n\nWinchester SX4 3 1/2″ 12ga Shotgun  \nRemington 870 Super Mag 3 1/2″ 12ga Shotgun  \nWinchester SXP Waterfowl 3 1/2″ 12ga Shotgun  \n\n\nRifles with Scopes Board\n\nT/C Venture Predator 22-250 Rifle \nWinchester XPR 243 Win. Rifle  \nHowa Game King 6.5 Creedmoor Rifle  \n\n\nConceal Carry Pistol Board\n\nSpringfield Armory XD Mod. 45 ACP Pistol \nKahr Arms P Series Compact 40 S&W Pistol  \nTaurus G2C 9mm Pistol \n\n\n\n\nSilent & Vocal Auctions\nBucket Raffle\nLadies Raffle\nLayout Blind Raffle\nCabela’s Cooler & Meat Raffle\nTurkey Hunter’s Raffle\n2019 Waterfowlers Dream Hunt raffle\n\nSpring Snow Goose Hunt with Epic Guide Service: the grand prize winner will receive 3 fully guided days of hunting for spring snow geese for 4 hunters in Arkansas or South Dakota with 3 nights lodging.  The snow goose hunt winner will be drawn December 5\, 2019.  One winner will be drawn for a Tactacam 4.0 hunting action camera that will be given away the night of the banquet! \n\n\n$1000 Super Yahtzee Game\nSplit the Pot Raffle\nRig ’em Right Raffle\nPlino Game\nBlue Light Raffle\nAnd many more new raffles & games!\nSponsor our banquet for only $225 ($350 merchandise donation) and you’ll be entered into our sponsors-only gun drawing for a CZ 912 12ga shotgun \nBecome a Conservation sponsor at our event for only $500 ($750 merchandise donation) and you’ll be entered into our conservation sponsors-only gun drawing for a CZ 1012 camo synthetic shotgun \nFeaturing our Discounted Credit Card Raffle (Advance sales only):\n\nWWA Gold Card – For $100 you receive $150 to purchase raffle tickets\nWWA Platinum Card – For $150 you receive $250 to buy raffle tickets\n\n\n\nCards may be used on any of the floor raffles banquet night.  They may NOT be used on any Class A raffle\, Silent or Vocal Auction purchases\, Blue Light or any raffle advertised as Cash Only and they may not be redeemed for cash.\n\n\n\n\n\n\n\nPurchase your event tickets securely online\, below\, or download our printable mail-in banquet flyer to pay by check here. \n*$25 tickets available online until 4:00 pm Wednesday\, November 12th. Day-of prices at the door $30.
URL:https://wisducks.org/event/30th-annual-lakeshore-manitowoc-chapter-banquet/
LOCATION:City Limits Bar and Banquet Hall\, 3627 County Road CR\, Manitowoc\, WI\, 54220\, United States
GEO:44.0547735;-87.7014976
X-APPLE-STRUCTURED-LOCATION;VALUE=URI;X-ADDRESS=City Limits Bar and Banquet Hall 3627 County Road CR Manitowoc WI 54220 United States;X-APPLE-RADIUS=500;X-TITLE=3627 County Road CR:geo:-87.7014976,44.0547735
END:VEVENT
BEGIN:VEVENT
DTSTART;TZID=America/Chicago:20191113T180000
DTEND;TZID=America/Chicago:20191113T183000
DTSTAMP:20260424T125734
CREATED:20181120T162920Z
LAST-MODIFIED:20181120T164311Z
UID:10000012-1573668000-1573669800@wisducks.org
SUMMARY:2019 Conservation Calendar Raffle Drawing
DESCRIPTION:
URL:https://wisducks.org/event/2019-conservation-calendar-raffle-drawing/2019-11-13/
LOCATION:Marsh Inn\, 220 S. County Road W\, Reedsville\, WI\, 54230\, United States
ORGANIZER;CN="Wisconsin Waterfowl Association":MAILTO:info@wisducks.org
GEO:44.0968482;-87.8214713
X-APPLE-STRUCTURED-LOCATION;VALUE=URI;X-ADDRESS=Marsh Inn 220 S. County Road W Reedsville WI 54230 United States;X-APPLE-RADIUS=500;X-TITLE=220 S. County Road W:geo:-87.8214713,44.0968482
END:VEVENT
BEGIN:VEVENT
DTSTART;TZID=America/Chicago:20191115T203000
DTEND;TZID=America/Chicago:20191115T203000
DTSTAMP:20260424T125734
CREATED:20191021T202205Z
LAST-MODIFIED:20191113T173159Z
UID:10000136-1573849800-1573849800@wisducks.org
SUMMARY:Drawing of Midland Wings Autumn Habitat Raffle
DESCRIPTION:Online sales SOLD OUT – Some tickets may be available the night of the drawing at Jug’s. Contact chapter for details. \nJoin our Midland Wings chapter at Jug’s Hitching Post in West Bend\, WI\, for the drawing of their Autumn Habitat Raffle. \nGrand Prize: Howa Game King 6.5 Creedmoor with Scope Rifle  \n\nTickets just $10 each\nOnly 200 will be sold!\nIf winner not present he/she will be notified via information given on the winning ticket.  Winner will be posted in the News section of our website within 48 hours of the drawing or as soon as the winner is notified.\nThe winner must pass the federal back ground check that will be submitted by Midwest Handguns of Neosho\, WI.\nGet yours securely online\, below. Tickets will be available for sale online until 11:30pm November 14th or until the raffle sells out. Any unsold tickets will be available for sale at Jug’s on the 15th.
URL:https://wisducks.org/event/drawing-of-midland-wings-autumn-habitat-raffle/
LOCATION:Jugs Hitching Post\, 5781 Main Street\, West Bend\, WI\, 53090\, United States
ORGANIZER;CN="Kevin Banaszak":MAILTO:kevin.banaszak87@gmail.com
GEO:43.4556234;-88.203832
X-APPLE-STRUCTURED-LOCATION;VALUE=URI;X-ADDRESS=Jugs Hitching Post 5781 Main Street West Bend WI 53090 United States;X-APPLE-RADIUS=500;X-TITLE=5781 Main Street:geo:-88.203832,43.4556234
END:VEVENT
END:VCALENDAR