BEGIN:VCALENDAR
VERSION:2.0
PRODID:-//Wisconsin Waterfowl Association - ECPv6.15.20//NONSGML v1.0//EN
CALSCALE:GREGORIAN
METHOD:PUBLISH
X-WR-CALNAME:Wisconsin Waterfowl Association
X-ORIGINAL-URL:https://wisducks.org
X-WR-CALDESC:Events for Wisconsin Waterfowl Association
REFRESH-INTERVAL;VALUE=DURATION:PT1H
X-Robots-Tag:noindex
X-PUBLISHED-TTL:PT1H
BEGIN:VTIMEZONE
TZID:America/Chicago
BEGIN:DAYLIGHT
TZOFFSETFROM:-0600
TZOFFSETTO:-0500
TZNAME:CDT
DTSTART:20190310T080000
END:DAYLIGHT
BEGIN:STANDARD
TZOFFSETFROM:-0500
TZOFFSETTO:-0600
TZNAME:CST
DTSTART:20191103T070000
END:STANDARD
BEGIN:DAYLIGHT
TZOFFSETFROM:-0600
TZOFFSETTO:-0500
TZNAME:CDT
DTSTART:20200308T080000
END:DAYLIGHT
BEGIN:STANDARD
TZOFFSETFROM:-0500
TZOFFSETTO:-0600
TZNAME:CST
DTSTART:20201101T070000
END:STANDARD
BEGIN:DAYLIGHT
TZOFFSETFROM:-0600
TZOFFSETTO:-0500
TZNAME:CDT
DTSTART:20210314T080000
END:DAYLIGHT
BEGIN:STANDARD
TZOFFSETFROM:-0500
TZOFFSETTO:-0600
TZNAME:CST
DTSTART:20211107T070000
END:STANDARD
END:VTIMEZONE
BEGIN:VEVENT
DTSTART;TZID=America/Chicago:20200304T120000
DTEND;TZID=America/Chicago:20200308T170000
DTSTAMP:20260424T194945
CREATED:20191105T165909Z
LAST-MODIFIED:20191105T165909Z
UID:10000138-1583323200-1583686800@wisducks.org
SUMMARY:Visit WWA at the 2020 Milwaukee Sports Show
DESCRIPTION:As always\, our booth at the Milwaukee Journal Sentinel Sports Show will feature some amazing raffles including fine firearms and much more.  Mark your calendars and stop by to visit us in booth #836.
URL:https://wisducks.org/event/visit-wwa-at-the-2020-milwaukee-sports-show/
LOCATION:Wisconsin Exposition Center at State Fair Park\, 8200 W. Greenfield Avenue\, West Allis\, WI\, 53214\, United States
ORGANIZER;CN="Wisconsin Waterfowl Association":MAILTO:info@wisducks.org
GEO:43.0181223;-88.0144094
X-APPLE-STRUCTURED-LOCATION;VALUE=URI;X-ADDRESS=Wisconsin Exposition Center at State Fair Park 8200 W. Greenfield Avenue West Allis WI 53214 United States;X-APPLE-RADIUS=500;X-TITLE=8200 W. Greenfield Avenue:geo:-88.0144094,43.0181223
END:VEVENT
BEGIN:VEVENT
DTSTART;TZID=America/Chicago:20200307T170000
DTEND;TZID=America/Chicago:20200307T213000
DTSTAMP:20260424T194945
CREATED:20190422T101627Z
LAST-MODIFIED:20200307T125033Z
UID:10000118-1583600400-1583616600@wisducks.org
SUMMARY:12th Annual Baraboo River Chapter Banquet
DESCRIPTION:5:00 pm Doors Open \n6:30 pm “Backyard BBQ” Dinner with with Ribs\, Pulled Pork and BBQ Chicken \n9:00 pm LAST raffles drawn \nFREE Beer! \nTickets start at just $55\, youth ages 16 & under only $20! \nSponsor our banquet! For only $250 cash (or $450 merchandise donation)\, sponsors will receive a WWA sponsor membership\, gift\, two banquet dinner tickets and one ticket for our sponsors-only Limited Edition Carved Decoy drawing! \nEvent Highlights: \n\nAwesome Gun Boards\, featuring:\n\nBrowning Wicked Wings 12ga 3-1/2″ Semi-Auto \nHowa Ranchland 6.5 Creedmoor Rifle \nWinchester SX4 12ga Semi-Auto Shotgun \nRuger LC9 \n\n\nWaterfowler’s Dream Hunt Raffle\n\nNorth Dakota Combo Waterfowl & Pheasant Hunt with Rolling Plains Adventures: grand prize winner will receive 3 days/4 nights stay for 2 people\, including food\, lodging\, guides\, bird cleaning & more. Grand prize will be drawn in December 3\, 2020. One winner will be drawn for a shotgun or other major prize banquet night!\n\n\n\n\nPre-Event (need not be present to win!) Class A Gun Raffle: \n\nGrand Prize Sig Sauer P320 X  \nTickets 1 for $10 or 5 for $30\, only 200 sold!! (If the winner is not present he/she will be notified via the contact information given in their order)\n\n\nFun games & raffles for everyone\, featuring:\n\nRig ’em Right Package \nBooze Raffle \nMeat & Freezer Raffle \nBucket Raffle\nWalk-through Raffles\nTanglefree Decoy Package \nTactacam Raffle \nMatch Dice Game\nChildren’s Games\n20ga Shotgun FREE Entry \nAuctions\n\n\nAnd much more!\n\nPurchase your event tickets securely online\, below\, or to pay by check download our printable 2020 Baraboo River Flyer. Tickets will be available for pre-sale online until 4:00 pm Friday March 6th or sold out.
URL:https://wisducks.org/event/12th-annual-baraboo-river-chapter-banquet/
LOCATION:Vintage Brewing Company\, 600 Water Street\, Sauk City\, WI\, 53583\, United States
ORGANIZER;CN="Scott Hamele":MAILTO:scott@plumbingplace.com
GEO:43.2740139;-89.7205504
X-APPLE-STRUCTURED-LOCATION;VALUE=URI;X-ADDRESS=Vintage Brewing Company 600 Water Street Sauk City WI 53583 United States;X-APPLE-RADIUS=500;X-TITLE=600 Water Street:geo:-89.7205504,43.2740139
END:VEVENT
BEGIN:VEVENT
DTSTART;TZID=America/Chicago:20200311T180000
DTEND;TZID=America/Chicago:20200311T183000
DTSTAMP:20260424T194945
CREATED:20190909T202304Z
LAST-MODIFIED:20200220T185849Z
UID:10000124-1583949600-1583951400@wisducks.org
SUMMARY:2020 Conservation Calendar Raffle Drawing
DESCRIPTION:
URL:https://wisducks.org/event/2020-conservation-calendar-raffle-drawing/2020-03-11/
LOCATION:Marsh Inn\, 220 S. County Road W\, Reedsville\, WI\, 54230\, United States
ORGANIZER;CN="Wisconsin Waterfowl Association":MAILTO:info@wisducks.org
GEO:44.0968482;-87.8214713
X-APPLE-STRUCTURED-LOCATION;VALUE=URI;X-ADDRESS=Marsh Inn 220 S. County Road W Reedsville WI 54230 United States;X-APPLE-RADIUS=500;X-TITLE=220 S. County Road W:geo:-87.8214713,44.0968482
END:VEVENT
END:VCALENDAR