BEGIN:VCALENDAR
VERSION:2.0
PRODID:-//Wisconsin Waterfowl Association - ECPv6.15.20//NONSGML v1.0//EN
CALSCALE:GREGORIAN
METHOD:PUBLISH
X-WR-CALNAME:Wisconsin Waterfowl Association
X-ORIGINAL-URL:https://wisducks.org
X-WR-CALDESC:Events for Wisconsin Waterfowl Association
REFRESH-INTERVAL;VALUE=DURATION:PT1H
X-Robots-Tag:noindex
X-PUBLISHED-TTL:PT1H
BEGIN:VTIMEZONE
TZID:America/Chicago
BEGIN:DAYLIGHT
TZOFFSETFROM:-0600
TZOFFSETTO:-0500
TZNAME:CDT
DTSTART:20190310T080000
END:DAYLIGHT
BEGIN:STANDARD
TZOFFSETFROM:-0500
TZOFFSETTO:-0600
TZNAME:CST
DTSTART:20191103T070000
END:STANDARD
BEGIN:DAYLIGHT
TZOFFSETFROM:-0600
TZOFFSETTO:-0500
TZNAME:CDT
DTSTART:20200308T080000
END:DAYLIGHT
BEGIN:STANDARD
TZOFFSETFROM:-0500
TZOFFSETTO:-0600
TZNAME:CST
DTSTART:20201101T070000
END:STANDARD
BEGIN:DAYLIGHT
TZOFFSETFROM:-0600
TZOFFSETTO:-0500
TZNAME:CDT
DTSTART:20210314T080000
END:DAYLIGHT
BEGIN:STANDARD
TZOFFSETFROM:-0500
TZOFFSETTO:-0600
TZNAME:CST
DTSTART:20211107T070000
END:STANDARD
END:VTIMEZONE
BEGIN:VEVENT
DTSTART;TZID=America/Chicago:20200403T200000
DTEND;TZID=America/Chicago:20200403T200000
DTSTAMP:20260424T213206
CREATED:20200302T214857Z
LAST-MODIFIED:20200403T131552Z
UID:10000165-1585944000-1585944000@wisducks.org
SUMMARY:Drawing of Midland Wings Chapter's Spring Habitat Raffle
DESCRIPTION:  \nGrand Prize: Remington 870 Turkey Predator in Kryptek Camo with a Tactacam 4.0! \n\nTickets just $10 each\nOnly 250 will be sold!\nIf winner not present he/she will be notified via information given on the winning ticket.  Winner will be posted in the News section of our website within 48 hours of the drawing or as soon as the winner is notified.\nThe winner must pass the federal back ground check that will be submitted by Midwest Handguns of Neosho\, WI.\nGet yours securely online\, below. Tickets will be available for sale online until 11:30pm April 2nd or until the raffle sells out. Any unsold tickets will be available for sale at Jug’s on the 3rd.
URL:https://wisducks.org/event/drawing-of-midland-wings-chapters-spring-habitat-raffle/
LOCATION:Jugs Hitching Post\, 5781 Main Street\, West Bend\, WI\, 53090\, United States
ORGANIZER;CN="Kevin Banaszak":MAILTO:kevin.banaszak87@gmail.com
GEO:43.4556234;-88.203832
X-APPLE-STRUCTURED-LOCATION;VALUE=URI;X-ADDRESS=Jugs Hitching Post 5781 Main Street West Bend WI 53090 United States;X-APPLE-RADIUS=500;X-TITLE=5781 Main Street:geo:-88.203832,43.4556234
END:VEVENT
BEGIN:VEVENT
DTSTART;TZID=America/Chicago:20200408T180000
DTEND;TZID=America/Chicago:20200408T183000
DTSTAMP:20260424T213206
CREATED:20190909T202304Z
LAST-MODIFIED:20200220T185849Z
UID:10000125-1586368800-1586370600@wisducks.org
SUMMARY:2020 Conservation Calendar Raffle Drawing
DESCRIPTION:
URL:https://wisducks.org/event/2020-conservation-calendar-raffle-drawing/2020-04-08/
LOCATION:Marsh Inn\, 220 S. County Road W\, Reedsville\, WI\, 54230\, United States
ORGANIZER;CN="Wisconsin Waterfowl Association":MAILTO:info@wisducks.org
GEO:44.0968482;-87.8214713
X-APPLE-STRUCTURED-LOCATION;VALUE=URI;X-ADDRESS=Marsh Inn 220 S. County Road W Reedsville WI 54230 United States;X-APPLE-RADIUS=500;X-TITLE=220 S. County Road W:geo:-87.8214713,44.0968482
END:VEVENT
BEGIN:VEVENT
DTSTART;TZID=America/Chicago:20200415T190000
DTEND;TZID=America/Chicago:20200415T190000
DTSTAMP:20260424T213206
CREATED:20200226T190811Z
LAST-MODIFIED:20200413T153158Z
UID:10000164-1586977200-1586977200@wisducks.org
SUMMARY:Drawing of West Allis Chapter's Spring Habitat Gun Raffle
DESCRIPTION:March 24\, 2020: Tickets sold out online\, thanks to all who have supported WWA with this raffle & good luck!  Raffle will be drawn at 7:00pm in the parking lot of the Boxhorn Gun Club. We ask that the public comply with current Wisconsin Stay at Home restrictions. The chapter may have a small quantity of tickets left and available for sale\, please contact them directly. \nGrand Prize: RUGER LIMITED EDITION AR 556 MPR with American Flag Cerakote   \n\nTickets 1 for $10 or 3 for $20\nOnly 400 will be sold!\nIf winner not present he/she will be notified via information given on the winning ticket.  Winner will be posted in the News section of our website within 48 hours of the drawing or as soon as the winner is notified.\nGet yours securely online\, below. Tickets will be available for sale online until 11:30 pm April 14th or until the raffle sells out. Any unsold tickets will be available for sale at Boxhorn Gun Club on the 15th.
URL:https://wisducks.org/event/drawing-of-west-allis-chapters-spring-habitat-gun-raffle/
LOCATION:Boxhorn Gun Club\, S90 W13960 Boxhorn Drive\, Muskego\, 53150\, United States
ATTACH;FMTTYPE=image/jpeg:https://wisducks.org/wp-content/uploads/2020/02/Ruger-limited-edition-ar-556-mpr-with-american-flag-cerakote-e1582743802896.jpg
GEO:42.8806169;-88.0897136
X-APPLE-STRUCTURED-LOCATION;VALUE=URI;X-ADDRESS=Boxhorn Gun Club S90 W13960 Boxhorn Drive Muskego 53150 United States;X-APPLE-RADIUS=500;X-TITLE=S90 W13960 Boxhorn Drive:geo:-88.0897136,42.8806169
END:VEVENT
BEGIN:VEVENT
DTSTART;TZID=America/Chicago:20200420T190000
DTEND;TZID=America/Chicago:20200420T193000
DTSTAMP:20260424T213206
CREATED:20200226T111432Z
LAST-MODIFIED:20200413T152748Z
UID:10000163-1587409200-1587411000@wisducks.org
SUMMARY:South Suburban Chapter's 2020 Pre Event Gun Raffle Drawing
DESCRIPTION:Banquet event rescheduled to late summer/early fall 2020.\nPre-Event gun raffle SOLD OUT ONLINE – thank you for your support! Raffle will be drawn at 7:00 pm April 20th in the parking lot at the Oak Creek Community Center. We ask that the public comply with current Wisconsin Stay at Home restrictions. \n\nGrand Prize: Glock Model 19X 9MM Pistol  \n\nTickets 1 for $5 or 3 for $10\nOnly 400 will be sold!\nIf winner not present he/she will be notified via information given on the winning ticket.  Winner will be posted in the News section of our website within 48 hours of the drawing or as soon as the winner is notified.\nGet yours securely online\, below. Tickets will be available for sale online until 11:30pm April 19th or until the raffle sells out.\nThis drawing is conducted under the auspices of a Class A license holder with WWA.  100% of the proceeds will further WWA’s non-profit purposes in Wisconsin.  Tickets may only be purchased by individuals who claim a Wisconsin address.\nPurchaser must complete all contact information and pay electronically for the purchase of their tickets.\nThe purchaser will be provided: (1)  At the time of purchase\, an electronic receipt acknowledging their purchase at the time of purchase; (2) shortly thereafter\, a digital version of the ticket(s)\, completed with the purchaser-provided contact information.  The physical raffle entry ticket will be hand-conveyed by to the location of the drawing in order to be drawn.\nThe drawing winning ticket(s) will be drawn in public\, and witnessed by a disinterested party.  The drawing will be digitally recorded without interruption and/or streamed live witness.\nWWA will post the winner on wisducks.org and contact the winner through the information provided by the purchaser\, at which time the winner will be instructed on how claim their winnings.\nPrize winners are responsible for all state/local and federal tax ramifications and prizes may not be awarded until tax implications have been addressed. Firearm prizes awardees must comply with all state and federal laws to claim the prize.
URL:https://wisducks.org/event/15th-annual-south-suburban-chapter-banquet/
LOCATION:Oak Creek Community Center\, 8580 South Howell Avenue\, Oak Creek\, WI\, 53154\, United States
GEO:42.8890291;-87.9105396
X-APPLE-STRUCTURED-LOCATION;VALUE=URI;X-ADDRESS=Oak Creek Community Center 8580 South Howell Avenue Oak Creek WI 53154 United States;X-APPLE-RADIUS=500;X-TITLE=8580 South Howell Avenue:geo:-87.9105396,42.8890291
END:VEVENT
BEGIN:VEVENT
DTSTART;TZID=America/Chicago:20200423T193000
DTEND;TZID=America/Chicago:20200423T193000
DTSTAMP:20260424T213206
CREATED:20200416T142209Z
LAST-MODIFIED:20200420T150223Z
UID:10000166-1587670200-1587670200@wisducks.org
SUMMARY:Drawing of Waukesha's Beretta A400 Xtreme Plus Camo 12ga Raffle
DESCRIPTION:Class A (need not be present to win!) Raffle will be drawn at 7:30 pm on April 23rd in the parking lot of the Golden Mast.  \nWe ask that the public comply with current Wisconsin Stay at Home restrictions.  \nSOLD OUT – thank you to everyone that purchased tickets to help support our mission\, good luck to all who are entered! \n\nGrand Prize:  Beretta A400 Xtreme Plus Camo 12 Gauge  \nTickets 1 for $20 or 3 for $40\, only 300 sold.\nThis drawing is conducted under the auspices of a Class A license holder with WWA.  100% of the proceeds will further WWA’s non-profit purposes in Wisconsin.  Tickets may only be purchased by individuals who claim a Wisconsin address.\nPurchaser must complete all contact information and pay electronically for the purchase of their tickets.\nThe purchaser will be provided: (1)  At the time of purchase\, an electronic receipt acknowledging their purchase at the time of purchase; (2) shortly thereafter\, a digital version of the ticket(s)\, completed with the purchaser-provided contact information.  The physical raffle entry ticket will be hand-conveyed by to the location of the drawing in order to be drawn.\nThe drawing winning ticket(s) will be drawn in public\, and witnessed by a disinterested party.  The drawing will be digitally recorded without interruption and/or streamed live witness.\nWWA will post the winner on wisducks.org and contact the winner through the information provided by the purchaser\, at which time the winner will be instructed on how claim their winnings.\nPrize winners are responsible for all state/local and federal tax ramifications and prizes may not be awarded until tax implications have been addressed. Firearm prizes awardees must comply with all state and federal laws to claim the prize.
URL:https://wisducks.org/event/drawing-of-waukeshas-beretta-a400-xtreme-plus-camo-12ga-raffle/
LOCATION:Golden Mast Restaurant\, W349 N5293 Lacy’s Lane\, Okauchee\, WI\, 53069\, United States
ORGANIZER;CN="Mike Alaimo":MAILTO:malaimo73@gmail.com
GEO:43.1143598;-88.4395609
X-APPLE-STRUCTURED-LOCATION;VALUE=URI;X-ADDRESS=Golden Mast Restaurant W349 N5293 Lacy’s Lane Okauchee WI 53069 United States;X-APPLE-RADIUS=500;X-TITLE=W349 N5293 Lacy’s Lane:geo:-88.4395609,43.1143598
END:VEVENT
BEGIN:VEVENT
DTSTART;TZID=America/Chicago:20200425T173000
DTEND;TZID=America/Chicago:20200425T213000
DTSTAMP:20260424T213206
CREATED:20190730T175948Z
LAST-MODIFIED:20200318T180805Z
UID:10000121-1587835800-1587850200@wisducks.org
SUMMARY:7th Annual Between the Lakes Calumet County Banquet
DESCRIPTION:Update: March 16\, 2020: As a result of the most recent public health advisories\, WWA is postponing all of our fundraising banquets between now and April 30th.  This includes Green Bay\, Chilton/Between the Lakes and Waukesha.  All registrants will be directly notified in the next 24 hours as re-scheduling banquet details become more clear.  Public support of WWA has been important over our 36 year history\, but never been more important than now. To find ways to help WWA weather this storm\, please click here.  \nOur Special Class A (need not be present to win!) Gun Raffle will still be drawn on April 25th. Tickets are currently SOLD OUT\, thank you for your support and good luck to all who are entered! Didn’t get tickets? When we re-schedule the banquet we will be selling tickets for a second Class A raffle for another Ruger 556 AR (more information coming soon!). \n\nGrand Prize Ruger 556 AR w/ American Flag Cerakote \nTickets $20 each\, only 100 sold!\n\n\n5:30pm Cocktails – 7:00pm Dinner \nTickets starting at only $35\, just $50 per couple. Youth aged 12 -15 only $10 and those under 12 get in FREE. \nLimited to 100 attendees\, get your tickets early! \nSponsor our banquet for only $250 ($450 merchandise donation) and you’ll be entered into a drawing for a Savage 93R 17HMR Laminate Cut Out Stock Bolt Rifle  \nEvent Highlights: \n\nAwesome gun boards\, featuring:\n\nMallard Gun Board\n\nRuger Hawkeye 308 Cal. Laminated Bolt Rifle \nWinchester XPR 300 Win. Mag. Bolt Rifle \nHi Point 9mm Camo Pistol \n\n\nRedhead Gun Board\n\nHenry Lever Action 410 ga. \nTSA Bronze 28 ga. Semi-Auto \nHi Point 9mm Camo Pistol \n\n\n\n\nYouth Raffle\n\nFREE for ages 16 & under!\n\n\nTanglefree Decoy Raffle\nPlinko Game\n2020 Waterfowler’s Dream Hunt Raffle\n\nNorth Dakota Combo Waterfowl & Pheasant Hunt with Rolling Plains Adventures: grand prize winner will receive 3 days/4 nights stay for 2 people\, including food\, lodging\, guides\, bird cleaning & more. Grand prize will be drawn in December 2020. One winner will be drawn for a Tactacam 5.0! \n\n\nCanada Fishing Trip with Anderson’s Manitou Lodge \n\n2-person\, 4-nights\, includes lodging\, boat\, gas & bait!\n\n\nEntertainment Raffle\n\nCustom made hickory curio/gun cabinet crafted by Todd Buchanan\n\n\nTickets for Tickets Raffle\nSpecial Class A (need not be present to win!) Gun Raffle\n\nRuger 556 AR w/ American Flag Cerakote \nTickets $20 each\, only 100 sold!\n\n\nSilent Auction\n2020 UTV raffle tickets available at the banquet! \nAnd more!\n\nPurchase your banquet tickets securely online\, below. Tickets will be available online until 4:30 pm April 24th or until sold out. To pay by check\, download our printable mail-in Between the Lakes 2020 banquet flyer.
URL:https://wisducks.org/event/7th-annual-between-the-lakes-calumet-county-banquet/
LOCATION:Meat’s Opera Haus\, 204 S. 4th Avenue\, Saint Nazianz\, 54232\, United States
GEO:44.0061273;-87.9223862
X-APPLE-STRUCTURED-LOCATION;VALUE=URI;X-ADDRESS=Meat’s Opera Haus 204 S. 4th Avenue Saint Nazianz 54232 United States;X-APPLE-RADIUS=500;X-TITLE=204 S. 4th Avenue:geo:-87.9223862,44.0061273
END:VEVENT
END:VCALENDAR