BEGIN:VCALENDAR
VERSION:2.0
PRODID:-//Wisconsin Waterfowl Association - ECPv6.15.20//NONSGML v1.0//EN
CALSCALE:GREGORIAN
METHOD:PUBLISH
X-WR-CALNAME:Wisconsin Waterfowl Association
X-ORIGINAL-URL:https://wisducks.org
X-WR-CALDESC:Events for Wisconsin Waterfowl Association
REFRESH-INTERVAL;VALUE=DURATION:PT1H
X-Robots-Tag:noindex
X-PUBLISHED-TTL:PT1H
BEGIN:VTIMEZONE
TZID:America/Chicago
BEGIN:DAYLIGHT
TZOFFSETFROM:-0600
TZOFFSETTO:-0500
TZNAME:CDT
DTSTART:20200308T080000
END:DAYLIGHT
BEGIN:STANDARD
TZOFFSETFROM:-0500
TZOFFSETTO:-0600
TZNAME:CST
DTSTART:20201101T070000
END:STANDARD
BEGIN:DAYLIGHT
TZOFFSETFROM:-0600
TZOFFSETTO:-0500
TZNAME:CDT
DTSTART:20210314T080000
END:DAYLIGHT
BEGIN:STANDARD
TZOFFSETFROM:-0500
TZOFFSETTO:-0600
TZNAME:CST
DTSTART:20211107T070000
END:STANDARD
BEGIN:DAYLIGHT
TZOFFSETFROM:-0600
TZOFFSETTO:-0500
TZNAME:CDT
DTSTART:20220313T080000
END:DAYLIGHT
BEGIN:STANDARD
TZOFFSETFROM:-0500
TZOFFSETTO:-0600
TZNAME:CST
DTSTART:20221106T070000
END:STANDARD
END:VTIMEZONE
BEGIN:VEVENT
DTSTART;TZID=America/Chicago:20211008T123000
DTEND;TZID=America/Chicago:20211008T130000
DTSTAMP:20260423T051105
CREATED:20210429T214238Z
LAST-MODIFIED:20211005T185537Z
UID:10000216-1633696200-1633698000@wisducks.org
SUMMARY:Drawing of Benelli SBE 3 Patriot Brown/Marsh Camo 3.5" 12ga Shotgun Raffle
DESCRIPTION:Join WWA’s Waukesha Chapter for the drawing of their Fall Habitat Gun Raffle. \nClass A (need not be present to win!) Raffle: \nGrand Prize: Benelli SBE 3 Patriot Brown/Marsh Camo 3.5″ 12ga. 28″ bbl. Semi-Auto Shotgun  \n\nTickets just $20 each\, only 300 sold\n\nGet yours securely online\, below. Tickets will be available for sale online until 11:30 pm October 7 2021 or until the raffle sells out. Any remaining tickets will be available for sale at Tim’s Auto Parts Oconomowoc location until the time of the drawing. \nDetails: \n\nIf winner not present he/she will be notified via information given on the winning ticket.  Winner will be posted in the News section of our website within 48 hours of the drawing or as soon as the winner is notified.\n\nThis drawing is conducted under the auspices of a Class A license holder with WWA.  100% of the proceeds will further WWA’s non-profit purposes in Wisconsin.\nPurchaser must complete all contact information and pay electronically for the purchase of their tickets.\nThe purchaser will be provided: (1)  At the time of purchase\, an electronic receipt acknowledging their purchase at the time of purchase; (2) shortly thereafter\, a digital version of the ticket(s)\, completed with the purchaser-provided contact information.  The physical raffle entry ticket will be hand-conveyed by to the location of the drawing in order to be drawn.\nThe drawing winning ticket(s) will be drawn in public\, and witnessed by a disinterested party.\nWWA will post the winner on wisducks.org and contact the winner through the information provided by the purchaser\, at which time the winner will be instructed on how claim their winnings.\nPrize winners are responsible for all state/local and federal tax ramifications and prizes may not be awarded until tax implications have been addressed. Firearm prizes awardees must comply with all state and federal laws to claim the prize.
URL:https://wisducks.org/event/drawing-of-benelli-sbe-3-patriot-brown-marsh-camo-3-5-12ga-shotgun-raffle/
LOCATION:Tims Auto Parts\, 502 East Wisconsin Avenue\, Oconomowoc\, WI\, 53066\, United States
ORGANIZER;CN="Mike Alaimo":MAILTO:malaimo73@gmail.com
GEO:43.1092334;-88.4931104
X-APPLE-STRUCTURED-LOCATION;VALUE=URI;X-ADDRESS=Tims Auto Parts 502 East Wisconsin Avenue Oconomowoc WI 53066 United States;X-APPLE-RADIUS=500;X-TITLE=502 East Wisconsin Avenue:geo:-88.4931104,43.1092334
END:VEVENT
BEGIN:VEVENT
DTSTART;TZID=America/Chicago:20211013T180000
DTEND;TZID=America/Chicago:20211013T183000
DTSTAMP:20260423T051105
CREATED:20201222T192520Z
LAST-MODIFIED:20201222T192710Z
UID:10000197-1634148000-1634149800@wisducks.org
SUMMARY:2021 Conservation Calendar Raffle Drawing
DESCRIPTION:
URL:https://wisducks.org/event/2021-conservation-calendar-raffle-drawing/2021-10-13/
LOCATION:Beaver Dam Conservationists Club\, W9554 County Road G\, Beaver Dam\, WI\, 53916\, United States
ORGANIZER;CN="Wisconsin Waterfowl Association":MAILTO:info@wisducks.org
GEO:43.450246;-88.876459
X-APPLE-STRUCTURED-LOCATION;VALUE=URI;X-ADDRESS=Beaver Dam Conservationists Club W9554 County Road G Beaver Dam WI 53916 United States;X-APPLE-RADIUS=500;X-TITLE=W9554 County Road G:geo:-88.876459,43.450246
END:VEVENT
END:VCALENDAR