BEGIN:VCALENDAR
VERSION:2.0
PRODID:-//Wisconsin Waterfowl Association - ECPv6.15.20//NONSGML v1.0//EN
CALSCALE:GREGORIAN
METHOD:PUBLISH
X-WR-CALNAME:Wisconsin Waterfowl Association
X-ORIGINAL-URL:https://wisducks.org
X-WR-CALDESC:Events for Wisconsin Waterfowl Association
REFRESH-INTERVAL;VALUE=DURATION:PT1H
X-Robots-Tag:noindex
X-PUBLISHED-TTL:PT1H
BEGIN:VTIMEZONE
TZID:America/Chicago
BEGIN:DAYLIGHT
TZOFFSETFROM:-0600
TZOFFSETTO:-0500
TZNAME:CDT
DTSTART:20200308T080000
END:DAYLIGHT
BEGIN:STANDARD
TZOFFSETFROM:-0500
TZOFFSETTO:-0600
TZNAME:CST
DTSTART:20201101T070000
END:STANDARD
BEGIN:DAYLIGHT
TZOFFSETFROM:-0600
TZOFFSETTO:-0500
TZNAME:CDT
DTSTART:20210314T080000
END:DAYLIGHT
BEGIN:STANDARD
TZOFFSETFROM:-0500
TZOFFSETTO:-0600
TZNAME:CST
DTSTART:20211107T070000
END:STANDARD
BEGIN:DAYLIGHT
TZOFFSETFROM:-0600
TZOFFSETTO:-0500
TZNAME:CDT
DTSTART:20220313T080000
END:DAYLIGHT
BEGIN:STANDARD
TZOFFSETFROM:-0500
TZOFFSETTO:-0600
TZNAME:CST
DTSTART:20221106T070000
END:STANDARD
END:VTIMEZONE
BEGIN:VEVENT
DTSTART;TZID=America/Chicago:20211202T180000
DTEND;TZID=America/Chicago:20211202T200000
DTSTAMP:20260423T015916
CREATED:20210212T181702Z
LAST-MODIFIED:20211201T172348Z
UID:10000081-1638468000-1638475200@wisducks.org
SUMMARY:6th Annual Christmas Bash
DESCRIPTION:Join WWA for our 6th Annual Christmas Bash\nHosted by our Waukesha County Chapter \nGUNS!!!! – Raffles – Games – Free Beer! – Food \nJust $35* gets you in the door along with FREE selected beer options\, subs\, pizza and a 1-year WWA Membership. \nEvent sold out. Those that have an event ticket may purchase gun board tickets.\n Featuring: \n\nTHE BASH GUN BOARD:  50 tickets for $75\, until 12/1/21.  Night of pricing: 25 tickets for $50. MUST BE PRESENT TO WIN\n\nFranchi Affinity 3.5 Max5 /Bronze 12 ga \nWeatherby Element Waterfowl 20 Ga  \nHowa Mini Action YOTE .223 Rem  \nRuger American Pred Go Anywhere 6.5 CM \nWalther CCP .380 Angel Blue  \nRuger SR22 Copper  \n\nNote:  Guns subject to change based on availability\, but we will maintain the same quality selection with any substitution.\n\n\n\n\n\n                                              \n\nMystery Pistol                                                                          \nNaughty or Nice Raffle  \n\n\nGreat River Outdoors (La Crosse) Ice Fishing Raffle (2021/22 to 2022/23 Seasons)!!!  \n\n[row]\n[column lg=”4″ md=”12″ sm=”12″ xs=”12″ ] \n[/column][column lg=”4″ md=”12″ sm=”12″ xs=”12″ ] \n[/column][column lg=”4″ md=”12″ sm=”12″ xs=”12″ ] \n[/column]\n[/row]\n\nGames with great prizes! \nWalk Around Raffles… along with some MEATY selections! And MORE! \n\n[row]\n[column lg=”4″ md=”12″ sm=”12″ xs=”12″ ] \n[/column][column lg=”4″ md=”12″ sm=”12″ xs=”12″ ] \n[/column][column lg=”4″ md=”12″ sm=”12″ xs=”12″ ] \n[/column]\n[/row]\n\nTim’s Auto Parts Raffle with proceeds going to the Oconomowoc Food Pantry \n\nAND CHECK OUT OUR TWO PRE-EVENT RAFFLES:   \n\nKimber SS Pro Raptor II:  \n\n$20 per ticket\, limited to 150 tickets.\nSOLD OUT ONLINE – Limited quantity of tickets will be available for sale at the Bash\, first come\, first served.\n\nNeed not be present to win*\n\n*Limited to Wisconsin residents only\, purchasers must have a valid Wisconsin address noted at checkout. Out of state orders without this will be refunded.\n\n\n\n\n\n  \n\nICE FISH GREEN BAY: Two-day Walleye and Whitefish Ice Fishing Trip: \n\n[row]\n[column lg=”4″ md=”12″ sm=”12″ xs=”12″ ] \n[/column][column lg=”4″ md=”12″ sm=”12″ xs=”12″ ] \n[/column]\n[/row]\n\n\n\n2 Person\, 2 Day\, Fully Guided\, 2 Nights Lodging at Beach Harbor Resort.\n$10 per ticket\, limited to 200 tickets.\n\nSOLD OUT ONLINE – Limited quantity of tickets will be available for sale at the Bash\, first come\, first served.\n\nNeed not be present to win*\n\n*Limited to Wisconsin residents only\, purchasers must have a valid Wisconsin address noted at checkout. Out of state orders without this will be refunded.\n\nWhat is provided by ICE FISH GREEN BAY (Alexander’s Sport Fishing):\n\n2021/22 or 2022/23 seasons\nSafe Transportation from the Resort.\nAll rods/reels/tip-ups/lures\nPower Jiffy Ice Drills\nHeated Frabill ice shacks\nConvertible\, ($720) value only\, towards open water packages offered by Alexander’s Sport Fishing. No Cash Refunds.  Must be transferred and redeemed by the end of the 2023 season.  All negotiations are the responsibility of the winner.\n\n\nWinner responsible for transportation to the lodge\, food\, beverages\, any additional charges associated with added persons/nights\, and winter fishing gear.  Check out ICEFISHGREENBAY.com for additional details of what is supplied and what is not as part of a guided trip.\n\n\n\n\n\n\n\nGet your Christmas Bash tickets securely online\, below. *$35 Bash entry fee valid through December 1\, 2021\, day-of registrations only at the door will be $45.  
URL:https://wisducks.org/event/6th-annual-christmas-bash/
LOCATION:Rustic Manor 1848\, 3115 STATE ROAD 83\, Hartland\, WI\, 53029\, United States
ORGANIZER;CN="Mike Alaimo":MAILTO:malaimo73@gmail.com
GEO:43.085267;-88.3643082
X-APPLE-STRUCTURED-LOCATION;VALUE=URI;X-ADDRESS=Rustic Manor 1848 3115 STATE ROAD 83 Hartland WI 53029 United States;X-APPLE-RADIUS=500;X-TITLE=3115 STATE ROAD 83:geo:-88.3643082,43.085267
END:VEVENT
BEGIN:VEVENT
DTSTART;TZID=America/Chicago:20211208T180000
DTEND;TZID=America/Chicago:20211208T183000
DTSTAMP:20260423T015916
CREATED:20201222T192520Z
LAST-MODIFIED:20201222T192710Z
UID:10000199-1638986400-1638988200@wisducks.org
SUMMARY:2021 Conservation Calendar Raffle Drawing
DESCRIPTION:
URL:https://wisducks.org/event/2021-conservation-calendar-raffle-drawing/2021-12-08/
LOCATION:Beaver Dam Conservationists Club\, W9554 County Road G\, Beaver Dam\, WI\, 53916\, United States
ORGANIZER;CN="Wisconsin Waterfowl Association":MAILTO:info@wisducks.org
GEO:43.450246;-88.876459
X-APPLE-STRUCTURED-LOCATION;VALUE=URI;X-ADDRESS=Beaver Dam Conservationists Club W9554 County Road G Beaver Dam WI 53916 United States;X-APPLE-RADIUS=500;X-TITLE=W9554 County Road G:geo:-88.876459,43.450246
END:VEVENT
BEGIN:VEVENT
DTSTART;TZID=America/Chicago:20211209T173000
DTEND;TZID=America/Chicago:20211209T220000
DTSTAMP:20260423T015916
CREATED:20210326T171125Z
LAST-MODIFIED:20211005T183452Z
UID:10000213-1639071000-1639087200@wisducks.org
SUMMARY:31st Annual Lakeshore/Manitowoc Chapter Banquet
DESCRIPTION:Raffles\, Auctions\, Prizes\, Games and Guns \nDoors Open/Cocktails: 5:30 pm \nBuffet Style Dinner: 5:30 pm – 7:00 pm \nTickets start at just $30!* \nAll Attendees have the chance to win one of two Grand Door Prize Guns! \n\nATI SX 20ga O/U Shotgun  AND\nATI SX 410ga O/U Shotgun \n\nConsider becoming an event sponsor! \n\nConservation Sponsors entered into drawing for a Browning A5 3″ Mag 12ga Shotgun! \nSponsors entered into drawing for a Browning A5 2 3/4 12ga Shotgun! \n\nEvent Highlights: \n\nAwesome Gun Boards\, featuring\n\nShotgun Board:\n\nImpala Plus 12ga Bottomland Camo 3″ \nIFC Maxium 12ga MO/Blind Camo 3″ \nRemington 870 EXP Super Magnum 12ga 3-1/2″ M/O Camo \n\n\nRifles Board\n\nThompson Center Venture II .243 \nThompson Center Venture II 30-06 \nThompson Center Venture II 7mm Mag. \n\n\n\n\nLAP PUPPY for for our Spring Email Auction \nSilent & Vocal Auctions\nBucket Raffle\nLadies Raffle\nLayout Blind Raffle\nCooler & Meat Raffle\n$1000 Super Yahtzee\nSplit the Pot Raffle\nLucky Duck Raffle\nPluck-a-Duck\nPredator Hunter Raffle\n\n\nFeaturing our Discounted Credit Card Raffle (Advance sales only):\n\nWWA Gold Card – For $100 you receive $150 to purchase raffle tickets\nWWA Platinum Card – For $150 you receive $250 to buy raffle tickets\n\nCards may be used on any of the floor raffles banquet night.  They may NOT be used on any Class A raffle\, Silent or Vocal Auction purchases\, Blue Light or any raffle advertised as Cash Only and they may not be redeemed for cash.\n\n\n\n\nAnd much more!\n\nPurchase your event tickets securely online\, below. Attendance limited\, get yours early! To pay by check\, download our printable mail-in banquet flyer here. \n*$30 advance ticket sales\, available online until 4:30 p.m. December 8th. Day of banquet price is $40.
URL:https://wisducks.org/event/31st-annual-lakeshore-manitowoc-chapter-banquet-2/
LOCATION:City Limits Bar and Banquet Hall\, 3627 County Road CR\, Manitowoc\, WI\, 54220\, United States
GEO:44.0547735;-87.7014976
X-APPLE-STRUCTURED-LOCATION;VALUE=URI;X-ADDRESS=City Limits Bar and Banquet Hall 3627 County Road CR Manitowoc WI 54220 United States;X-APPLE-RADIUS=500;X-TITLE=3627 County Road CR:geo:-87.7014976,44.0547735
END:VEVENT
BEGIN:VEVENT
DTSTART;TZID=America/Chicago:20211211T120000
DTEND;TZID=America/Chicago:20211211T160000
DTSTAMP:20260423T015916
CREATED:20211026T200420Z
LAST-MODIFIED:20211026T200420Z
UID:10000225-1639224000-1639238400@wisducks.org
SUMMARY:Baraboo River Chapter Meet & Greet
DESCRIPTION:Join WWA’s Baraboo River chapter to learn more about the mission of Wisconsin Waterfowl Association and what your local chapter is doing to help.  \nDo you know what WWA is? \nDo you know what WWA does? \nDo you know what WWA can do? \nCome join us to learn more & get involved! \nFREE Pizza & Drinks \nDoor Prizes
URL:https://wisducks.org/event/baraboo-river-chapter-meet-greet/
LOCATION:Reedsburg Outdoor Club\, S2064A Luedtke Road\, La Valle\, WI\, 53941\, United States
GEO:43.5702625;-90.056746
X-APPLE-STRUCTURED-LOCATION;VALUE=URI;X-ADDRESS=Reedsburg Outdoor Club S2064A Luedtke Road La Valle WI 53941 United States;X-APPLE-RADIUS=500;X-TITLE=S2064A Luedtke Road:geo:-90.056746,43.5702625
END:VEVENT
BEGIN:VEVENT
DTSTART;TZID=America/Chicago:20211212T140000
DTEND;TZID=America/Chicago:20211212T180000
DTSTAMP:20260423T015916
CREATED:20210809T141035Z
LAST-MODIFIED:20210921T153933Z
UID:10000223-1639317600-1639332000@wisducks.org
SUMMARY:Bash the Bears
DESCRIPTION:Join WWA’s Between the Lakes Chapter at the Marsh Inn \nFeaturing games and raffles to support the mission of the Wisconsin Waterfowl Association \nFree event to attend!
URL:https://wisducks.org/event/bash-the-bears/
LOCATION:Marsh Inn\, 220 S. County Road W\, Reedsville\, WI\, 54230\, United States
GEO:44.0968482;-87.8214713
X-APPLE-STRUCTURED-LOCATION;VALUE=URI;X-ADDRESS=Marsh Inn 220 S. County Road W Reedsville WI 54230 United States;X-APPLE-RADIUS=500;X-TITLE=220 S. County Road W:geo:-87.8214713,44.0968482
END:VEVENT
END:VCALENDAR