BEGIN:VCALENDAR
VERSION:2.0
PRODID:-//Wisconsin Waterfowl Association - ECPv6.15.20//NONSGML v1.0//EN
CALSCALE:GREGORIAN
METHOD:PUBLISH
X-WR-CALNAME:Wisconsin Waterfowl Association
X-ORIGINAL-URL:https://wisducks.org
X-WR-CALDESC:Events for Wisconsin Waterfowl Association
REFRESH-INTERVAL;VALUE=DURATION:PT1H
X-Robots-Tag:noindex
X-PUBLISHED-TTL:PT1H
BEGIN:VTIMEZONE
TZID:America/Chicago
BEGIN:DAYLIGHT
TZOFFSETFROM:-0600
TZOFFSETTO:-0500
TZNAME:CDT
DTSTART:20210314T080000
END:DAYLIGHT
BEGIN:STANDARD
TZOFFSETFROM:-0500
TZOFFSETTO:-0600
TZNAME:CST
DTSTART:20211107T070000
END:STANDARD
BEGIN:DAYLIGHT
TZOFFSETFROM:-0600
TZOFFSETTO:-0500
TZNAME:CDT
DTSTART:20220313T080000
END:DAYLIGHT
BEGIN:STANDARD
TZOFFSETFROM:-0500
TZOFFSETTO:-0600
TZNAME:CST
DTSTART:20221106T070000
END:STANDARD
BEGIN:DAYLIGHT
TZOFFSETFROM:-0600
TZOFFSETTO:-0500
TZNAME:CDT
DTSTART:20230312T080000
END:DAYLIGHT
BEGIN:STANDARD
TZOFFSETFROM:-0500
TZOFFSETTO:-0600
TZNAME:CST
DTSTART:20231105T070000
END:STANDARD
END:VTIMEZONE
BEGIN:VEVENT
DTSTART;TZID=America/Chicago:20220101T090000
DTEND;TZID=America/Chicago:20220101T170000
DTSTAMP:20260423T001644
CREATED:20211029T155058Z
LAST-MODIFIED:20211029T155058Z
UID:10000226-1641027600-1641056400@wisducks.org
SUMMARY:New Year's Day Wobble
DESCRIPTION:2nd Hangover Shoot\nJoin WWA’s Marshland Chapter to ring in the New Year\n \n50 Bird Lewis Class Shoot – $20 at the door \n25 16yd-25 16yd Wobble \nShooting 9am – 3pm \nEach Class Pays 60% First Place\, 40% Second Place. \n$5 Snowball Shoot: 5 Targets-16yd. High Score Receives 1\2 of money collected\, ties divide. \nBar\, Raffles & Food 11am – 4pm. Bloody Mary Bar & Mimosas available! \nRaffles – Proceeds to benefit Wisconsin Waterfowl Association \nLimited number of shells will be available for purchase
URL:https://wisducks.org/event/new-years-day-wobble/
LOCATION:Beaver Dam Conservationists Club\, W9554 County Road G\, Beaver Dam\, WI\, 53916\, United States
ORGANIZER;CN="Rob Monette":MAILTO:rmonette@wisducks.org
GEO:43.450246;-88.876459
X-APPLE-STRUCTURED-LOCATION;VALUE=URI;X-ADDRESS=Beaver Dam Conservationists Club W9554 County Road G Beaver Dam WI 53916 United States;X-APPLE-RADIUS=500;X-TITLE=W9554 County Road G:geo:-88.876459,43.450246
END:VEVENT
BEGIN:VEVENT
DTSTART;TZID=America/Chicago:20220112T180000
DTEND;TZID=America/Chicago:20220112T183000
DTSTAMP:20260423T001644
CREATED:20220103T001404Z
LAST-MODIFIED:20220103T001514Z
UID:10000232-1642010400-1642012200@wisducks.org
SUMMARY:2022 Conservation Calendar Raffle Drawing
DESCRIPTION:
URL:https://wisducks.org/event/2022-conservation-calendar-raffle-drawing/2022-01-12/
LOCATION:Beaver Dam Conservationists Club\, W9554 County Road G\, Beaver Dam\, WI\, 53916\, United States
ORGANIZER;CN="Wisconsin Waterfowl Association":MAILTO:info@wisducks.org
GEO:43.450246;-88.876459
X-APPLE-STRUCTURED-LOCATION;VALUE=URI;X-ADDRESS=Beaver Dam Conservationists Club W9554 County Road G Beaver Dam WI 53916 United States;X-APPLE-RADIUS=500;X-TITLE=W9554 County Road G:geo:-88.876459,43.450246
END:VEVENT
END:VCALENDAR