BEGIN:VCALENDAR
VERSION:2.0
PRODID:-//Wisconsin Waterfowl Association - ECPv6.15.20//NONSGML v1.0//EN
CALSCALE:GREGORIAN
METHOD:PUBLISH
X-ORIGINAL-URL:https://wisducks.org
X-WR-CALDESC:Events for Wisconsin Waterfowl Association
REFRESH-INTERVAL;VALUE=DURATION:PT1H
X-Robots-Tag:noindex
X-PUBLISHED-TTL:PT1H
BEGIN:VTIMEZONE
TZID:America/Chicago
BEGIN:DAYLIGHT
TZOFFSETFROM:-0600
TZOFFSETTO:-0500
TZNAME:CDT
DTSTART:20210314T080000
END:DAYLIGHT
BEGIN:STANDARD
TZOFFSETFROM:-0500
TZOFFSETTO:-0600
TZNAME:CST
DTSTART:20211107T070000
END:STANDARD
BEGIN:DAYLIGHT
TZOFFSETFROM:-0600
TZOFFSETTO:-0500
TZNAME:CDT
DTSTART:20220313T080000
END:DAYLIGHT
BEGIN:STANDARD
TZOFFSETFROM:-0500
TZOFFSETTO:-0600
TZNAME:CST
DTSTART:20221106T070000
END:STANDARD
BEGIN:DAYLIGHT
TZOFFSETFROM:-0600
TZOFFSETTO:-0500
TZNAME:CDT
DTSTART:20230312T080000
END:DAYLIGHT
BEGIN:STANDARD
TZOFFSETFROM:-0500
TZOFFSETTO:-0600
TZNAME:CST
DTSTART:20231105T070000
END:STANDARD
END:VTIMEZONE
BEGIN:VEVENT
DTSTART;TZID=America/Chicago:20220309T180000
DTEND;TZID=America/Chicago:20220309T183000
DTSTAMP:20260422T203145
CREATED:20220103T001404Z
LAST-MODIFIED:20220103T001514Z
UID:10000234-1646848800-1646850600@wisducks.org
SUMMARY:2022 Conservation Calendar Raffle Drawing
DESCRIPTION:
URL:https://wisducks.org/event/2022-conservation-calendar-raffle-drawing/2022-03-09/
LOCATION:Beaver Dam Conservationists Club\, W9554 County Road G\, Beaver Dam\, WI\, 53916\, United States
ORGANIZER;CN="Wisconsin Waterfowl Association":MAILTO:info@wisducks.org
GEO:43.450246;-88.876459
X-APPLE-STRUCTURED-LOCATION;VALUE=URI;X-ADDRESS=Beaver Dam Conservationists Club W9554 County Road G Beaver Dam WI 53916 United States;X-APPLE-RADIUS=500;X-TITLE=W9554 County Road G:geo:-88.876459,43.450246
END:VEVENT
BEGIN:VEVENT
DTSTART;TZID=America/Chicago:20220317T170000
DTEND;TZID=America/Chicago:20220317T220000
DTSTAMP:20260422T203145
CREATED:20211216T025440Z
LAST-MODIFIED:20220203T143359Z
UID:10000229-1647536400-1647554400@wisducks.org
SUMMARY:21st Annual Green Bay Chapter Banquet
DESCRIPTION:Raffles\, Auction\, Prizes\, Games\, Guns \n5:00 pm: Cocktails – 7:00 pm: Dinner \nPresented by:\n\n\n[row]\n[column lg=”4″ md=”12″ sm=”12″ xs=”12″ ] \n[/column][column lg=”4″ md=”12″ sm=”12″ xs=”12″ ] \n[/column]\n[/row]\nGet your registration tickets purchased before February 28th and you’ll be entered into a special drawing for extra ticket packages!** \nEvent Highlights: \n\n\n\nIncredible Gun Boards!* Featuring:\n\nGun Board #1-#4 (Gun Board Tickets Only):\n\nTaurus Judge \nSavage 93R17 .17 HMR \nHenry Silverboy.22 \nTri-Star Viper 12ga Waterfowl \nFranchi Affinity Max 5 & Bottomlands 12ga \nBrowning A Bolt 7mm-08 \nWeatherby Element 12ga \nBeretta APX 9mm \nStoeger M3500 \nStoeger O/U 12ga Condor \nThompson Center Venture 30-06 \n\n\n8+1 Gun Board (Cash Tickets)\n\nTWO Savage 17 HMR  \nTWO Optima 50 Cal MZL  \nTWO Springfield XD 9mm  \nTWO Tristar Cobra 3 12ga  \n+ ONE Browning A Bolt 7mm-08 \n\n\n50+1 Gun Board (Cash Tickets)\n\n#1 – Tri-Star O/U 12ga & 20ga  \n#2 – Tri-Star Setter O/U 20ga & .410 ga   \n\n2nd 50+1 Gun Board will only be opened after all spots on board #1 are sold\n\n\n\n\n\nDoor Prizes!  \nMeat Raffle \nCash & Certificates \nLiquor Raffle – bring in a bottle of unopened booze (must be in manufacturer’s original retail packaging\, homemade or unsealed liquor prohibited) and receive TEN free Gun Board tickets! \nHand Carved Decoys \nLayout Boat \nDecoys \nBucket Raffle \nWalk Around Guns! \nPheasant Hunts \nGame Cameras \nLive & Silent Auction \nFishing & Hunting Trips \n50/50 Cash Raffle \nPlatinum Membership – all attendees who purchase a platinum membership for $50 will be in a drawing to win a Taurus 9mm handgun – only 50 sold\, great odds! \n& MORE!! \n*All gun prizes will leave the banquet with their winners\, no gift cards will be issued. All handgun winners must pass a background check before receiving their prize. Based on limited availability of firearms\, other sporting merchandise may be substituted on gun boards. \n**Four ticket packages (one puddle duck\, two pintail and one big honker) will be awarded to members that get their paid registration forms in by 11:59 p.m. February 28\, 2022. \nPurchase your event tickets securely online\, below. To pay by check\, print out our mail-in flyer here.
URL:https://wisducks.org/event/21st-annual-green-bay-chapter-banquet/
LOCATION:The Rock Garden\, 1951 Bond Street\, Green Bay\, WI\, 54303\, United States
GEO:44.5414915;-88.0722898
X-APPLE-STRUCTURED-LOCATION;VALUE=URI;X-ADDRESS=The Rock Garden 1951 Bond Street Green Bay WI 54303 United States;X-APPLE-RADIUS=500;X-TITLE=1951 Bond Street:geo:-88.0722898,44.5414915
END:VEVENT
END:VCALENDAR