BEGIN:VCALENDAR
VERSION:2.0
PRODID:-//Wisconsin Waterfowl Association - ECPv6.15.20//NONSGML v1.0//EN
CALSCALE:GREGORIAN
METHOD:PUBLISH
X-WR-CALNAME:Wisconsin Waterfowl Association
X-ORIGINAL-URL:https://wisducks.org
X-WR-CALDESC:Events for Wisconsin Waterfowl Association
REFRESH-INTERVAL;VALUE=DURATION:PT1H
X-Robots-Tag:noindex
X-PUBLISHED-TTL:PT1H
BEGIN:VTIMEZONE
TZID:America/Chicago
BEGIN:DAYLIGHT
TZOFFSETFROM:-0600
TZOFFSETTO:-0500
TZNAME:CDT
DTSTART:20210314T080000
END:DAYLIGHT
BEGIN:STANDARD
TZOFFSETFROM:-0500
TZOFFSETTO:-0600
TZNAME:CST
DTSTART:20211107T070000
END:STANDARD
BEGIN:DAYLIGHT
TZOFFSETFROM:-0600
TZOFFSETTO:-0500
TZNAME:CDT
DTSTART:20220313T080000
END:DAYLIGHT
BEGIN:STANDARD
TZOFFSETFROM:-0500
TZOFFSETTO:-0600
TZNAME:CST
DTSTART:20221106T070000
END:STANDARD
BEGIN:DAYLIGHT
TZOFFSETFROM:-0600
TZOFFSETTO:-0500
TZNAME:CDT
DTSTART:20230312T080000
END:DAYLIGHT
BEGIN:STANDARD
TZOFFSETFROM:-0500
TZOFFSETTO:-0600
TZNAME:CST
DTSTART:20231105T070000
END:STANDARD
END:VTIMEZONE
BEGIN:VEVENT
DTSTART;TZID=America/Chicago:20220710T083000
DTEND;TZID=America/Chicago:20220710T160000
DTSTAMP:20260423T001516
CREATED:20220127T162552Z
LAST-MODIFIED:20220621T104705Z
UID:10000252-1657441800-1657468800@wisducks.org
SUMMARY:8th Annual Ozaukee Shoot
DESCRIPTION:Entry Fee will include 50 Rounds of Clays\, (1) Entry into the Grand Door Prize Drawing AND a 1-Year WWA Regular or Youth Membership. \n \nJust $25/Round\, Only $20/Round Youth (ages 16 and under). Youth also save $5 on re-shoots! \nOnline pre-registration available until 4:30pm July 8th \nCheck-in and Day of Registration: 8:30am \nShooting: 9:00am – 3:00pm \nLast group out at 2:30pm \nRaffles drawn 3:30 – 4:00pm \nFood & beverages will be available at the Clubhouse \n**Shoot will be held rain or shine** \nFeaturing LOTS of raffles! \nVortex Package Raffle \n\nTHREE winners\nTickets $10 each\, only 100 sold\nMust be present to win\n\nAlso featuring the drawing of our Class A (need not be present to win*) Spring Habitat Raffle: \n\nGrand Prize: Weatherby Orion O/U 12ga \nTickets just $10 each\, only 300 sold\nDrawing 3:30 pm at the Shoot\nNeed not be present to win*\n\n*Limited to Wisconsin residents only\, purchasers must have a valid Wisconsin address noted at checkout. Out of state orders without this will be refunded.\n\n\n\nGet your shoot tickets securely online\, below. Shoot tickets will be available online until 4:30 pm Friday July 8th. Class A tickets will be available online until 11:30pm Thursday July 7th. Walk-ins welcome.
URL:https://wisducks.org/event/8th-annual-ozaukee-shoot/
LOCATION:Ozaukee County Fish & Game Association\, 5123 County Road Y\, Fredonia\, WI\, 53080\, United States
GEO:43.4606794;-88.0009371
X-APPLE-STRUCTURED-LOCATION;VALUE=URI;X-ADDRESS=Ozaukee County Fish & Game Association 5123 County Road Y Fredonia WI 53080 United States;X-APPLE-RADIUS=500;X-TITLE=5123 County Road Y:geo:-88.0009371,43.4606794
END:VEVENT
BEGIN:VEVENT
DTSTART;TZID=America/Chicago:20220713T180000
DTEND;TZID=America/Chicago:20220713T183000
DTSTAMP:20260423T001516
CREATED:20220103T001404Z
LAST-MODIFIED:20220103T001514Z
UID:10000238-1657735200-1657737000@wisducks.org
SUMMARY:2022 Conservation Calendar Raffle Drawing
DESCRIPTION:
URL:https://wisducks.org/event/2022-conservation-calendar-raffle-drawing/2022-07-13/
LOCATION:Beaver Dam Conservationists Club\, W9554 County Road G\, Beaver Dam\, WI\, 53916\, United States
ORGANIZER;CN="Wisconsin Waterfowl Association":MAILTO:info@wisducks.org
GEO:43.450246;-88.876459
X-APPLE-STRUCTURED-LOCATION;VALUE=URI;X-ADDRESS=Beaver Dam Conservationists Club W9554 County Road G Beaver Dam WI 53916 United States;X-APPLE-RADIUS=500;X-TITLE=W9554 County Road G:geo:-88.876459,43.450246
END:VEVENT
BEGIN:VEVENT
DTSTART;TZID=America/Chicago:20220716T080000
DTEND;TZID=America/Chicago:20220716T153000
DTSTAMP:20260423T001516
CREATED:20220405T162705Z
LAST-MODIFIED:20220602T141556Z
UID:10000141-1657958400-1657985400@wisducks.org
SUMMARY:Green Bay Chapter's 12th Annual Abrams Sporting Clays Shoot
DESCRIPTION:50 rounds special sporting clays  \nProceeds to benefit projects such as our Abrams Long-Term project \n**Shoot will be held rain or shine** \nOnline pre-registration available until 4:30 pm July 15 \nDay-of Registration & Check-in: 8:00 am. \nShooting: 8:00 am – 2:30 pm (last group will go out at 1:45 pm). \nBucket raffles drawn at 2:30 pm. \nJust $35 to Shoot\, Youth Entry (16 & Under) Only $20! Includes shoot\, one-year WWA membership and one bucket raffle entry. \n$20 Re-shoots available day-of. \nCurrent J&H members (membership will be verified with J&H) save $5 at checkout. \nDelicious food & cold beverages will be available for purchase. \nPRIZES   —   RAFFLES   —   COURSE CHALLENGES \nFeaturing the drawing of our Class A (need not be present to win*) Whitetail Hunter’s Dream Raffle: \n\nFirst Prize: Maverick Booner 5 Panel Dagger Deer Blind\nSecond Prize: Savage Axis XP .270 Win. Bolt with Weaver 3-9 x 40mm scope\n\nTickets just $20 each\, only 250 sold\nDrawing 3:00 pm at the Shoot\nNeed not be present to win*\n\n*Limited to Wisconsin residents only\, purchasers must have a valid Wisconsin address noted at checkout. Out of state orders without this will be refunded.\nTickets will be available online until 11:30 pm July 14th or until the raffle sells out. Any remaining tickets will be available for sale at the Shoot until the time of the drawing.\n\n\n\n\n\n2-Person Team “Flurry Shoot” – Only $20 per team and \n\nfirst place winners get HALF the CASH! This will be a 20-bird team event shot from a hunting blind. Compete against your friends to see who will come out on top\, prizes to the first three teams.\n2nd Prize: WWA gear & 40 Shooters’ bucket raffle tickets\n3rd Prize: 80 tickets (2 wingspans!) for the Shooters’ bucket raffle selections\n\nStand–alone major prize card raffles: \n\nLucky Duck Premium Decoys Package:  54 chances @ $10\nSportDOG Brand e-Collar and Dog Training Package:  54 chances @ $10\nA Bruce Urben Hand-Carved Decoy: 54 chances @ $10\n\nBucket raffles featuring lots of great prizes! \nPurchase a $20 Shooting Ticket to earn 3 bucket raffle tickets per bird broken and/or purchase a Wingspan of 40 bucket raffle tickets.
URL:https://wisducks.org/event/green-bay-chapters-12th-annual-abrams-sporting-clays-shoot/
LOCATION:J&H Game Farm\, W5810 J&H Road\, Shiocton\, WI\, 54170\, United States
GEO:44.6114516;-88.5342152
X-APPLE-STRUCTURED-LOCATION;VALUE=URI;X-ADDRESS=J&H Game Farm W5810 J&H Road Shiocton WI 54170 United States;X-APPLE-RADIUS=500;X-TITLE=W5810 J&H Road:geo:-88.5342152,44.6114516
END:VEVENT
BEGIN:VEVENT
DTSTART;TZID=America/Chicago:20220727T083000
DTEND;TZID=America/Chicago:20220727T150000
DTSTAMP:20260423T001516
CREATED:20220106T212156Z
LAST-MODIFIED:20220708T211056Z
UID:10000245-1658910600-1658934000@wisducks.org
SUMMARY:12th Annual Fox Valley Scramble Golf Outing
DESCRIPTION:Presented by: \n\nWhat: A morning of golf at the gorgeous Royal St. Patrick’s Golf Links to benefit the Wisconsin Waterfowl Association.\nWhen: Wednesday\, July 27\, 2022\n\n8:30 am – Registration\n9:00 am – Shotgun Start\n9:00 am – 1:30 pm – Golf (Complimentary drink tickets provided. Snacks will also be available to purchase on course)\n1:30 pm – Drinks\, Raffles\, Silent Auction\, Draw Winners from Course Games\n2:00 pm – Luncheon Buffet & Awards\n\n\nWhy: To enjoy a great morning of golf on a truly outstanding course with a fantastic design. This is a perfect opportunity to entertain your clients or guests while also helping to support the mission of WWA\, including our habitat restoration\, education and legislative programs. Great golf\, great food and great fun with friends\, all in support of a great cause – Wisconsin Waterfowl Association! This event is sure to fill up fast – book your Foursome today!\nPrice: $125 per golfer or $450 per foursome\, includes 18 holes of golf with cart\, drink tickets\, luncheon buffet and WWA Membership. Sponsorship opportunities available!\n\n \n\nMany chances to WIN LOTS of GREAT prizes\, including our BIG FOUR on-course prizes: \n\nStoeger 12 GA M3000 semiauto camouflaged shotgun \nYeti Hauler cooler stuffed with meat \nMilwaukee Packout rolling tool boxes and cordless tool set \nRuger SR22 semi-automatic Pistol \n\n PLUS a walk around featuring the Yeti Roadie 24 qt cooler  \nAND 10-Bucket Raffles: no prize worth less than $150\, with bonus prize of a Ruger Wrangler .22LR pistol!  \nDon’t forget\, if you’re one of the first twelve foursomes to sign up you’ll be entered into our infamous cash raffle to win $250!  \nGet your Outing tickets securely online\, below\, or to pay by check download our printable mail-in 2022 Fox Valley Golf Outing brochure.
URL:https://wisducks.org/event/12th-annual-fox-valley-scramble-golf-outing/
LOCATION:Royal St. Patrick’s Golf Links\, 201 Royal St. Pat's Drive\, Wrightstown\, WI\, 54180\, United States
ORGANIZER;CN="Wisconsin Waterfowl Association":MAILTO:info@wisducks.org
GEO:44.328973;-88.2001779
X-APPLE-STRUCTURED-LOCATION;VALUE=URI;X-ADDRESS=Royal St. Patrick’s Golf Links 201 Royal St. Pat's Drive Wrightstown WI 54180 United States;X-APPLE-RADIUS=500;X-TITLE=201 Royal St. Pat's Drive:geo:-88.2001779,44.328973
END:VEVENT
END:VCALENDAR