BEGIN:VCALENDAR
VERSION:2.0
PRODID:-//Wisconsin Waterfowl Association - ECPv6.15.20//NONSGML v1.0//EN
CALSCALE:GREGORIAN
METHOD:PUBLISH
X-ORIGINAL-URL:https://wisducks.org
X-WR-CALDESC:Events for Wisconsin Waterfowl Association
REFRESH-INTERVAL;VALUE=DURATION:PT1H
X-Robots-Tag:noindex
X-PUBLISHED-TTL:PT1H
BEGIN:VTIMEZONE
TZID:America/Chicago
BEGIN:DAYLIGHT
TZOFFSETFROM:-0600
TZOFFSETTO:-0500
TZNAME:CDT
DTSTART:20210314T080000
END:DAYLIGHT
BEGIN:STANDARD
TZOFFSETFROM:-0500
TZOFFSETTO:-0600
TZNAME:CST
DTSTART:20211107T070000
END:STANDARD
BEGIN:DAYLIGHT
TZOFFSETFROM:-0600
TZOFFSETTO:-0500
TZNAME:CDT
DTSTART:20220313T080000
END:DAYLIGHT
BEGIN:STANDARD
TZOFFSETFROM:-0500
TZOFFSETTO:-0600
TZNAME:CST
DTSTART:20221106T070000
END:STANDARD
BEGIN:DAYLIGHT
TZOFFSETFROM:-0600
TZOFFSETTO:-0500
TZNAME:CDT
DTSTART:20230312T080000
END:DAYLIGHT
BEGIN:STANDARD
TZOFFSETFROM:-0500
TZOFFSETTO:-0600
TZNAME:CST
DTSTART:20231105T070000
END:STANDARD
END:VTIMEZONE
BEGIN:VEVENT
DTSTART;TZID=America/Chicago:20221012T180000
DTEND;TZID=America/Chicago:20221012T183000
DTSTAMP:20260423T051508
CREATED:20220103T001404Z
LAST-MODIFIED:20220103T001514Z
UID:10000241-1665597600-1665599400@wisducks.org
SUMMARY:2022 Conservation Calendar Raffle Drawing
DESCRIPTION:
URL:https://wisducks.org/event/2022-conservation-calendar-raffle-drawing/2022-10-12/
LOCATION:Beaver Dam Conservationists Club\, W9554 County Road G\, Beaver Dam\, WI\, 53916\, United States
ORGANIZER;CN="Wisconsin Waterfowl Association":MAILTO:info@wisducks.org
GEO:43.450246;-88.876459
X-APPLE-STRUCTURED-LOCATION;VALUE=URI;X-ADDRESS=Beaver Dam Conservationists Club W9554 County Road G Beaver Dam WI 53916 United States;X-APPLE-RADIUS=500;X-TITLE=W9554 County Road G:geo:-88.876459,43.450246
END:VEVENT
BEGIN:VEVENT
DTSTART;TZID=America/Chicago:20221014T123000
DTEND;TZID=America/Chicago:20221014T130000
DTSTAMP:20260423T051508
CREATED:20220728T003433Z
LAST-MODIFIED:20221012T104939Z
UID:10000147-1665750600-1665752400@wisducks.org
SUMMARY:Drawing of Waukesha Chapter's Fall Habitat Raffle
DESCRIPTION:Join WWA’s Waukesha Chapter for the drawing of their Class A (need not be present to win*) Fall Habitat Raffle \nGrand Prize: Kimber Hero Custom II 45acp. (MSRP $1060!) \nSOLD OUT\n\nTickets just $20 each\, only 150 sold\nDrawing 12:30 pm\nNeed not be present to win*\n\n*Limited to Wisconsin residents only\, purchasers must have a valid Wisconsin address noted at checkout. Out of state orders without this will be refunded.\n\n\n\nTickets will be available for sale online until 6:00 am Friday\, October 14\, 2022 and are also currently available for sale at Tim’s Auto Parts. Any unsold tickets will be available at Tim’s on the 14th until the time of the drawing. \nClass A Raffle Details: \n\nIf winner not present he/she will be notified via information given on the winning ticket.  Winner will be posted in the News section of our website within 48 hours of the drawing or as soon as the winner is notified.\n\nThis drawing is conducted under the auspices of a Class A license holder with WWA.  100% of the proceeds will further WWA’s non-profit purposes in Wisconsin.\n*Purchasers must complete all contact information\, including a valid Wisconsin address. Purchasers must confirm this Wisconsin address at checkout. All out-of-state purchasers without a valid Wisconsin address noted at checkout will have their purchase(s) refunded in full.\nPurchasers must confirm willingness to accept delivery of tickets in digital form.\nPurchasers must pay electronically for the purchase of their tickets.\nPurchasers will then be provided: (1) At the time of purchase\, an electronic receipt acknowledging their purchase at the time of purchase; (2) shortly thereafter\, a digital version of the ticket(s)\, completed with the purchaser-provided contact information.  The physical raffle entry ticket will be hand-conveyed by to the location of the drawing in order to be drawn.\nEach drawing’s winning ticket(s) will be drawn in public\, and witnessed by a disinterested party.\nWWA will post all drawing winners on wisducks.org/news and each winner will be contacted through the information provided by the purchasers\, at which time the winners will be instructed on how to claim their winnings.\nPrize winners are responsible for all state/local and federal tax ramifications and prizes may not be awarded until tax implications have been addressed. Firearm prizes awardees must comply with all state and federal laws to claim the prize.
URL:https://wisducks.org/event/drawing-of-waukesha-chapters-fall-habitat-raffle/
LOCATION:Tims Auto Parts\, 502 East Wisconsin Avenue\, Oconomowoc\, WI\, 53066\, United States
ORGANIZER;CN="Mike Alaimo":MAILTO:malaimo73@gmail.com
GEO:43.1092334;-88.4931104
X-APPLE-STRUCTURED-LOCATION;VALUE=URI;X-ADDRESS=Tims Auto Parts 502 East Wisconsin Avenue Oconomowoc WI 53066 United States;X-APPLE-RADIUS=500;X-TITLE=502 East Wisconsin Avenue:geo:-88.4931104,43.1092334
END:VEVENT
BEGIN:VEVENT
DTSTART;TZID=America/Chicago:20221015T150000
DTEND;TZID=America/Chicago:20221015T170000
DTSTAMP:20260423T051508
CREATED:20220907T192349Z
LAST-MODIFIED:20220922T202306Z
UID:10000258-1665846000-1665853200@wisducks.org
SUMMARY:1st Annual Baraboo River Chapter Hunter's Bash
DESCRIPTION:FREE to Attend!\nJoin WWA’s Baraboo River Chapter for their 1st Annual Hunter’s Bash \n \nA fun party with raffles and amazing prizes \nFeaturing the drawing of our class A (need not be present to win*) Raffle \nGrand Prize: Henry Golden Boy 22 cal.  \nGolden Boy tickets just $10 each\, only 150 sold! Drawing 5:00 pm. Need not be present to win* \nPlus ½ a HOG RAFFLE and other Meat Raffles complements of Beck’s  \nAnd MUCH MORE!  \nHenry Golden Boy tickets will be available for sale online\, below\, until 5:00 am Friday\, October 14\, 2022 and are also currently available for sale at Thompson’s Fur Fin & Feather. Any unsold tickets will be available at Thompson’s on the 15th until the time of the drawing. *Limited to Wisconsin residents only\, purchasers must have a valid Wisconsin address noted at checkout. Out of state orders without this will be refunded. \nHenry Golden Boy Class A Raffle Details: \n\nIf winner not present he/she will be notified via information given on the winning ticket.  Winner will be posted in the News section of our website within 48 hours of the drawing or as soon as the winner is notified.\n\nThis drawing is conducted under the auspices of a Class A license holder with WWA.  100% of the proceeds will further WWA’s non-profit purposes in Wisconsin.\n*Purchasers must complete all contact information\, including a valid Wisconsin address. Purchasers must confirm this Wisconsin address at checkout. All out-of-state purchasers without a valid Wisconsin address noted at checkout will have their purchase(s) refunded in full.\nPurchasers must confirm willingness to accept delivery of tickets in digital form.\nPurchasers must pay electronically for the purchase of their tickets.\nPurchasers will then be provided: (1) At the time of purchase\, an electronic receipt acknowledging their purchase at the time of purchase; (2) shortly thereafter\, a digital version of the ticket(s)\, completed with the purchaser-provided contact information.  The physical raffle entry ticket will be hand-conveyed by to the location of the drawing in order to be drawn.\nEach drawing’s winning ticket(s) will be drawn in public\, and witnessed by a disinterested party.\nWWA will post all drawing winners on wisducks.org/news and each winner will be contacted through the information provided by the purchasers\, at which time the winners will be instructed on how to claim their winnings.\nPrize winners are responsible for all state/local and federal tax ramifications and prizes may not be awarded until tax implications have been addressed. Firearm prizes awardees must comply with all state and federal laws to claim the prize.
URL:https://wisducks.org/event/1st-annual-baraboo-river-chapter-hunters-bash/
LOCATION:Thompson’s Fur Fin & Feather\, 3602 County Road B\, Wisconsin Dells\, WI\, 53965\, United States
GEO:43.7306283;-89.7172684
X-APPLE-STRUCTURED-LOCATION;VALUE=URI;X-ADDRESS=Thompson’s Fur Fin & Feather 3602 County Road B Wisconsin Dells WI 53965 United States;X-APPLE-RADIUS=500;X-TITLE=3602 County Road B:geo:-89.7172684,43.7306283
END:VEVENT
END:VCALENDAR