BEGIN:VCALENDAR
VERSION:2.0
PRODID:-//Wisconsin Waterfowl Association - ECPv6.15.20//NONSGML v1.0//EN
CALSCALE:GREGORIAN
METHOD:PUBLISH
X-WR-CALNAME:Wisconsin Waterfowl Association
X-ORIGINAL-URL:https://wisducks.org
X-WR-CALDESC:Events for Wisconsin Waterfowl Association
REFRESH-INTERVAL;VALUE=DURATION:PT1H
X-Robots-Tag:noindex
X-PUBLISHED-TTL:PT1H
BEGIN:VTIMEZONE
TZID:America/Chicago
BEGIN:DAYLIGHT
TZOFFSETFROM:-0600
TZOFFSETTO:-0500
TZNAME:CDT
DTSTART:20220313T080000
END:DAYLIGHT
BEGIN:STANDARD
TZOFFSETFROM:-0500
TZOFFSETTO:-0600
TZNAME:CST
DTSTART:20221106T070000
END:STANDARD
BEGIN:DAYLIGHT
TZOFFSETFROM:-0600
TZOFFSETTO:-0500
TZNAME:CDT
DTSTART:20230312T080000
END:DAYLIGHT
BEGIN:STANDARD
TZOFFSETFROM:-0500
TZOFFSETTO:-0600
TZNAME:CST
DTSTART:20231105T070000
END:STANDARD
BEGIN:DAYLIGHT
TZOFFSETFROM:-0600
TZOFFSETTO:-0500
TZNAME:CDT
DTSTART:20240310T080000
END:DAYLIGHT
BEGIN:STANDARD
TZOFFSETFROM:-0500
TZOFFSETTO:-0600
TZNAME:CST
DTSTART:20241103T070000
END:STANDARD
END:VTIMEZONE
BEGIN:VEVENT
DTSTART;TZID=America/Chicago:20230412T180000
DTEND;TZID=America/Chicago:20230412T183000
DTSTAMP:20260423T154109
CREATED:20221212T164522Z
LAST-MODIFIED:20221212T164522Z
UID:10000268-1681322400-1681324200@wisducks.org
SUMMARY:2023 Conservation Calendar Raffle Drawing
DESCRIPTION:
URL:https://wisducks.org/event/2023-conservation-calendar-raffle-drawing/2023-04-12/
LOCATION:Beaver Dam Conservationists Club\, W9554 County Road G\, Beaver Dam\, WI\, 53916\, United States
ORGANIZER;CN="Wisconsin Waterfowl Association":MAILTO:info@wisducks.org
GEO:43.450246;-88.876459
X-APPLE-STRUCTURED-LOCATION;VALUE=URI;X-ADDRESS=Beaver Dam Conservationists Club W9554 County Road G Beaver Dam WI 53916 United States;X-APPLE-RADIUS=500;X-TITLE=W9554 County Road G:geo:-88.876459,43.450246
END:VEVENT
BEGIN:VEVENT
DTSTART;TZID=America/Chicago:20230415T120000
DTEND;TZID=America/Chicago:20230415T163000
DTSTAMP:20260423T154109
CREATED:20230316T002127Z
LAST-MODIFIED:20230327T200522Z
UID:10000154-1681560000-1681576200@wisducks.org
SUMMARY:South Suburban's Spring Bash at Witt's
DESCRIPTION:Join WWA’s South Suburban Chapter at Witt’s End for an afternoon of food\, drinks and raffles\n \nFeaturing a pig roast\, just $20 per plate  \nLimited to 100 attendees – purchase in advance to ensure you get your pig roast plate! \nMeat Raffles\, Shotgun Raffles\, Pistol Raffles & More! \nFeaturing the drawing of our FOUR Class A (need not be present to win*) Raffles: \nGlock Model 19 Raffle \n\nGrand Prize: Glock Model 19 Gen 3 9mm Pistol \n$10 per ticket\, only 150 tickets sold.\nRaffle drawing 4:00 p.m. at the Spring Bash at Witt’s End.\nNeed not be present to win\, ticket(s) must be picked up and completed in person in order to be entered into this drawing.*\n\nTaurus G2C Raffle \n\nGrand Prize: Taurus G2C 9mm Pistol \n$10 per ticket\, only 100 tickets sold.\nRaffle drawing 4:05 p.m. at the Spring Bash at Witt’s End.\nNeed not be present to win\, ticket(s) must be picked up and completed in person in order to be entered into this drawing.*\n\nCitadel Boss Raffle \n\nGrand Prize: Citadel Boss Home Security 12ga Shotgun \n$10 per ticket\, only 150 tickets sold.\nRaffle drawing 4:10 p.m. at the Spring Bash at Witt’s End.\nNeed not be present to win\, ticket(s) must be picked up and completed in person in order to be entered into this drawing.*\n\nSmith & Wesson Revolver Raffle \n\nGrand Prize: Smith & Wesson Airweight 38 Special Hammerless Revolver \n$10 per ticket\, only 150 tickets sold.\nRaffle drawing 4:15 p.m. at the Spring Bash at Witt’s End.\nNeed not be present to win\, ticket(s) must be picked up and completed in person in order to be entered into this drawing.*\n\n*Class A online sales limited to Wisconsin residents only\, purchasers must have a valid Wisconsin address noted at checkout. Out of state orders without this will be refunded. All purchases made after March 27\, 2023 at 3:00 PM CDT must also confirm willingness to pick up and complete ticket(s) in person in order to be entered into the drawing. View our full Class A raffle rules effective March 27\, 2023 at 3:00 PM CDT here. If the purchaser subsequently does not pick up and complete their ticket(s) prior to the time of the drawing\, the purchaser’s ticket(s) will not be entered into the drawing. If requested by the purchaser (in advance of the drawing)\, a refund of the ticket price will be provided.
URL:https://wisducks.org/event/south-suburbans-spring-bash-at-witts/
LOCATION:Witt’s End\, 11601 County Road G\, Caledonia\, WI\, 53108\, United States
GEO:42.8071507;-87.9270245
X-APPLE-STRUCTURED-LOCATION;VALUE=URI;X-ADDRESS=Witt’s End 11601 County Road G Caledonia WI 53108 United States;X-APPLE-RADIUS=500;X-TITLE=11601 County Road G:geo:-87.9270245,42.8071507
END:VEVENT
BEGIN:VEVENT
DTSTART;TZID=America/Chicago:20230420T173000
DTEND;TZID=America/Chicago:20230420T220000
DTSTAMP:20260423T154109
CREATED:20220922T191723Z
LAST-MODIFIED:20230327T201616Z
UID:10000257-1682011800-1682028000@wisducks.org
SUMMARY:39th Annual Waukesha County Chapter Banquet
DESCRIPTION:5:30pm: Doors Open/Cocktails – 7:00pm: Fresh Half Duck Plated Golden Mast Dinner  \nEVENT SOLD OUT. Contact Mike Alaimo with any inquiries.\nTicket packages still available for order online \nEvent Highlights: \n\nPremier Gun Board featuring an excellent mix of cutting edge firearms along with some of the classics\, featuring:\n\nBenelli SBE3 28ga Max 5  \nBeretta A300 Ultima 20 Ga  \nCZ Drake 12 Ga  \nFranchi Affinity 3.5 Max 5  \nSavage 301 Single Shot w/Red Dot 20 Ga  \nBrowning X-Bolt Long Range 6.5 PRC  \nVanguard First Lite Fusion 300 Win   \nHellcat w/Shield SMSC Red Dot    \nRuger Max-9 OR \n\nGun Board ticket pricing: 25 tickets for $75 or 50 tickets for $125\nGun board ticket packages must be purchased with an event ticket and winners must be present to win.\n\n\n\n\n\nTwo pre-event Class A (need not be present to win!*) raffles: \n\nSpring Benelli Habitat Raffle:\n\nGrand prize: Benelli SBE3 Camo 12/28/3.5\n\n$20 per ticket.\nLimited to 200 tickets.\nNeed not be present to win\, ticket(s) must be picked up and completed in person in order to be entered into this drawing.*\n\n\n\n\n\n\nSpring Beretta Pre-Event Raffle:\n\nGrand prize: Beretta A400 Xtreme Plus Camo KO 12/28/3.5\n\n$20 per ticket.\nLimited to 200 tickets.\nNeed not be present to win\, ticket(s) must be picked up and completed in person in order to be entered into this drawing.*\n\n\n\n\n\n\nSponsor Merchandise Bucket Raffles!\nDoor Prizes!!! Quality Guns and more  \nSherper’s Sponsored YOUTH RAFFLE\nTickets for Tickets Raffle\nRoberts’ Specialty Meats Meat & Freezer Raffle \nGames for Guns!  \nMystery Pistol Raffle\nMeat Walk Around Raffles\nNumerous Walk Around Gun Raffles…  \nLimited Edition Decoy Tables of Four!  2023 Ringneck \n\n*Guns subject to change to those of equal or greater value based on availability. We will maintain the same quality selection with any substitution.*   \nPurchase your banquet tickets securely online below or\, to pay by check\, download our printable mail-in registration form here. \n*Class A online sales limited to Wisconsin residents only\, purchasers must have a valid Wisconsin address noted at checkout. Out of state orders without this will be refunded. All purchases made after March 27\, 2023 at 3:00 PM CDT must also confirm willingness to pick up and complete ticket(s) in person in order to be entered into the drawing. View our full Class A raffle rules effective March 27\, 2023 at 3:00 PM CDT here. If the purchaser subsequently does not pick up and complete their ticket(s) prior to the time of the drawing\, the purchaser’s ticket(s) will not be entered into the drawing. If requested by the purchaser (in advance of the drawing)\, a refund of the ticket price will be provided.
URL:https://wisducks.org/event/39th-annual-waukesha-county-chapter-banquet/
LOCATION:Golden Mast Restaurant\, W349 N5293 Lacy’s Lane\, Okauchee\, WI\, 53069\, United States
ORGANIZER;CN="Mike Alaimo":MAILTO:malaimo73@gmail.com
GEO:43.1143598;-88.4395609
X-APPLE-STRUCTURED-LOCATION;VALUE=URI;X-ADDRESS=Golden Mast Restaurant W349 N5293 Lacy’s Lane Okauchee WI 53069 United States;X-APPLE-RADIUS=500;X-TITLE=W349 N5293 Lacy’s Lane:geo:-88.4395609,43.1143598
END:VEVENT
END:VCALENDAR