BEGIN:VCALENDAR
VERSION:2.0
PRODID:-//Wisconsin Waterfowl Association - ECPv6.15.20//NONSGML v1.0//EN
CALSCALE:GREGORIAN
METHOD:PUBLISH
X-WR-CALNAME:Wisconsin Waterfowl Association
X-ORIGINAL-URL:https://wisducks.org
X-WR-CALDESC:Events for Wisconsin Waterfowl Association
REFRESH-INTERVAL;VALUE=DURATION:PT1H
X-Robots-Tag:noindex
X-PUBLISHED-TTL:PT1H
BEGIN:VTIMEZONE
TZID:America/Chicago
BEGIN:DAYLIGHT
TZOFFSETFROM:-0600
TZOFFSETTO:-0500
TZNAME:CDT
DTSTART:20220313T080000
END:DAYLIGHT
BEGIN:STANDARD
TZOFFSETFROM:-0500
TZOFFSETTO:-0600
TZNAME:CST
DTSTART:20221106T070000
END:STANDARD
BEGIN:DAYLIGHT
TZOFFSETFROM:-0600
TZOFFSETTO:-0500
TZNAME:CDT
DTSTART:20230312T080000
END:DAYLIGHT
BEGIN:STANDARD
TZOFFSETFROM:-0500
TZOFFSETTO:-0600
TZNAME:CST
DTSTART:20231105T070000
END:STANDARD
BEGIN:DAYLIGHT
TZOFFSETFROM:-0600
TZOFFSETTO:-0500
TZNAME:CDT
DTSTART:20240310T080000
END:DAYLIGHT
BEGIN:STANDARD
TZOFFSETFROM:-0500
TZOFFSETTO:-0600
TZNAME:CST
DTSTART:20241103T070000
END:STANDARD
END:VTIMEZONE
BEGIN:VEVENT
DTSTART;TZID=America/Chicago:20230510T180000
DTEND;TZID=America/Chicago:20230510T183000
DTSTAMP:20260423T173019
CREATED:20221212T164522Z
LAST-MODIFIED:20221212T164522Z
UID:10000269-1683741600-1683743400@wisducks.org
SUMMARY:2023 Conservation Calendar Raffle Drawing
DESCRIPTION:
URL:https://wisducks.org/event/2023-conservation-calendar-raffle-drawing/2023-05-10/
LOCATION:Beaver Dam Conservationists Club\, W9554 County Road G\, Beaver Dam\, WI\, 53916\, United States
ORGANIZER;CN="Wisconsin Waterfowl Association":MAILTO:info@wisducks.org
GEO:43.450246;-88.876459
X-APPLE-STRUCTURED-LOCATION;VALUE=URI;X-ADDRESS=Beaver Dam Conservationists Club W9554 County Road G Beaver Dam WI 53916 United States;X-APPLE-RADIUS=500;X-TITLE=W9554 County Road G:geo:-88.876459,43.450246
END:VEVENT
BEGIN:VEVENT
DTSTART;TZID=America/Chicago:20230518T073000
DTEND;TZID=America/Chicago:20230518T160000
DTSTAMP:20260423T173019
CREATED:20230221T171326Z
LAST-MODIFIED:20230418T203002Z
UID:10000149-1684395000-1684425600@wisducks.org
SUMMARY:3rd Annual South Central Wisconsin Golf Outing Scramble
DESCRIPTION:May 18 Outing Canceled.\nOuting may be rescheduled for late summer/early fall 2023\, check our event calendar for details.\n7:30 a.m. Registration Begins \n9:00 a.m. Shotgun Start \n**Box lunch served on course**  \nHeavy apps & free beer post-golf \nImmediately Following Golf: Appetizers\, free beer\, raffles\, winners drawn from course games & bucket raffles\, walk-throughs\, awards presentation. \nAll Golfers receive 18 holes of golf with cart\, box lunch\, on-course raffles/games\, heavy appetizers and free beer after golf\, awards ceremony\, a one-year WWA membership & many chances to WIN LOTS of GREAT prizes!  \nPlus – The Gun Board: \n\nStoeger STR-9S Pistol \nAffinity 3.5 Waterfowl Elite \nBenelli SBE 3 12 Gauge 28” in Optifade Waterfowl Timber \n\nOnline registration available until March 16 at 4:30 PM CDT. To pay by check\, download our printable 2023 SC WI Outing Brochure.
URL:https://wisducks.org/event/3rd-annual-south-central-wisconsin-golf-outing-scramble/
LOCATION:Lake Windsor Country Club\, 4628 Golf Road\, Windsor\, WI\, 53598\, United States
ORGANIZER;CN="Scott Hamele":MAILTO:scott@plumbingplace.com
GEO:43.2072739;-89.3524458
X-APPLE-STRUCTURED-LOCATION;VALUE=URI;X-ADDRESS=Lake Windsor Country Club 4628 Golf Road Windsor WI 53598 United States;X-APPLE-RADIUS=500;X-TITLE=4628 Golf Road:geo:-89.3524458,43.2072739
END:VEVENT
BEGIN:VEVENT
DTSTART;TZID=America/Chicago:20230520T083000
DTEND;TZID=America/Chicago:20230520T150000
DTSTAMP:20260423T173019
CREATED:20221010T170912Z
LAST-MODIFIED:20230426T181457Z
UID:10000260-1684571400-1684594800@wisducks.org
SUMMARY:3rd Annual Valley Chapter Shoot
DESCRIPTION:50 Round Special Sporting Clays Shoot\nJust $30/round adults and $25/youth (under 17) \nRegistration begins at 8:30 a.m. \nShooting: 9:00 a.m. – 3:00 p.m. (last group out at 2:00 p.m.) \n**Food & beverages available following your round** \nEvery shooter will also receive one entry into the door prize drawing. \nA $50 Scheels Gift Card will be drawn for every 35 registered shooters! \nFeaturing LOTS of Raffles\, Shooters Prizes\, Lucky Duck Teal Package\, Deer Stand & Booze Raffles and MORE! \n*Shooters Bonus Raffle**   \n\nRuger Wrangler Burnt Bronze 22lr Revolver\nEarn a revolver bonus raffle ticket for every $20 Shooter’s Ticket and/or Wingspan of Bucket Raffle ticket purchase.\n\nPlus\, 1/2 HOG RAFFLE (processed) with Cooler \nAND other delicious meat raffles compliments of Beck’s  \nAlso featuring the drawing of our Shoot pre-event (need not be present to win*)\, class A raffles: \nWeatherby Raffle – Grand Prize: Weatherby Orion I Shotgun – 12ga 3″ – 28″ Barrel  \n\nTickets $10 each\, only 300 sold\nDrawing 3:00 p.m.\nNeed not be present to win\, ticket(s) must be picked up and completed in person in order to be entered into this drawing.*\n\nKaravan Trailer Raffle – Grand Prize: Karavan 6’x10′ Gray Trailer \n\nTickets $10 each\, only 200 sold – SOLD OUT ONLINE. Limited quantity of tickets will be available at Shoot.\nDrawing 3:00 p.m.\nNeed not be present to win\, ticket(s) must be picked up and completed in person in order to be entered into this drawing.*\n\n*Class A online sales limited to Wisconsin residents only\, purchasers must have a valid Wisconsin address noted at checkout. Out of state orders without this will be refunded. All purchases made after March 27\, 2023 at 3:00 PM CDT must also confirm willingness to pick up and complete ticket(s) in person in order to be entered into the drawing. View our full Class A raffle rules effective March 27\, 2023 at 3:00 PM CDT here. If the purchaser subsequently does not pick up and complete their ticket(s) prior to the time of the drawing\, the purchaser’s ticket(s) will not be entered into the drawing. If requested by the purchaser (in advance of the drawing)\, a refund of the ticket price will be provided. \nPurchase your Shoot tickets securely online\, below. Online registration will be available until 4:30 p.m. May 19th. \n**Shoot will be held rain or shine**
URL:https://wisducks.org/event/3rd-annual-valley-chapter-shoot/
LOCATION:Twin City Rod & Gun Club\, W7832 Winnegamie Drive\, Neenah\, WI\, 54956\, United States
ORGANIZER;CN="Brad Miller":MAILTO:millbunch0311@gmail.com
GEO:44.245589;-88.5840299
X-APPLE-STRUCTURED-LOCATION;VALUE=URI;X-ADDRESS=Twin City Rod & Gun Club W7832 Winnegamie Drive Neenah WI 54956 United States;X-APPLE-RADIUS=500;X-TITLE=W7832 Winnegamie Drive:geo:-88.5840299,44.245589
END:VEVENT
BEGIN:VEVENT
DTSTART;TZID=America/Chicago:20230523T110000
DTEND;TZID=America/Chicago:20230523T180000
DTSTAMP:20260423T173019
CREATED:20221017T180950Z
LAST-MODIFIED:20230327T201855Z
UID:10000261-1684839600-1684864800@wisducks.org
SUMMARY:11th Annual Southeast Wisconsin Golf Outing Scramble
DESCRIPTION:Presented by \n11:00 a.m. Registration Begins – 12:00 noon Shotgun Start \n**Box Lunch Provided**\n \nImmediately Following Golf: Drinks\, raffles\, winners drawn from course games & bucket raffles. Plus\, “Mexican Fiesta”  buffet dinner with fajitas\, burritos\, tacos\, and more! \nAll Golfers receive 18 holes of golf with cart\, box lunch\, on-course raffles/games\, complementary refreshments\, delicious buffet dinner\, awards ceremony\, a one-year WWA membership & many chances to WIN LOTS of GREAT prizes\, including our BIG FOUR on-course prizes! \nBucket raffles with amazing prizes \nPurchase a $100 “wingspan” of 40 bucket raffle tickets and receive a bonus ticket for each wingspan purchased that will be entered into the drawing for a pistol! (pistol will be drawn after dinner) \nAnd\, featuring our SE WI Outing Class A (need not be present to win*) raffle: \n\nGrand Prize: Glock 20 10mm Tiger Stripe Camo\n \n\n$10 per ticket\, only 250 tickets sold.\nRaffle drawing 4:00 p.m. at the Outing at Ironwood Golf Course.\nNeed not be present to win\, ticket(s) must be picked up and completed in person in order to be entered into this drawing.*\n\n*Class A online sales limited to Wisconsin residents only\, purchasers must have a valid Wisconsin address noted at checkout. Out of state orders without this will be refunded. All purchases made after March 27\, 2023 at 3:00 PM CDT must also confirm willingness to pick up and complete ticket(s) in person in order to be entered into the drawing. View our full Class A raffle rules effective March 27\, 2023 at 3:00 PM CDT here. If the purchaser subsequently does not pick up and complete their ticket(s) prior to the time of the drawing\, the purchaser’s ticket(s) will not be entered into the drawing. If requested by the purchaser (in advance of the drawing)\, a refund of the ticket price will be provided.\n\n\n\n\n\n\n\n\nGet your Outing tickets securely online\, below\, or to pay by check download our printable mail-in 2023 SE WI Outing Brochure . Plus\, if you’re one of the first twelve foursomes to sign up you’ll be entered into our infamous cash raffle to win $250! 
URL:https://wisducks.org/event/11th-annual-southeast-wisconsin-golf-outing-scramble/
LOCATION:Ironwood Golf Course\, W270 N6166 Moraine Drive\, Sussex\, WI\, 53089\, United States
ORGANIZER;CN="Wisconsin Waterfowl Association":MAILTO:info@wisducks.org
GEO:43.1307538;-88.28523
X-APPLE-STRUCTURED-LOCATION;VALUE=URI;X-ADDRESS=Ironwood Golf Course W270 N6166 Moraine Drive Sussex WI 53089 United States;X-APPLE-RADIUS=500;X-TITLE=W270 N6166 Moraine Drive:geo:-88.28523,43.1307538
END:VEVENT
BEGIN:VEVENT
DTSTART;TZID=America/Chicago:20230527T160000
DTEND;TZID=America/Chicago:20230527T163000
DTSTAMP:20260423T173019
CREATED:20230105T175838Z
LAST-MODIFIED:20230327T201941Z
UID:10000280-1685203200-1685205000@wisducks.org
SUMMARY:Drawing of Nicolet Chapter's 6-Prize Spring Habitat Raffle
DESCRIPTION:Join WWA’s Nicolet Chapter for the drawing of their Class A (need not be present to win*) Spring Habitat Raffle \n\n1st Prize: Ten Point Titan Crossbow \n2nd Prize: Henry 45-70 rifle with brass receiver and octagon barrel  \n3rd Prize: Winchester SX4 Hybrid Hunter Max5 12 gauge shotgun \n4th Prize: Sports Afield Denali 32 gun fireproof/waterproof safe \n5th Prize: CZ Drake O/U 20 gauge shotgun \n6th Prize: Pheasant Hunt at Heritage Hunt Club in Laona\, WI ( for 4 people and includes a round of sporting clays and 24 pheasants) \nTickets just $10 each\, 1000 sold\n\nDrawing 4:00 pm\nNeed not be present to win\, ticket(s) must be picked up and completed in person in order to be entered into this drawing.*\n\n*Class A online sales limited to Wisconsin residents only\, purchasers must have a valid Wisconsin address noted at checkout. Out of state orders without this will be refunded. All purchases made after March 27\, 2023 at 3:00 PM CDT must also confirm willingness to pick up and complete ticket(s) in person in order to be entered into the drawing. View our full Class A raffle rules effective March 27\, 2023 at 3:00 PM CDT here. If the purchaser subsequently does not pick up and complete their ticket(s) prior to the time of the drawing\, the purchaser’s ticket(s) will not be entered into the drawing. If requested by the purchaser (in advance of the drawing)\, a refund of the ticket price will be provided.\n\n\n\n\n\nTickets will be available for sale online until 12:00 noon Thursday\, May 25\, 2023 and are also currently available for sale through the Nicolet Chapter – contact the chapter directly for sales locations. Any unsold tickets will be available at Dunbar Sportsmen’s Club on the 27th until the time of the drawing.
URL:https://wisducks.org/event/drawing-of-nicolet-chapters-6-prize-spring-habitat-raffle/
LOCATION:Dunbar Sportsmen’s Club\, Airport Road\, Dunbar\, WI\, 54119\, United States
GEO:45.6509145;-88.1784337
X-APPLE-STRUCTURED-LOCATION;VALUE=URI;X-ADDRESS=Dunbar Sportsmen’s Club Airport Road Dunbar WI 54119 United States;X-APPLE-RADIUS=500;X-TITLE=Airport Road:geo:-88.1784337,45.6509145
END:VEVENT
END:VCALENDAR