BEGIN:VCALENDAR
VERSION:2.0
PRODID:-//Wisconsin Waterfowl Association - ECPv6.15.20//NONSGML v1.0//EN
CALSCALE:GREGORIAN
METHOD:PUBLISH
X-WR-CALNAME:Wisconsin Waterfowl Association
X-ORIGINAL-URL:https://wisducks.org
X-WR-CALDESC:Events for Wisconsin Waterfowl Association
REFRESH-INTERVAL;VALUE=DURATION:PT1H
X-Robots-Tag:noindex
X-PUBLISHED-TTL:PT1H
BEGIN:VTIMEZONE
TZID:America/Chicago
BEGIN:DAYLIGHT
TZOFFSETFROM:-0600
TZOFFSETTO:-0500
TZNAME:CDT
DTSTART:20220313T080000
END:DAYLIGHT
BEGIN:STANDARD
TZOFFSETFROM:-0500
TZOFFSETTO:-0600
TZNAME:CST
DTSTART:20221106T070000
END:STANDARD
BEGIN:DAYLIGHT
TZOFFSETFROM:-0600
TZOFFSETTO:-0500
TZNAME:CDT
DTSTART:20230312T080000
END:DAYLIGHT
BEGIN:STANDARD
TZOFFSETFROM:-0500
TZOFFSETTO:-0600
TZNAME:CST
DTSTART:20231105T070000
END:STANDARD
BEGIN:DAYLIGHT
TZOFFSETFROM:-0600
TZOFFSETTO:-0500
TZNAME:CDT
DTSTART:20240310T080000
END:DAYLIGHT
BEGIN:STANDARD
TZOFFSETFROM:-0500
TZOFFSETTO:-0600
TZNAME:CST
DTSTART:20241103T070000
END:STANDARD
END:VTIMEZONE
BEGIN:VEVENT
DTSTART;TZID=America/Chicago:20230801T180000
DTEND;TZID=America/Chicago:20230801T210000
DTSTAMP:20260423T230001
CREATED:20230411T193159Z
LAST-MODIFIED:20230515T213934Z
UID:10000158-1690912800-1690923600@wisducks.org
SUMMARY:WWA's Night with the DockHounds
DESCRIPTION:Join WWA’s Waukesha Chapter at their\nFirst Annual Night with the DockHounds\n \nCome out to watch the Lake Country DockHounds take on their biggest rival\, the Milwaukee Milkmen and support WWA at the same time! \nTickets just $35 and with your ticket bought through this link\, you will have a $10 food and drink voucher preloaded onto your ticket. These vouchers can be used at any of the concession stands around the ballpark. \nYour ticket also gets you a $10 donation/annual membership to WWA. All of the money raised with that $10 membership will go to support Wisconsin Waterfowl Association. \nGet your game tickets here!\nPlus\, we’ll be drawing our Class A (need not be present to win) Summer Habitat Raffle that night at the stadium! \n\nGrand prize: Gift certificates from the following WWA sponsors – $1000 in local gift cards\, winner takes all! \n\n$200 Sherpers\n$200 Tim’s Auto Parts\n$200 Dan Johnson Taxidermy\n$200 Lake & Country Tire\n$200 Roberts’ Specialty Meats\n\nTickets just $20 each\, only 150 sold\nGet your tickets in advance by contacting the chapter directly or buying them in person at Sherpers (Oconomowoc location)\, Tim’s Auto Parts\, Dan Johnson Taxidermy or Lake & Country Tire
URL:https://wisducks.org/event/wwas-night-with-the-dockhounds/
LOCATION:Wisconsin Brewing Company Park\, 1011 Blue Ribbon Circle N\, Oconomowoc\, WI\, 53066\, United States
ORGANIZER;CN="Mike Alaimo":MAILTO:malaimo73@gmail.com
GEO:43.0668278;-88.4751479
X-APPLE-STRUCTURED-LOCATION;VALUE=URI;X-ADDRESS=Wisconsin Brewing Company Park 1011 Blue Ribbon Circle N Oconomowoc WI 53066 United States;X-APPLE-RADIUS=500;X-TITLE=1011 Blue Ribbon Circle N:geo:-88.4751479,43.0668278
END:VEVENT
BEGIN:VEVENT
DTSTART;TZID=America/Chicago:20230809T180000
DTEND;TZID=America/Chicago:20230809T183000
DTSTAMP:20260423T230001
CREATED:20221212T164522Z
LAST-MODIFIED:20221212T164522Z
UID:10000272-1691604000-1691605800@wisducks.org
SUMMARY:2023 Conservation Calendar Raffle Drawing
DESCRIPTION:
URL:https://wisducks.org/event/2023-conservation-calendar-raffle-drawing/2023-08-09/
LOCATION:Beaver Dam Conservationists Club\, W9554 County Road G\, Beaver Dam\, WI\, 53916\, United States
ORGANIZER;CN="Wisconsin Waterfowl Association":MAILTO:info@wisducks.org
GEO:43.450246;-88.876459
X-APPLE-STRUCTURED-LOCATION;VALUE=URI;X-ADDRESS=Beaver Dam Conservationists Club W9554 County Road G Beaver Dam WI 53916 United States;X-APPLE-RADIUS=500;X-TITLE=W9554 County Road G:geo:-88.876459,43.450246
END:VEVENT
BEGIN:VEVENT
DTSTART;TZID=America/Chicago:20230819T083000
DTEND;TZID=America/Chicago:20230819T153000
DTSTAMP:20260423T230001
CREATED:20230308T133427Z
LAST-MODIFIED:20230808T201719Z
UID:10000151-1692433800-1692459000@wisducks.org
SUMMARY:24th Annual WWA State Shoot
DESCRIPTION:A special “Duck Hunt” Sporting Clays Shoot to benefit WWA\nSponsored by Daniel A. Manesis Transportation   \n \n$50 entry fee includes (1) Round of 50 Waterfowl Themed Sporting Clays\, (1) Shooters Raffle Ticket for every target you break\, (1) Entry into the Grand Door Prize drawing AND a 1-Year WWA Membership. Only $40 with a valid Military ID – ID verification will be done at shoot check-in. Youth ages 16 and under shoot for only $30! \nSponsor the Shoot for just $275 – includes five tickets for each bird broken\, one 3-bird Wern Valley Pheasant hunt\, three tickets for the grand door prize drawing\, one-year WWA sponsor membership and a 2023 sponsor gift of engraved Browning knife. \nAmmo will be available for shooters to purchase.\nDay-of registration & check-in begins at 8:30 am\n \nShooting: 9:00 am – 3:00 pm\, last shooters out at 2:15 pm\n \nRaffles Drawn 3:00 – 3:30 pm \n$30 Re-Shoots ($20 Youth) available day-of (also includes 1 Shooter’s Raffle ticket for each target broken and 1 additional Grand Door Prize entry) \nPlease note: Shoot will be held rain or shine. \nBring your pumps & semi-autos – three shells allowed. \nPlease note: In an effort to minimize bottlenecking\, the 2023 State Shoot will be a “run what you bring” event with no gun swapping allowed at stations. Thank you for your understanding. \nLimited to 150 shooters \nPurchase your Shoot tickets securely online\, below. Online registration will be available until 4:30 p.m. August 18th. Day-of registration begins at 8:30 a.m. at Wern.
URL:https://wisducks.org/event/24th-annual-wwa-state-shoot/
LOCATION:Wern Valley Sportsmen’s Club\, S36 W29657 Wern Way\, Waukesha\, WI\, 53189\, United States
ORGANIZER;CN="Tom Faber":MAILTO:westallis.wisducks@gmail.com
GEO:42.9768169;-88.348355
X-APPLE-STRUCTURED-LOCATION;VALUE=URI;X-ADDRESS=Wern Valley Sportsmen’s Club S36 W29657 Wern Way Waukesha WI 53189 United States;X-APPLE-RADIUS=500;X-TITLE=S36 W29657 Wern Way:geo:-88.348355,42.9768169
END:VEVENT
BEGIN:VEVENT
DTSTART;TZID=America/Chicago:20230824T170000
DTEND;TZID=America/Chicago:20230824T220000
DTSTAMP:20260423T230001
CREATED:20230622T192817Z
LAST-MODIFIED:20230811T154020Z
UID:10000286-1692896400-1692914400@wisducks.org
SUMMARY:14th Annual Midland Wings/West Bend Chapter Banquet
DESCRIPTION:Featuring amazing gun boards\, high quality raffle items\, prizes\, games and more! \n5:00 pm – Doors Open. 6:30 pm – Prime Rib & Poor Man’s Lobster Dinner \nOnline registration now open! \nFeaturing gun boards with high-quality guns\, including: \n\nBenelli SBE Optifade \nS&W M&P FPC Folding Stock 9mm Rifle \nPSA Dagger FDE Pistol w/ Vortex Optic \nG47 G5 9mm 17+1 4.49″ MOS FS\, 3 Mags \nRuger American Predator 6mm Creedmoor 22″ Moss Green \nBrowning Maxus II MOSGH 12/28/3 \n\nGames – Including Pluck-A-Duck & Plinko \nVortex Optics  \nTactacam – rep will be at the banquet!  \nHunts \nFishing Trips \nBooze Baskets  \nGift Certificates for Schwai’s Meats  \nPower Tools \n& More! \nPlus\, our CZ Drake Gun raffle:  \n\nGrand Prize – CZ Drake All Terrain 20 ga. green cerakote finish with walnut stock \n\nTickets just $10 each. Limited quantity available!\nMust be present to win\n\n\n\nPurchase your banquet tickets securely online\, below. Online registration available through August 23rd at 4:30pm. To pay by check\, download our printable mail-in registration flyer here.
URL:https://wisducks.org/event/14th-annual-midland-wings-west-bend-chapter-banquet/
LOCATION:The Columbian\, 3245 Lighthouse Lane\, West Bend\, WI\, 53090\, United States
ORGANIZER;CN="Ryan Mueller":MAILTO:gooseman003@gmail.com
GEO:43.454898;-88.198717
X-APPLE-STRUCTURED-LOCATION;VALUE=URI;X-ADDRESS=The Columbian 3245 Lighthouse Lane West Bend WI 53090 United States;X-APPLE-RADIUS=500;X-TITLE=3245 Lighthouse Lane:geo:-88.198717,43.454898
END:VEVENT
BEGIN:VEVENT
DTSTART;TZID=America/Chicago:20230825T120000
DTEND;TZID=America/Chicago:20230825T170000
DTSTAMP:20260423T230001
CREATED:20230404T211501Z
LAST-MODIFIED:20230404T211501Z
UID:10000156-1692964800-1692982800@wisducks.org
SUMMARY:5th Annual Decoy Carving Contest
DESCRIPTION:Join us August 25th – 26th for our 5th Annual Decoy Carving Contest & Exhibition\nSchedule of events: \n\nFriday\, August 25th – 12:00 noon until 5:00 pm for carver walk-ins\nSaturday\, August 26th – 12:00 noon until 5:00 pm for judging and viewing.\n\nPlease click on the following buttons for information on how to submit a decoy\, get more involved and other contest logistics: \n[row]\n[column lg=”4″ md=”12″ sm=”12″ xs=”12″ ]I Want To Enter A Decoy \n[/column][column lg=”4″ md=”12″ sm=”12″ xs=”12″ ]Learn More and Get Involved \n[/column]\n[column lg=”4″ md=”12″ sm=”12″ xs=”12″ ]Vendor/Exhibitor Information \n[/column]\n[column lg=”4″ md=”12″ sm=”12″ xs=”12″ ]Hotels/Lodging \n[/column]\n[row]\n  \n \nWildfowl Carving Magazine\, the ONLY magazine for bird carvers\, prints four collectible issues per year that are stuffed with patterns to bring to your workbench\, step-by-step carving demonstrations\, painting tutorials\, inspiration for both decoratives and decoys\, reference articles\, carver profiles\, and so much more. Learn from our community of experts as they demonstrate the tips and techniques that the world’s best wildfowl carvers use to create award-winning work. Dazzle your friends with your artwork\, attract ducks to your blind with hand-made decoys\, or create thoughtful gifts that last a lifetime. From waterfowl to raptors\, songbirds\, and more\, you will be inspired by our talented community of carvers and wildfowl enthusiasts. \nWant to see the patterns\, tips\, and inspiration for yourself? Save 42% off the bookstore price with a one-year introductory subscription to Wildfowl Carving Magazine by clicking here.
URL:https://wisducks.org/event/5th-annual-decoy-carving-contest/2023-08-25/
LOCATION:Sunnyview Expo Center\, 500 E. County Road Y\, Oshkosh\, WI\, 54901\, United States
GEO:44.0833447;-88.5321119
X-APPLE-STRUCTURED-LOCATION;VALUE=URI;X-ADDRESS=Sunnyview Expo Center 500 E. County Road Y Oshkosh WI 54901 United States;X-APPLE-RADIUS=500;X-TITLE=500 E. County Road Y:geo:-88.5321119,44.0833447
END:VEVENT
BEGIN:VEVENT
DTSTART;TZID=America/Chicago:20230826T090000
DTEND;TZID=America/Chicago:20230826T140000
DTSTAMP:20260423T230001
CREATED:20230221T161224Z
LAST-MODIFIED:20230809T173517Z
UID:10000283-1693040400-1693058400@wisducks.org
SUMMARY:2023 WI Duck & Goose Calling Championships
DESCRIPTION:Contest location will be to the west of the main Expo building. \nOnline pre-registration open through 4:00 pm Friday August 25th \nDay of Registration: 9:00 am – 10:00 am for adult contests. 9:00 am – noon for youth & intermediate \nAdult Duck Contest will begin at 10am in the tent\, followed by Adult Goose\, Youth and Intermediate. \nPresented by:\nAdults just $25 to participate (only $40 if you sign up for both Adult Duck and Adult Goose). \nYouth and Intermediate Callers participate for free! Note: no online pre-registration required\, check-in and register day-of. \nIntermediate ages 12-17\, Youth ages 11 and under. \n*The Winner of the Adult Duck Calling Competition will go on to represent Wisconsin at the World’s Championship Duck Calling Contest in Stuttgart\, Arkansas. \nNote: Contest open to Wisconsin residents only\, all entrants must show valid proof of Wisconsin residency at registration
URL:https://wisducks.org/event/2023-wi-duck-goose-calling-championships/
LOCATION:Sunnyview Expo Center\, 500 E. County Road Y\, Oshkosh\, WI\, 54901\, United States
ORGANIZER;CN="Wisconsin Waterfowl Association":MAILTO:info@wisducks.org
GEO:44.0833447;-88.5321119
X-APPLE-STRUCTURED-LOCATION;VALUE=URI;X-ADDRESS=Sunnyview Expo Center 500 E. County Road Y Oshkosh WI 54901 United States;X-APPLE-RADIUS=500;X-TITLE=500 E. County Road Y:geo:-88.5321119,44.0833447
END:VEVENT
BEGIN:VEVENT
DTSTART;TZID=America/Chicago:20230826T120000
DTEND;TZID=America/Chicago:20230826T170000
DTSTAMP:20260423T230001
CREATED:20230404T211501Z
LAST-MODIFIED:20230404T211501Z
UID:10000157-1693051200-1693069200@wisducks.org
SUMMARY:5th Annual Decoy Carving Contest
DESCRIPTION:Join us August 25th – 26th for our 5th Annual Decoy Carving Contest & Exhibition\nSchedule of events: \n\nFriday\, August 25th – 12:00 noon until 5:00 pm for carver walk-ins\nSaturday\, August 26th – 12:00 noon until 5:00 pm for judging and viewing.\n\nPlease click on the following buttons for information on how to submit a decoy\, get more involved and other contest logistics: \n[row]\n[column lg=”4″ md=”12″ sm=”12″ xs=”12″ ]I Want To Enter A Decoy \n[/column][column lg=”4″ md=”12″ sm=”12″ xs=”12″ ]Learn More and Get Involved \n[/column]\n[column lg=”4″ md=”12″ sm=”12″ xs=”12″ ]Vendor/Exhibitor Information \n[/column]\n[column lg=”4″ md=”12″ sm=”12″ xs=”12″ ]Hotels/Lodging \n[/column]\n[row]\n  \n \nWildfowl Carving Magazine\, the ONLY magazine for bird carvers\, prints four collectible issues per year that are stuffed with patterns to bring to your workbench\, step-by-step carving demonstrations\, painting tutorials\, inspiration for both decoratives and decoys\, reference articles\, carver profiles\, and so much more. Learn from our community of experts as they demonstrate the tips and techniques that the world’s best wildfowl carvers use to create award-winning work. Dazzle your friends with your artwork\, attract ducks to your blind with hand-made decoys\, or create thoughtful gifts that last a lifetime. From waterfowl to raptors\, songbirds\, and more\, you will be inspired by our talented community of carvers and wildfowl enthusiasts. \nWant to see the patterns\, tips\, and inspiration for yourself? Save 42% off the bookstore price with a one-year introductory subscription to Wildfowl Carving Magazine by clicking here.
URL:https://wisducks.org/event/5th-annual-decoy-carving-contest/2023-08-26/
LOCATION:Sunnyview Expo Center\, 500 E. County Road Y\, Oshkosh\, WI\, 54901\, United States
GEO:44.0833447;-88.5321119
X-APPLE-STRUCTURED-LOCATION;VALUE=URI;X-ADDRESS=Sunnyview Expo Center 500 E. County Road Y Oshkosh WI 54901 United States;X-APPLE-RADIUS=500;X-TITLE=500 E. County Road Y:geo:-88.5321119,44.0833447
END:VEVENT
BEGIN:VEVENT
DTSTART;TZID=America/Chicago:20230827T110000
DTEND;TZID=America/Chicago:20230827T150000
DTSTAMP:20260423T230001
CREATED:20230706T193123Z
LAST-MODIFIED:20230815T195542Z
UID:10000288-1693134000-1693148400@wisducks.org
SUMMARY:2023 Hunter's Eve Bash
DESCRIPTION:Join WWA at our 8th Annual Hunter’s Eve Bash\nJust $35 to attend\, includes food & free beer or soda\, entry into the grand door prize drawing and 1-year WWA membership. \nLoaded Baked Potato Bar & Beer \nGun Board: \n\nFranchi Affinity \nWeatherby Element \nVortex Viper 10×50 HD \nWinchester SXP 20ga Camo \n\nPLUS: Plinko Game to Win Vortex Optics\, Other Games\, Walk-Thru’s & More! \nSponsor the Bash & you’ll be entered into a drawing for a $100 gift voucher from Dakota Moreau Aerial for an aerial photo + print in the size of the winner’s choice! \nAND: Featuring the drawing of our Hunter’s Eve Bash Class A* Raffle: \n \nPurchase your Bash event tickets securely online\, below. Pre-event tickets will be available online until 4:30 p.m. Saturday August 26th. To pay by check please download our printable registration flyer 2023 Bash Flyer \n*Class A online sales limited to Wisconsin residents only\, purchasers must have a valid Wisconsin address noted at checkout. Out of state orders without this will be refunded. All purchasers must also confirm willingness to pick up and complete ticket(s) in person in order to be entered into the drawing. View our full Class A raffle rules effective March 27\, 2023 at 3:00 PM CDT here. If the purchaser subsequently does not pick up and complete their ticket(s) prior to the time of the drawing\, per WI Division of Gaming guidance\, the purchaser’s ticket(s) will not be entered into the drawing. If requested by the purchaser (in advance of the drawing)\, a refund of the ticket price will be provided; it will otherwise be treated as a donation to WWA.
URL:https://wisducks.org/event/2023-hunters-eve-bash/
LOCATION:Beaver Dam Conservationists Club\, W9554 County Road G\, Beaver Dam\, WI\, 53916\, United States
ORGANIZER;CN="Rob Monette":MAILTO:rmonette@wisducks.org
GEO:43.450246;-88.876459
X-APPLE-STRUCTURED-LOCATION;VALUE=URI;X-ADDRESS=Beaver Dam Conservationists Club W9554 County Road G Beaver Dam WI 53916 United States;X-APPLE-RADIUS=500;X-TITLE=W9554 County Road G:geo:-88.876459,43.450246
END:VEVENT
END:VCALENDAR