BEGIN:VCALENDAR
VERSION:2.0
PRODID:-//Wisconsin Waterfowl Association - ECPv6.15.20//NONSGML v1.0//EN
CALSCALE:GREGORIAN
METHOD:PUBLISH
X-ORIGINAL-URL:https://wisducks.org
X-WR-CALDESC:Events for Wisconsin Waterfowl Association
REFRESH-INTERVAL;VALUE=DURATION:PT1H
X-Robots-Tag:noindex
X-PUBLISHED-TTL:PT1H
BEGIN:VTIMEZONE
TZID:America/Chicago
BEGIN:DAYLIGHT
TZOFFSETFROM:-0600
TZOFFSETTO:-0500
TZNAME:CDT
DTSTART:20220313T080000
END:DAYLIGHT
BEGIN:STANDARD
TZOFFSETFROM:-0500
TZOFFSETTO:-0600
TZNAME:CST
DTSTART:20221106T070000
END:STANDARD
BEGIN:DAYLIGHT
TZOFFSETFROM:-0600
TZOFFSETTO:-0500
TZNAME:CDT
DTSTART:20230312T080000
END:DAYLIGHT
BEGIN:STANDARD
TZOFFSETFROM:-0500
TZOFFSETTO:-0600
TZNAME:CST
DTSTART:20231105T070000
END:STANDARD
BEGIN:DAYLIGHT
TZOFFSETFROM:-0600
TZOFFSETTO:-0500
TZNAME:CDT
DTSTART:20240310T080000
END:DAYLIGHT
BEGIN:STANDARD
TZOFFSETFROM:-0500
TZOFFSETTO:-0600
TZNAME:CST
DTSTART:20241103T070000
END:STANDARD
END:VTIMEZONE
BEGIN:VEVENT
DTSTART;TZID=America/Chicago:20230910T120000
DTEND;TZID=America/Chicago:20230910T160000
DTSTAMP:20260424T004935
CREATED:20230626T192708Z
LAST-MODIFIED:20230717T144346Z
UID:10000287-1694347200-1694361600@wisducks.org
SUMMARY:1st Annual Miniature Golf Tournament
DESCRIPTION:
URL:https://wisducks.org/event/1st-annual-miniature-golf-tournament/
LOCATION:Braun’s Deer Run Golf Course\, 912 Fairway Dr\, Brillion\, WI\, 54110\, United States
GEO:44.163863;-88.0724027
X-APPLE-STRUCTURED-LOCATION;VALUE=URI;X-ADDRESS=Braun’s Deer Run Golf Course 912 Fairway Dr Brillion WI 54110 United States;X-APPLE-RADIUS=500;X-TITLE=912 Fairway Dr:geo:-88.0724027,44.163863
END:VEVENT
BEGIN:VEVENT
DTSTART;TZID=America/Chicago:20230913T180000
DTEND;TZID=America/Chicago:20230913T183000
DTSTAMP:20260424T004935
CREATED:20221212T164522Z
LAST-MODIFIED:20221212T164522Z
UID:10000273-1694628000-1694629800@wisducks.org
SUMMARY:2023 Conservation Calendar Raffle Drawing
DESCRIPTION:
URL:https://wisducks.org/event/2023-conservation-calendar-raffle-drawing/2023-09-13/
LOCATION:Beaver Dam Conservationists Club\, W9554 County Road G\, Beaver Dam\, WI\, 53916\, United States
ORGANIZER;CN="Wisconsin Waterfowl Association":MAILTO:info@wisducks.org
GEO:43.450246;-88.876459
X-APPLE-STRUCTURED-LOCATION;VALUE=URI;X-ADDRESS=Beaver Dam Conservationists Club W9554 County Road G Beaver Dam WI 53916 United States;X-APPLE-RADIUS=500;X-TITLE=W9554 County Road G:geo:-88.876459,43.450246
END:VEVENT
BEGIN:VEVENT
DTSTART;TZID=America/Chicago:20230921T173000
DTEND;TZID=America/Chicago:20230921T210000
DTSTAMP:20260424T004935
CREATED:20230531T151057Z
LAST-MODIFIED:20230825T160614Z
UID:10000284-1695317400-1695330000@wisducks.org
SUMMARY:27th Annual West Allis Chapter Banquet
DESCRIPTION:Featuring amazing gun boards\, high quality raffle items\, prizes\, games and more! \n4:30 pm Cocktails – 6:00 pm Dinner \nJoin us for cocktail hour starting at 4:30pm with FREE Miller Light (sponsored by Custom Tackle Tying)\, cash bar and a delicious Italian Buffet starting at 6pm. Class A Raffle drawings begin at 7pm. \nDinner includes: Italian meatballs and chicken breast strips\, penne pasta with marinara and alfredo sauce\, assorted pizza\, mixed greens salad/dressing\, baked garlic bread sticks and includes coffee\, iced tea and soda options. \n\nDinner with Membership- $50 – includes membership & 1 dinner ticket\nDinner with 1 Spouse/Guest – $75 – includes 1 membership & 2 dinner tickets\nYouth (ages 6-17) or Guest Dinner Ticket – $30 – includes 1 dinner ticket (must be accompanied by standard dinner ticket purchase)\nYouth Ticket (5 and under) – FREE– includes dinner ticket.\nWorking Mans Table – 8 dinner tickets with memberships -$350\n\nPintail and Honker Packages available through September 15\, 2023.   \n\nHonker Package – $200 ($50 total package savings) \n\nNOW Includes 1 Dinner with Membership ($50 Value)\n(35) Thirty-Five Gun Board Tickets ($150 Value)\n(2) Two Class A Trap Shotgun Raffle Tickets ($20 Value)\n(1) One Rock Island 1911 Raffle Ticket ($10 Value)\n(1) One Beavertail Final Attack Ultimate Package Raffle Ticket ($20 Value)\n\n\nPintail Package- $150 ($20 total package savings) \n\nNOW Includes 1 Dinner with Membership ($50 Value)\n(25) Twenty-Five Gun Board Tickets ($100 Value)\n(1) One Class A Trap Shotgun Raffle ($10 Value)\n(1) One Rock Island 1911 Raffle Ticket ($10 Value)\n\n\n\nClass A Raffles*: \n\nClass A Trap Shotgun Raffle\n\nGrand Prize: TriStar Super Viper G2 PRO Sporting 12GA (Blue) \nOnly 400 tickets available at $10 each.\n\n\n\n\nClass A 1911\n\nGrand Prize: Rock Island .45 ACP Pistol \nOnly 300 tickets available at $10 each.\n\n\n\n\nClass A Beavertail Final Attack Ultimate Package (Sponsored by Custom Tackle Tying) \n\nBeavertail Final Attack layout boat\, backrest and blind with doors. *Small Outboard Motor Included* \nOnly 200 tickets available at $20 each.’\n\n\n\nGun Board  \n\n25 tickets for $100 – New! Three Gun Boards\n\n\n\n\nGun Board 1\n\n\nCZ 1012 MOSSY OAK SHADOWGRASS BLADES 12 GA \n\n\nWINCHESTER SXP HYBRID HUNTER -12 GA \n\n\nBERETTA A300 ULTIMA 20 GA \n\n\n\n\n\nGun Board 2\n\n\nCZ BOBWHITE – 28 GA SxS \n\n\nSTOEGER CONDOR- .410 GA O/U \n\n\nWINCHESTER XPR with Vortex Scope – .68 Western \n\n\n\n\n\nGun Board 3\n\n\nFRANCHI AFFINITY – 12 GA Semi \n\n\nATI OMNI HYBRID MAXX – 300 AAC MSR  \n\n\nCZ P10 – 9mm Pistol \n\n\n\n  \nGames:  \n\nDuck Toss & Plinko– Gun and or Consolation Prize Tickets Available \nGame Prizes \n\nCANIK TP9SA FDE 9mm\nAssorted Consolation Prizes\n\n\n\nDecoy Package  \n\nDrake Waterfowl 6 Slot Zippered – Top Decoy Bag\nTanglefree Pro Series full Body Mallard Premium Combo Back\nRogers Final Approach Standard Floating Canada Goose Decoys (6-Pack)\nLucky Duck Rapid Flyer Teal\nLucky Duck Lucky Woody HD\n\nBucket Raffles \n\nCustom Tackle Tying Jigs\nCustom Camo Table Runner and 4 Placemats\nHunter’s Best Fury Friend Package (includes dog bed)\nStormy Kromer Outsider Hat / $25 Cap Gift Certificate\nCustom WWA Logo Whiskey Decanter and Liquor\nLucky Duck Rapid Flyer Teal\nOthers TBA!\n\nMystery Gun – Tickets sold at event.  \nRazor Flat Top Grill  \nMeat and Freezer Package  \nWalk Arounds: \n\nRobert’s Meats\nSavage Stance 9mm\n\n**Guns subject to change to those of equal or greater value based on availability.** \n*Class A online sales limited to Wisconsin residents only\, purchasers \nmust have a valid Wisconsin address noted at checkout. Out of state \norders without this will be refunded. All purchasers must also confirm willingness to pick up and complete ticket(s) in person in order to be entered into the drawing. View our full Class A raffle rules effective March 27\, 2023 at 3:00 PM CDT here. If the purchaser subsequently does not pick up and complete their ticket(s) prior to the time of the \ndrawing\, per WI Division of Gaming guidance\, the purchaser’s ticket(s) will not be entered into the drawing. If requested by the purchaser (in advance of the drawing)\, a refund of the ticket price will be provided; it will otherwise be treated as a donation to WWA.\nPurchase your banquet tickets securely online\, below. Online registration will be available until 4:30pm September 20th. To pay by check\, please download our printable\, mail-in form here.
URL:https://wisducks.org/event/27th-annual-west-allis-chapter-banquet/
LOCATION:New Berlin Alehouse\, 16000 W. Cleveland Ave.\, New Berlin\, WI\, 53151\, United States
ORGANIZER;CN="Tom Faber":MAILTO:westallis.wisducks@gmail.com
GEO:42.996044;-88.1137966
X-APPLE-STRUCTURED-LOCATION;VALUE=URI;X-ADDRESS=New Berlin Alehouse 16000 W. Cleveland Ave. New Berlin WI 53151 United States;X-APPLE-RADIUS=500;X-TITLE=16000 W. Cleveland Ave.:geo:-88.1137966,42.996044
END:VEVENT
END:VCALENDAR