BEGIN:VCALENDAR
VERSION:2.0
PRODID:-//Wisconsin Waterfowl Association - ECPv6.15.20//NONSGML v1.0//EN
CALSCALE:GREGORIAN
METHOD:PUBLISH
X-ORIGINAL-URL:https://wisducks.org
X-WR-CALDESC:Events for Wisconsin Waterfowl Association
REFRESH-INTERVAL;VALUE=DURATION:PT1H
X-Robots-Tag:noindex
X-PUBLISHED-TTL:PT1H
BEGIN:VTIMEZONE
TZID:America/Chicago
BEGIN:DAYLIGHT
TZOFFSETFROM:-0600
TZOFFSETTO:-0500
TZNAME:CDT
DTSTART:20220313T080000
END:DAYLIGHT
BEGIN:STANDARD
TZOFFSETFROM:-0500
TZOFFSETTO:-0600
TZNAME:CST
DTSTART:20221106T070000
END:STANDARD
BEGIN:DAYLIGHT
TZOFFSETFROM:-0600
TZOFFSETTO:-0500
TZNAME:CDT
DTSTART:20230312T080000
END:DAYLIGHT
BEGIN:STANDARD
TZOFFSETFROM:-0500
TZOFFSETTO:-0600
TZNAME:CST
DTSTART:20231105T070000
END:STANDARD
BEGIN:DAYLIGHT
TZOFFSETFROM:-0600
TZOFFSETTO:-0500
TZNAME:CDT
DTSTART:20240310T080000
END:DAYLIGHT
BEGIN:STANDARD
TZOFFSETFROM:-0500
TZOFFSETTO:-0600
TZNAME:CST
DTSTART:20241103T070000
END:STANDARD
END:VTIMEZONE
BEGIN:VEVENT
DTSTART;TZID=America/Chicago:20231108T180000
DTEND;TZID=America/Chicago:20231108T183000
DTSTAMP:20260424T041637
CREATED:20221212T164522Z
LAST-MODIFIED:20221212T164522Z
UID:10000275-1699466400-1699468200@wisducks.org
SUMMARY:2023 Conservation Calendar Raffle Drawing
DESCRIPTION:
URL:https://wisducks.org/event/2023-conservation-calendar-raffle-drawing/2023-11-08/
LOCATION:Beaver Dam Conservationists Club\, W9554 County Road G\, Beaver Dam\, WI\, 53916\, United States
ORGANIZER;CN="Wisconsin Waterfowl Association":MAILTO:info@wisducks.org
GEO:43.450246;-88.876459
X-APPLE-STRUCTURED-LOCATION;VALUE=URI;X-ADDRESS=Beaver Dam Conservationists Club W9554 County Road G Beaver Dam WI 53916 United States;X-APPLE-RADIUS=500;X-TITLE=W9554 County Road G:geo:-88.876459,43.450246
END:VEVENT
BEGIN:VEVENT
DTSTART;TZID=America/Chicago:20231130T173000
DTEND;TZID=America/Chicago:20231130T220000
DTSTAMP:20260424T041637
CREATED:20230821T185513Z
LAST-MODIFIED:20231108T195709Z
UID:10000290-1701365400-1701381600@wisducks.org
SUMMARY:33rd Annual Lakeshore Chapter Banquet
DESCRIPTION:Raffles\, Auctions\, Prizes\, Games and Guns \nDoors Open/Cocktails: 5:30 pm \nBuffet Style Dinner: 5:30 pm – 7:00 pm \nTickets start at just $35!* \nFeaturing: \n\nTactacam Raffle \nVortex Optics \nRifle board –\n\nRuger American w/ Vortex scope 30.06 \nRuger American w/ Vortex scope .308 \nRuger American  w/ Vortex scope  .270 \n\n\nShotgun board –\n\nWinchester SX4 Camo 12ga \nTri Star G2 Pro Snow Camo \nWeatherby Element Max 5 12ga. \n\n\nBucket Raffles\nLive Auction\nand MORE\n\nPLUS\, our Discounted Credit Card Raffle (Advance sales only): \n\n\n\nWWA Gold Card – For $100 you receive $150 to purchase raffle tickets\nWWA Platinum Card – For $150 you receive $250 to buy raffle tickets\n\nCards may be used on any of the floor raffles banquet night.  They may NOT be used on any Class A raffle\, Silent or Vocal Auction purchases\, Blue Light or any raffle advertised as Cash Only and they may not be redeemed for cash.\n\n\n\n\n\nPurchase your event tickets securely online\, below. Attendance limited\, get yours early!  \n*$35 advance ticket sales\, available online until 4:30 p.m. November 29th. Day of banquet price is $45.
URL:https://wisducks.org/event/33rd-annual-lakeshore-chapter-banquet/
LOCATION:City Limits Bar and Banquet Hall\, 3627 County Road CR\, Manitowoc\, WI\, 54220\, United States
GEO:44.0547735;-87.7014976
X-APPLE-STRUCTURED-LOCATION;VALUE=URI;X-ADDRESS=City Limits Bar and Banquet Hall 3627 County Road CR Manitowoc WI 54220 United States;X-APPLE-RADIUS=500;X-TITLE=3627 County Road CR:geo:-87.7014976,44.0547735
END:VEVENT
END:VCALENDAR