BEGIN:VCALENDAR
VERSION:2.0
PRODID:-//Wisconsin Waterfowl Association - ECPv6.15.20//NONSGML v1.0//EN
CALSCALE:GREGORIAN
METHOD:PUBLISH
X-WR-CALNAME:Wisconsin Waterfowl Association
X-ORIGINAL-URL:https://wisducks.org
X-WR-CALDESC:Events for Wisconsin Waterfowl Association
REFRESH-INTERVAL;VALUE=DURATION:PT1H
X-Robots-Tag:noindex
X-PUBLISHED-TTL:PT1H
BEGIN:VTIMEZONE
TZID:America/Chicago
BEGIN:DAYLIGHT
TZOFFSETFROM:-0600
TZOFFSETTO:-0500
TZNAME:CDT
DTSTART:20230312T080000
END:DAYLIGHT
BEGIN:STANDARD
TZOFFSETFROM:-0500
TZOFFSETTO:-0600
TZNAME:CST
DTSTART:20231105T070000
END:STANDARD
BEGIN:DAYLIGHT
TZOFFSETFROM:-0600
TZOFFSETTO:-0500
TZNAME:CDT
DTSTART:20240310T080000
END:DAYLIGHT
BEGIN:STANDARD
TZOFFSETFROM:-0500
TZOFFSETTO:-0600
TZNAME:CST
DTSTART:20241103T070000
END:STANDARD
BEGIN:DAYLIGHT
TZOFFSETFROM:-0600
TZOFFSETTO:-0500
TZNAME:CDT
DTSTART:20250309T080000
END:DAYLIGHT
BEGIN:STANDARD
TZOFFSETFROM:-0500
TZOFFSETTO:-0600
TZNAME:CST
DTSTART:20251102T070000
END:STANDARD
END:VTIMEZONE
BEGIN:VEVENT
DTSTART;TZID=America/Chicago:20240302T140000
DTEND;TZID=America/Chicago:20240302T180000
DTSTAMP:20260424T111732
CREATED:20240206T211422Z
LAST-MODIFIED:20240206T211541Z
UID:10000314-1709388000-1709402400@wisducks.org
SUMMARY:Between the Lakes Chapter's Jail and Bail
DESCRIPTION:Jail & Bail \nWalk Through Raffles \nPlinko \nFREE TO ATTEND
URL:https://wisducks.org/event/between-the-lakes-chapters-jail-and-bail/
LOCATION:Marsh Inn\, 220 S. County Road W\, Reedsville\, WI\, 54230\, United States
GEO:44.0968482;-87.8214713
X-APPLE-STRUCTURED-LOCATION;VALUE=URI;X-ADDRESS=Marsh Inn 220 S. County Road W Reedsville WI 54230 United States;X-APPLE-RADIUS=500;X-TITLE=220 S. County Road W:geo:-87.8214713,44.0968482
END:VEVENT
BEGIN:VEVENT
DTSTART;TZID=America/Chicago:20240313T180000
DTEND;TZID=America/Chicago:20240313T180000
DTSTAMP:20260424T111732
CREATED:20240108T160626Z
LAST-MODIFIED:20240108T160626Z
UID:10000298-1710352800-1710352800@wisducks.org
SUMMARY:2024 Conservation Calendar Raffle Drawing
DESCRIPTION:
URL:https://wisducks.org/event/2024-conservation-calendar-raffle-drawing/2024-03-13/
LOCATION:Marsh Inn\, 220 S. County Road W\, Reedsville\, WI\, 54230\, United States
ORGANIZER;CN="Wisconsin Waterfowl Association":MAILTO:info@wisducks.org
GEO:44.0968482;-87.8214713
X-APPLE-STRUCTURED-LOCATION;VALUE=URI;X-ADDRESS=Marsh Inn 220 S. County Road W Reedsville WI 54230 United States;X-APPLE-RADIUS=500;X-TITLE=220 S. County Road W:geo:-87.8214713,44.0968482
END:VEVENT
BEGIN:VEVENT
DTSTART;TZID=America/Chicago:20240321T170000
DTEND;TZID=America/Chicago:20240321T220000
DTSTAMP:20260424T111732
CREATED:20240118T214231Z
LAST-MODIFIED:20240130T212211Z
UID:10000309-1711040400-1711058400@wisducks.org
SUMMARY:23rd Annual Green Bay Chapter Banquet
DESCRIPTION:Presented by:\n \n \nRaffles\, Auction\, Prizes\, Games\, Guns \n5:00 pm Cocktails – 7:00 pm Dinner \nGet your banquet registration in prior to February 28th and you will be entered into a special drawing for extra ticket packages!* \nFeaturing: \nBanquet night gun boards**: \n\nGun Board #1 – #4 (gun board tickets only)\n\nSavage 110 Camo \nHenry Golden Boy \nStevens 555 O/U \nTriStar Viper G2 \nStevens 334 \nRuger American \nWinchester XPR .270 \nFranchi Affinity\nStoeger O/U 12ga Condor \nAnd MORE!\n\n\n\nLIVE Auction – Featuring Wisconsin Air Furnace (60\,000 BTU) 10-year warranty parts\, one-year labor. Install not included \nSponsored by:  \n\n8+1 Gun Board (cash ticket)\n\nTWO Savage Axis w/Scope .270  \nTWO Smith & Wesson M&P Shield  \nTWO Stoeger Condor O/U  \nTWO Mossberg Maverick 88  \nPLUS one CVA Cascade 300 WIN MAG \n\n\n50+1 Gun Boards (cash ticket)\n\n#1 – Weatherby Element 12 & 20ga  \n#2 – Tri-Star Setter O/U 12ga AND 20ga  \n\n#2 will be opened after all spots on board #1 are sold\n\n\n\n\n\nDoor Prizes \nMeat Raffle \nCash & Certificates \nLiquor Raffle  \n\nBring in a bottle of unopened booze & receive 10 free Gun Board tickets for your donation (must be in manufacturer’s original retail packaging\, homemade or unsealed alcohol prohibited).\n\nHand Carved Decoys \nBucket Raffle \nDecoys  \n50 + 1 Gun Board \nWalk Around Guns \nPheasant Hunts \nLive & Silent Auctions \nFishing and Hunting Trips \n50/50 Cash Raffles \nPlatinum Membership \nAnd MORE!! \n*Four ticket packages – one Puddle Duck\, two Pintail and one Big Honker – will be awarded to members who help us by getting registrations in early! Only those that purchase event tickets prior to February 28th will qualify. \nFirearms registered and supplied by Virlee Gunworks \n**All gun prizes will leave banquet with winners\, no gift cards will be issued. All handgun winners must pass a background check prior to receiving handguns. Guns are based on limited availability\, other sporting merchandise may be substituted on gun boards. \nGet your tickets securely online\, below. To pay by check download our printable banquet flyer here.
URL:https://wisducks.org/event/23rd-annual-green-bay-chapter-banquet/
LOCATION:The Rock Garden\, 1951 Bond Street\, Green Bay\, WI\, 54303\, United States
GEO:44.5414915;-88.0722898
X-APPLE-STRUCTURED-LOCATION;VALUE=URI;X-ADDRESS=The Rock Garden 1951 Bond Street Green Bay WI 54303 United States;X-APPLE-RADIUS=500;X-TITLE=1951 Bond Street:geo:-88.0722898,44.5414915
END:VEVENT
END:VCALENDAR