BEGIN:VCALENDAR
VERSION:2.0
PRODID:-//Wisconsin Waterfowl Association - ECPv6.15.20//NONSGML v1.0//EN
CALSCALE:GREGORIAN
METHOD:PUBLISH
X-ORIGINAL-URL:https://wisducks.org
X-WR-CALDESC:Events for Wisconsin Waterfowl Association
REFRESH-INTERVAL;VALUE=DURATION:PT1H
X-Robots-Tag:noindex
X-PUBLISHED-TTL:PT1H
BEGIN:VTIMEZONE
TZID:America/Chicago
BEGIN:DAYLIGHT
TZOFFSETFROM:-0600
TZOFFSETTO:-0500
TZNAME:CDT
DTSTART:20230312T080000
END:DAYLIGHT
BEGIN:STANDARD
TZOFFSETFROM:-0500
TZOFFSETTO:-0600
TZNAME:CST
DTSTART:20231105T070000
END:STANDARD
BEGIN:DAYLIGHT
TZOFFSETFROM:-0600
TZOFFSETTO:-0500
TZNAME:CDT
DTSTART:20240310T080000
END:DAYLIGHT
BEGIN:STANDARD
TZOFFSETFROM:-0500
TZOFFSETTO:-0600
TZNAME:CST
DTSTART:20241103T070000
END:STANDARD
BEGIN:DAYLIGHT
TZOFFSETFROM:-0600
TZOFFSETTO:-0500
TZNAME:CDT
DTSTART:20250309T080000
END:DAYLIGHT
BEGIN:STANDARD
TZOFFSETFROM:-0500
TZOFFSETTO:-0600
TZNAME:CST
DTSTART:20251102T070000
END:STANDARD
END:VTIMEZONE
BEGIN:VEVENT
DTSTART;TZID=America/Chicago:20240410T180000
DTEND;TZID=America/Chicago:20240410T180000
DTSTAMP:20260424T125735
CREATED:20240108T160626Z
LAST-MODIFIED:20240108T160626Z
UID:10000299-1712772000-1712772000@wisducks.org
SUMMARY:2024 Conservation Calendar Raffle Drawing
DESCRIPTION:
URL:https://wisducks.org/event/2024-conservation-calendar-raffle-drawing/2024-04-10/
LOCATION:Marsh Inn\, 220 S. County Road W\, Reedsville\, WI\, 54230\, United States
ORGANIZER;CN="Wisconsin Waterfowl Association":MAILTO:info@wisducks.org
GEO:44.0968482;-87.8214713
X-APPLE-STRUCTURED-LOCATION;VALUE=URI;X-ADDRESS=Marsh Inn 220 S. County Road W Reedsville WI 54230 United States;X-APPLE-RADIUS=500;X-TITLE=220 S. County Road W:geo:-87.8214713,44.0968482
END:VEVENT
BEGIN:VEVENT
DTSTART;TZID=America/Chicago:20240411T173000
DTEND;TZID=America/Chicago:20240411T213000
DTSTAMP:20260424T125735
CREATED:20230717T160950Z
LAST-MODIFIED:20240404T172358Z
UID:10000289-1712856600-1712871000@wisducks.org
SUMMARY:40th Annual Waukesha County Chapter Banquet
DESCRIPTION:5:30pm: Doors Open/Cocktails – 7:00pm: Fresh Half Duck Plated Golden Mast Dinner  \nEvent sold out online – contact Mike Alaimo for ticket inquiries\nGun board tickets still available for those with reservations\nBrowning & Marlin Class A tickets SOLD OUT ONLINE – very limited tickets at event – see cashier night of\, first-come\, first-served.\n  \nEvent Highlights: \nPremier Gun Board featuring an excellent mix of cutting edge firearms along with some of the classics\, featuring: \n\nBeretta A400 Extreme Plus 12/28/3.5  \nBrowning Silver Field 12/28/3.5   \nMossberg 940 PRO 12/28/3     \nWinchester SX4 12/28/3.5      \nWinchester SXP Long Beard 20ga     \nMossberg Patriot LR 6.5 PRC      \nRuger 10/22 75 Annv 18.5     \nBeretta Green Cheetah x80 .380           \nS&W M&P 5.7    \n\nTWO CLASS A (WI RESIDENTS NEED NOT BE PRESENT TO WIN*) RAFFLES drawing banquet night: \n\nBrowning Cynergy Raffle: \n\nGrand Prize: Browning Cynergy WW Camo O/U 12/28/3.5 \n$20 per ticket and limited to 250 tickets – SOLD OUT ONLINE – very limited tickets at event – see cashier night of\, first-come\, first-served.\nDrawing 7:30 p.m.\n\n\nMarlin 1895 Raffle: \n\nGrand Prize: Marlin 1895 SBL .45-70 Lever Action  \n$20 per ticket and limited to 200 tickets – SOLD OUT ONLINE – very limited tickets at event – see cashier night of\, first-come\, first-served.\nDrawing 7:45 p.m.\n\n\nNeed not be present to win raffles\n\n*Limited to Wisconsin residents only\, purchasers must have a valid Wisconsin address noted at checkout. Out of state orders without this will be refunded.\n\n\n\nSponsor Merchandise Bucket Raffles! \nDoor Prizes!!! Quality Guns and more. \nYOUTH RAFFLE \nTickets for Tickets Raffle \nRoberts’ Specialty Meats Meat & Freezer Raffle  \nGames with a chance to win a Sig Sauer P365-380 .380ACP Rose Package  \nMystery Pistol Raffle \nMeat Walk Around Raffles \nNumerous Walk Around Gun Raffles… \n   \nLimited Edition Decoy Package of Four! 2024 40th Anniversary Goldeneye  \n**Guns subject to change to those of equal or greater value based on availability. We will maintain the same quality selection with any substitution.**  \n 
URL:https://wisducks.org/event/40th-annual-waukesha-county-chapter-banquet/
LOCATION:Golden Mast Restaurant\, W349 N5293 Lacy’s Lane\, Okauchee\, WI\, 53069\, United States
ORGANIZER;CN="Mike Alaimo":MAILTO:malaimo73@gmail.com
GEO:43.1143598;-88.4395609
X-APPLE-STRUCTURED-LOCATION;VALUE=URI;X-ADDRESS=Golden Mast Restaurant W349 N5293 Lacy’s Lane Okauchee WI 53069 United States;X-APPLE-RADIUS=500;X-TITLE=W349 N5293 Lacy’s Lane:geo:-88.4395609,43.1143598
END:VEVENT
BEGIN:VEVENT
DTSTART;TZID=America/Chicago:20240420T150000
DTEND;TZID=America/Chicago:20240420T190000
DTSTAMP:20260424T125735
CREATED:20240227T214126Z
LAST-MODIFIED:20240403T155617Z
UID:10000316-1713625200-1713639600@wisducks.org
SUMMARY:South Suburban's Mini Bash at Witt's End
DESCRIPTION:Join WWA’s South Suburban Chapter at Witt’s End for an afternoon of snacks\, drinks and lots of raffles. \nFREE TO ATTEND\nMeat Raffles\, Shotgun Raffles\, Pistol Raffles & More! \nFeaturing the drawing of our THREE Class A (need not be present to win*) Raffles: \n\nStoeger Condor Raffle: \n\nGrand Prize: Stoeger Condor 12ga\n$10 per ticket and limited to 100 tickets – SOLD OUT ONLINE. Tickets will be available at the Bash!\nDrawing 6:00 p.m.\n\n\n\n\nGlock Model 19 Raffle: \n\nGrand Prize: Glock Model 19 9mm Pistol\n$10 per ticket and limited to 125 tickets – SOLD OUT ONLINE. Tickets will be available at the Bash!\nDrawing 6:15 p.m.\n\n\n\n\nTaurus .38 Raffle: \n\nGrand Prize: Taurus .38 Special\n$10 per ticket and limited to 100 tickets\nDrawing 6:30 p.m.\n\n\nNeed not be present to win raffles\n\n*Limited to Wisconsin residents only\, purchasers must have a valid Wisconsin address noted at checkout. Out of state orders without this will be refunded.\n\n\n\nGet your class A raffle tickets securely online\, below. Tickets will be available online for pre-sale until 4:30 pm April 19\, 2024 or until the raffle sells out. Any remaining tickets will be available for sale at Witt’s End on the 20th.
URL:https://wisducks.org/event/south-suburbans-mini-bash-at-witts/
LOCATION:Witt’s End\, 11601 County Road G\, Caledonia\, WI\, 53108\, United States
GEO:42.8071507;-87.9270245
X-APPLE-STRUCTURED-LOCATION;VALUE=URI;X-ADDRESS=Witt’s End 11601 County Road G Caledonia WI 53108 United States;X-APPLE-RADIUS=500;X-TITLE=11601 County Road G:geo:-87.9270245,42.8071507
END:VEVENT
END:VCALENDAR