BEGIN:VCALENDAR
VERSION:2.0
PRODID:-//Wisconsin Waterfowl Association - ECPv6.15.20//NONSGML v1.0//EN
CALSCALE:GREGORIAN
METHOD:PUBLISH
X-ORIGINAL-URL:https://wisducks.org
X-WR-CALDESC:Events for Wisconsin Waterfowl Association
REFRESH-INTERVAL;VALUE=DURATION:PT1H
X-Robots-Tag:noindex
X-PUBLISHED-TTL:PT1H
BEGIN:VTIMEZONE
TZID:America/Chicago
BEGIN:DAYLIGHT
TZOFFSETFROM:-0600
TZOFFSETTO:-0500
TZNAME:CDT
DTSTART:20230312T080000
END:DAYLIGHT
BEGIN:STANDARD
TZOFFSETFROM:-0500
TZOFFSETTO:-0600
TZNAME:CST
DTSTART:20231105T070000
END:STANDARD
BEGIN:DAYLIGHT
TZOFFSETFROM:-0600
TZOFFSETTO:-0500
TZNAME:CDT
DTSTART:20240310T080000
END:DAYLIGHT
BEGIN:STANDARD
TZOFFSETFROM:-0500
TZOFFSETTO:-0600
TZNAME:CST
DTSTART:20241103T070000
END:STANDARD
BEGIN:DAYLIGHT
TZOFFSETFROM:-0600
TZOFFSETTO:-0500
TZNAME:CDT
DTSTART:20250309T080000
END:DAYLIGHT
BEGIN:STANDARD
TZOFFSETFROM:-0500
TZOFFSETTO:-0600
TZNAME:CST
DTSTART:20251102T070000
END:STANDARD
END:VTIMEZONE
BEGIN:VEVENT
DTSTART;TZID=America/Chicago:20240710T180000
DTEND;TZID=America/Chicago:20240710T180000
DTSTAMP:20260424T175544
CREATED:20240108T160626Z
LAST-MODIFIED:20240108T160626Z
UID:10000302-1720634400-1720634400@wisducks.org
SUMMARY:2024 Conservation Calendar Raffle Drawing
DESCRIPTION:
URL:https://wisducks.org/event/2024-conservation-calendar-raffle-drawing/2024-07-10/
LOCATION:Marsh Inn\, 220 S. County Road W\, Reedsville\, WI\, 54230\, United States
ORGANIZER;CN="Wisconsin Waterfowl Association":MAILTO:info@wisducks.org
GEO:44.0968482;-87.8214713
X-APPLE-STRUCTURED-LOCATION;VALUE=URI;X-ADDRESS=Marsh Inn 220 S. County Road W Reedsville WI 54230 United States;X-APPLE-RADIUS=500;X-TITLE=220 S. County Road W:geo:-87.8214713,44.0968482
END:VEVENT
BEGIN:VEVENT
DTSTART;TZID=America/Chicago:20240712T183000
DTEND;TZID=America/Chicago:20240712T183000
DTSTAMP:20260424T175544
CREATED:20240604T175822Z
LAST-MODIFIED:20240604T182414Z
UID:10000695-1720809000-1720809000@wisducks.org
SUMMARY:Drawing of Premium Fishing Gear Raffle
DESCRIPTION:Join our Midland Wings Chapter for the drawing of their Premium Fishing Gear Raffle\nClass A (WI residents need not be present to win*) Raffle \n \n\n$20 per ticket and limited to 400 tickets\n\n*Online purchase of Class A raffles are limited to Wisconsin residents only\, purchasers must have a valid Wisconsin address noted at checkout. Out of state online orders without this will be refunded.
URL:https://wisducks.org/event/drawing-of-premium-fishing-gear-raffle/
LOCATION:Traditions Pub\, County H\, Fredonia\, WI\, 53021\, United States
ORGANIZER;CN="Dave Elwing":MAILTO:dwelwing@rcn.com
GEO:43.4979906;-88.0609475
X-APPLE-STRUCTURED-LOCATION;VALUE=URI;X-ADDRESS=Traditions Pub County H Fredonia WI 53021 United States;X-APPLE-RADIUS=500;X-TITLE=County H:geo:-88.0609475,43.4979906
END:VEVENT
BEGIN:VEVENT
DTSTART;TZID=America/Chicago:20240714T083000
DTEND;TZID=America/Chicago:20240714T153000
DTSTAMP:20260424T175544
CREATED:20240227T212045Z
LAST-MODIFIED:20240613T204741Z
UID:10000315-1720945800-1720971000@wisducks.org
SUMMARY:10th Annual Ozaukee Shoot
DESCRIPTION:Entry Fee includes 50 Rounds of Clays and a One-Year WWA Regular or Youth Membership. \nJust $25/Round\, Only $20/Round Youth (ages 16 and under). Youth also save $5 on re-shoots! \nOnline pre-registration open until 4:00pm July 12th \nCheck-in and Day of Registration: 8:30am \nShooting: 9:00am – 3:00pm \nLast group out at 2:30pm \nRaffles drawn 3:30pm \nFood & beverages will be available at the Clubhouse \n**Shoot will be held rain or shine** \nFeaturing LOTS of raffles\, hunts\, shooter prizes including a Cedar Valley hunt\, $300.00 detailing certificate for a boat or car\, Fromm Dog Food. Piggly Wiggly gift certificates\, CHENE Boot gift certificate\, lots of raffles and more! \nPlus 1/2 Hog & Cooler Raffle \n\nTickets $10 each\, only 100 sold\nMust be present to win\n\nAdvance purchase tickets will be given to you at registration/check-in the day of the Shoot.\n\n\n\nAlso featuring the drawing of our Class A (need not be present to win*) Turkey Hunters Raffle: \n\nGrand Prize: Charles Daly pump shotgun 12 ga-3″ camo with pistol grip and fiber sights 24″ barrel\, Herter’s ground blind\, decoy and accessories \nTickets just $10 each\, only 100 sold – SOLD OUT online\, a few tickets may be available at registration\, first come-first served\nDrawing 3:30 pm at the Shoot\nNeed not be present to win*\n\n*Online sales limited to Wisconsin residents only\, purchasers must have a valid Wisconsin address noted at checkout. Out of state orders without this will be refunded.
URL:https://wisducks.org/event/10th-annual-ozaukee-shoot/
LOCATION:Ozaukee County Fish & Game Association\, 5123 County Road Y\, Fredonia\, WI\, 53080\, United States
GEO:43.4606794;-88.0009371
X-APPLE-STRUCTURED-LOCATION;VALUE=URI;X-ADDRESS=Ozaukee County Fish & Game Association 5123 County Road Y Fredonia WI 53080 United States;X-APPLE-RADIUS=500;X-TITLE=5123 County Road Y:geo:-88.0009371,43.4606794
END:VEVENT
BEGIN:VEVENT
DTSTART;TZID=America/Chicago:20240720T080000
DTEND;TZID=America/Chicago:20240720T153000
DTSTAMP:20260424T175544
CREATED:20240319T191342Z
LAST-MODIFIED:20240717T144400Z
UID:10000686-1721462400-1721489400@wisducks.org
SUMMARY:Green Bay Chapter's 14th Annual Abrams Sporting Clays Shoot
DESCRIPTION:50 rounds special sporting clays \nProceeds to benefit projects such as our Abrams Long-Term project \n**Shoot will be held rain or shine** \nOnline pre-registration available until 4:30 pm July 19th. \nDay-of Registration & Check-in: 8:00 am. \nShooting: 8:00 am – 3:30 pm (last group will go out at 2:45 pm). \nRaffles drawn at 3:30 pm. \nJust $35 to Shoot\, Youth Entry (16 & Under) Only $20! Includes shoot\, one-year WWA membership and one bucket raffle entry. \n$20 Re-shoots available day-of. \nCurrent J&H members (membership will be verified with J&H) save $5 at checkout. \nDelicious food & cold beverages will be available for purchase. \nPRIZES   —   RAFFLES   —   COURSE CHALLENGES \nFeaturing the drawing of our Class A (need not be present to win*)Summer Habitat Raffle: \n\nGrand Prize – WINNER TAKES ALL: Savage Axis Black Synthetic Stock w/ 3x9x40 Weaver Scope AND a Maverick Hunting Blind of the Winner’s Choice \nTickets just $20 each\, only 200 sold\nDrawing 2:00 pm at the Shoot\nNeed not be present to win*\n\n*Online sales limited to Wisconsin residents only\, purchasers must have a valid Wisconsin address noted at checkout. Out of state orders without this will be refunded.\n\n\n\nPLUS: Course Challenges – Winners take home 1/2 the ca$h – 2-Person Team “Flurry Shoot” \nStand–alone major prize card raffles: \n\nHigh End Booze Raffle\nUrben Decoys Hand Carved Duck Decoy Raffle\nCooler and Meat Raffle\n\nPurchase a $20 Shooting Ticket to earn 3 bucket raffle tickets per bird broken and/or purchase a Wingspan of 40 bucket raffle tickets.
URL:https://wisducks.org/event/green-bay-chapters-14th-annual-abrams-sporting-clays-shoot/
LOCATION:J&H Game Farm\, W5810 J&H Road\, Shiocton\, WI\, 54170\, United States
GEO:44.6114516;-88.5342152
X-APPLE-STRUCTURED-LOCATION;VALUE=URI;X-ADDRESS=J&H Game Farm W5810 J&H Road Shiocton WI 54170 United States;X-APPLE-RADIUS=500;X-TITLE=W5810 J&H Road:geo:-88.5342152,44.6114516
END:VEVENT
BEGIN:VEVENT
DTSTART;TZID=America/Chicago:20240724T083000
DTEND;TZID=America/Chicago:20240724T150000
DTSTAMP:20260424T175544
CREATED:20240315T182340Z
LAST-MODIFIED:20240613T204835Z
UID:10000685-1721809800-1721833200@wisducks.org
SUMMARY:14th Annual Fox Valley Scramble Golf Outing
DESCRIPTION:Presented by: \n\nWhat: A morning of golf at the gorgeous Royal St. Patrick’s Golf Links to benefit the Wisconsin Waterfowl Association.\nWhen: Wednesday\, July 24\, 2024\n\n8:30 am – Registration\n9:00 am – Shotgun Start\n9:00 am – 1:30 pm – Golf (Complimentary drink tickets provided. Snacks will also be available to purchase on course)\n1:30 pm – Drinks\, Raffles\, Silent Auction\, Draw Winners from Course Games\n2:00 pm – Luncheon Buffet & Awards\n\n\nWhy: To enjoy a great outing of golf on a truly outstanding course with a fantastic design. This is a perfect opportunity to entertain your clients or guests while also helping to support the mission of WWA\, including our habitat restoration\, education and policy programs. Great golf\, great food and great fun with friends\, all in support of a great cause – Wisconsin Waterfowl Association! This event is sure to fill up fast – book your Foursome early!\n\nFeaturing our Fox Valley Outing Class A (need not be present to win*) raffle: \n\nGrand Prize: Stevens 555 E O/U Shotgun – Your Choice of Gauge: .410\, 28\, 20\, 16 or 12! – OR $840 Scheels Gift Card\n\n \n\n$10 per ticket and limited to 175 tickets – SOLD OUT online\, a few tickets may be available at registration\, first come-first served\nDrawing 2:00 p.m.\nNeed not be present to win*\n\n*Online sales limited to Wisconsin residents only\, purchasers must have a valid Wisconsin address noted at checkout. Out of state orders without this will be refunded.\n\n\n\nGet your Outing tickets securely online\, below\, or to pay by check download our printable mail-in Fox Valley Outing Brochure here. Plus\, if you’re one of the first twelve foursomes to sign up you’ll be entered into our infamous cash raffle to win $250! 
URL:https://wisducks.org/event/14th-annual-fox-valley-scramble-golf-outing/
LOCATION:Royal St. Patrick’s Golf Links\, 201 Royal St. Pat's Drive\, Wrightstown\, WI\, 54180\, United States
ORGANIZER;CN="Wisconsin Waterfowl Association":MAILTO:info@wisducks.org
GEO:44.328973;-88.2001779
X-APPLE-STRUCTURED-LOCATION;VALUE=URI;X-ADDRESS=Royal St. Patrick’s Golf Links 201 Royal St. Pat's Drive Wrightstown WI 54180 United States;X-APPLE-RADIUS=500;X-TITLE=201 Royal St. Pat's Drive:geo:-88.2001779,44.328973
END:VEVENT
END:VCALENDAR