BEGIN:VCALENDAR
VERSION:2.0
PRODID:-//Wisconsin Waterfowl Association - ECPv6.15.20//NONSGML v1.0//EN
CALSCALE:GREGORIAN
METHOD:PUBLISH
X-WR-CALNAME:Wisconsin Waterfowl Association
X-ORIGINAL-URL:https://wisducks.org
X-WR-CALDESC:Events for Wisconsin Waterfowl Association
REFRESH-INTERVAL;VALUE=DURATION:PT1H
X-Robots-Tag:noindex
X-PUBLISHED-TTL:PT1H
BEGIN:VTIMEZONE
TZID:America/Chicago
BEGIN:DAYLIGHT
TZOFFSETFROM:-0600
TZOFFSETTO:-0500
TZNAME:CDT
DTSTART:20230312T080000
END:DAYLIGHT
BEGIN:STANDARD
TZOFFSETFROM:-0500
TZOFFSETTO:-0600
TZNAME:CST
DTSTART:20231105T070000
END:STANDARD
BEGIN:DAYLIGHT
TZOFFSETFROM:-0600
TZOFFSETTO:-0500
TZNAME:CDT
DTSTART:20240310T080000
END:DAYLIGHT
BEGIN:STANDARD
TZOFFSETFROM:-0500
TZOFFSETTO:-0600
TZNAME:CST
DTSTART:20241103T070000
END:STANDARD
BEGIN:DAYLIGHT
TZOFFSETFROM:-0600
TZOFFSETTO:-0500
TZNAME:CDT
DTSTART:20250309T080000
END:DAYLIGHT
BEGIN:STANDARD
TZOFFSETFROM:-0500
TZOFFSETTO:-0600
TZNAME:CST
DTSTART:20251102T070000
END:STANDARD
END:VTIMEZONE
BEGIN:VEVENT
DTSTART;TZID=America/Chicago:20240814T180000
DTEND;TZID=America/Chicago:20240814T180000
DTSTAMP:20260424T194946
CREATED:20240108T160626Z
LAST-MODIFIED:20240108T160626Z
UID:10000303-1723658400-1723658400@wisducks.org
SUMMARY:2024 Conservation Calendar Raffle Drawing
DESCRIPTION:
URL:https://wisducks.org/event/2024-conservation-calendar-raffle-drawing/2024-08-14/
LOCATION:Marsh Inn\, 220 S. County Road W\, Reedsville\, WI\, 54230\, United States
ORGANIZER;CN="Wisconsin Waterfowl Association":MAILTO:info@wisducks.org
GEO:44.0968482;-87.8214713
X-APPLE-STRUCTURED-LOCATION;VALUE=URI;X-ADDRESS=Marsh Inn 220 S. County Road W Reedsville WI 54230 United States;X-APPLE-RADIUS=500;X-TITLE=220 S. County Road W:geo:-87.8214713,44.0968482
END:VEVENT
BEGIN:VEVENT
DTSTART;TZID=America/Chicago:20240817T083000
DTEND;TZID=America/Chicago:20240817T153000
DTSTAMP:20260424T194946
CREATED:20240325T184541Z
LAST-MODIFIED:20240325T190542Z
UID:10000688-1723883400-1723908600@wisducks.org
SUMMARY:25th Annual WWA State Shoot
DESCRIPTION:A special “Duck Hunt” Sporting Clays Shoot to benefit WWA\n \n$50 entry fee includes (1) Round of 50 Waterfowl Themed Sporting Clays\, (1) Shooters Raffle Ticket for every target you break\, (1) Entry into the Grand Door Prize drawing AND a 1-Year WWA Membership. Only $40 with a valid Military ID – ID verification will be done at shoot check-in. Youth ages 16 and under shoot for only $30! \nSponsor the Shoot for just $275 – includes five tickets for each bird broken\, one 3-bird Wern Valley Pheasant hunt\, three tickets for the grand door prize drawing\, one-year WWA sponsor membership and a 2024 sponsor gift. \nDay-of registration & check-in begins at 8:30 am\n \nShooting: 9:00 am – 3:00 pm\, last shooters out at 2:15 pm\n \nRaffles Drawn 3:00 – 3:30 pm \n$30 Re-Shoots ($20 Youth) available day-of (also includes 1 Shooter’s Raffle ticket for each target broken and 1 additional Grand Door Prize entry) \n**Shoot will be held rain or shine** \nBring your pumps & semi-autos – three shells allowed. \nPlease note: In an effort to minimize bottlenecking\, the 2024 State Shoot will be a “run what you bring” event with no gun swapping allowed at stations. Thank you for your understanding. \nLimited to 150 shooters \nPurchase your Shoot tickets securely online\, below. Online registration will be available until 4:30 p.m. August 16th. Day-of registration begins at 8:30 a.m. at Wern.
URL:https://wisducks.org/event/25th-annual-wwa-state-shoot/
LOCATION:Wern Valley Sportsmen’s Club\, S36 W29657 Wern Way\, Waukesha\, WI\, 53189\, United States
GEO:42.9768169;-88.348355
X-APPLE-STRUCTURED-LOCATION;VALUE=URI;X-ADDRESS=Wern Valley Sportsmen’s Club S36 W29657 Wern Way Waukesha WI 53189 United States;X-APPLE-RADIUS=500;X-TITLE=S36 W29657 Wern Way:geo:-88.348355,42.9768169
END:VEVENT
BEGIN:VEVENT
DTSTART;TZID=America/Chicago:20240818T120000
DTEND;TZID=America/Chicago:20240818T150000
DTSTAMP:20260424T194946
CREATED:20240604T191321Z
LAST-MODIFIED:20240604T195507Z
UID:10000696-1723982400-1723993200@wisducks.org
SUMMARY:Drawing of Deer Hunters Raffle
DESCRIPTION:Join our Northern Chapters for the drawing of their Deer Hunters Raffle\nA quick afternoon featuring raffles – including meat raffles –  and more! \nPlus the drawing of the Class A (WI residents need not be present to win*) Raffle: \nGrand Prize – WINNER TAKES ALL – Over $1500 in prizes!!  \n\nCenterPoint Tradition™ 405 Crossbow\nMuddy The Legend XLT Ladder Treestand\nVortex Crossfire 8×42 Binocular\nVortex HD 1400 Rangefinder\nIgloo IMX 70qt Cooler\nArrow Target\nCamo Beanie w/ Light\nBrowning Cap Light\nBrowning WWA Knife\n\n\n$10 per ticket and limited to 300 tickets\nDrawing 3:00 pm\n*Online purchase of Class A raffles are limited to Wisconsin residents only\, purchasers must have a valid Wisconsin address noted at checkout. Out of state online orders without this will be refunded.
URL:https://wisducks.org/event/drawing-of-deer-hunters-raffle/
LOCATION:8-Hi Club\, W14681 US Hwy 8\, Goodman\, WI\, 54125\, United States
ORGANIZER;CN="Rob Monette":MAILTO:rmonette@wisducks.org
GEO:45.6307027;-88.3535655
X-APPLE-STRUCTURED-LOCATION;VALUE=URI;X-ADDRESS=8-Hi Club W14681 US Hwy 8 Goodman WI 54125 United States;X-APPLE-RADIUS=500;X-TITLE=W14681 US Hwy 8:geo:-88.3535655,45.6307027
END:VEVENT
BEGIN:VEVENT
DTSTART;TZID=America/Chicago:20240822T170000
DTEND;TZID=America/Chicago:20240822T213000
DTSTAMP:20260424T194946
CREATED:20240515T142707Z
LAST-MODIFIED:20240715T213348Z
UID:10000691-1724346000-1724362200@wisducks.org
SUMMARY:15th Annual Midland Wings/West Bend Chapter Banquet
DESCRIPTION:Featuring amazing gun boards\, high quality raffle items\, prizes\, games and more \n5:00 pm – Doors Open. 6:30 pm – Prime Rib or Poor Man’s Lobster Dinner \nOnline registration now open \nFeaturing gun boards with high-quality guns: \nShotgun Board – Sponsored by Federal Tool & Engineering \n\nCZ-USA Redhead Premier All Terrain 12ga\nCZ-USA Redhead Premier Walnut 16ga \nCZ-USA Redhead Premier Walnut 20ga \n\nRifle Board – Sponsored by Budiak Plumbing \n\nSmith & Wesson 1854 Stainless Steel Lever Action in .44 Magnum \nHOWA Black APC Chassis\,6.5 Creedmoor w/ Scope & Tripod \nCitadel Trakr\, .22 Caliber Semiautomatic w/ Optics \n\nPistol Board \n\nRuger GP100 Stainless Steel\, 6” Barrel\, .357 Magnum \nSmith & Wesson Shield 2.0\, .380 ACP \nCitadel .45 Commander \n\nPlinko – Sponsored by Howell Team \nPluck-A-Duck – Sponsored by Remy Battery Company \nLadies Raffle \nBucket Raffles \nNEW! Shotgun Shell Board Game – Win a HOWA Superlite 6.5 PRC in Kryptec Altitude Camo  \nLive & Silent Auctions \nSponsor our event and you’re entered into the Sponsors Only Drawing for a CZ-USA 712 G3 3″ 12ga Semi-Auto Shotgun  – Sponsored by Big Joe’s Gas & Convenience/Java Express \n& More! \nFeaturing the drawing of our Gun raffle – MUST BE PRESENT TO WIN!  \n\nGrand Prize – Winchester SXP Long Beard Hybrid – True Timber Strata 20ga \n\nTickets $10 each\, only 700 sold\n\n\n\nPurchase your banquet tickets securely online\, below. Online registration available through August 21st at 4:30pm. To pay by check\, download our printable mail-in registration flyer here.
URL:https://wisducks.org/event/15th-annual-midland-wings-west-bend-chapter-banquet/
LOCATION:The Columbian\, 3245 Lighthouse Lane\, West Bend\, WI\, 53090\, United States
ORGANIZER;CN="Dave Elwing":MAILTO:dwelwing@rcn.com
GEO:43.454898;-88.198717
X-APPLE-STRUCTURED-LOCATION;VALUE=URI;X-ADDRESS=The Columbian 3245 Lighthouse Lane West Bend WI 53090 United States;X-APPLE-RADIUS=500;X-TITLE=3245 Lighthouse Lane:geo:-88.198717,43.454898
END:VEVENT
BEGIN:VEVENT
DTSTART;TZID=America/Chicago:20240822T180000
DTEND;TZID=America/Chicago:20240822T180000
DTSTAMP:20260424T194946
CREATED:20240506T191330Z
LAST-MODIFIED:20240506T191330Z
UID:10000689-1724349600-1724349600@wisducks.org
SUMMARY:Drawing of Milwaukee Tool Outdoor Raffle
DESCRIPTION:Join our Baraboo River Chapter for the drawing of their Milwaukee Tool Outdoor Raffle\nClass A (WI residents need not be present to win*) Raffle \nGrand Prize – WINNER TAKES ALL – M18 FUEL™ 14″ Top Handle Chainsaw Kit\, M18 FUEL™ Telescoping Pole Saw (Tool-Only) AND M18 FUEL™ 24″ Hedge Trimmer (Tool Only) – $1200 VALUE!! \n\n$10 per ticket and limited to 250 tickets\n\n*Online purchase of Class A raffles are limited to Wisconsin residents only\, purchasers must have a valid Wisconsin address noted at checkout. Out of state online orders without this will be refunded.
URL:https://wisducks.org/event/drawing-of-milwaukee-tool-outdoor-raffle/
LOCATION:Prairie Pines Golf Course\, 3039 Happy Valley Rd\, Sun Prairie\, WI\, 53590\, United States
ORGANIZER;CN="Scott Hamele":MAILTO:scott@plumbingplace.com
GEO:43.2234193;-89.2365122
X-APPLE-STRUCTURED-LOCATION;VALUE=URI;X-ADDRESS=Prairie Pines Golf Course 3039 Happy Valley Rd Sun Prairie WI 53590 United States;X-APPLE-RADIUS=500;X-TITLE=3039 Happy Valley Rd:geo:-89.2365122,43.2234193
END:VEVENT
BEGIN:VEVENT
DTSTART;TZID=America/Chicago:20240823T120000
DTEND;TZID=America/Chicago:20240823T170000
DTSTAMP:20260424T194946
CREATED:20240311T214039Z
LAST-MODIFIED:20240605T152717Z
UID:10000318-1724414400-1724432400@wisducks.org
SUMMARY:6th Annual Decoy Carving Contest and Exhibition
DESCRIPTION:Join us August 23rd – 24th for our 6th Annual Decoy Carving Contest & Exhibition\nSchedule of events: \n\nFriday\, August 23rd – 12:00 noon until 5:00 pm for carver walk-ins\nSaturday\, August 24th – 12:00 noon until 5:00 pm for judging and viewing.\n\nPlease click on the following buttons for information on how to submit a decoy\, get more involved and other contest logistics: \n[row]\n[column lg=”4″ md=”12″ sm=”12″ xs=”12″ ]I Want To Enter A Decoy \n[/column][column lg=”4″ md=”12″ sm=”12″ xs=”12″ ]Learn More and Get Involved \n[/column]\n[column lg=”4″ md=”12″ sm=”12″ xs=”12″ ]Vendor/Exhibitor Information \n[/column]\n[column lg=”4″ md=”12″ sm=”12″ xs=”12″ ]Hotels/Lodging \n[/column]\n[row]\n  \n \nWildfowl Carving Magazine\, the ONLY magazine for bird carvers\, prints four collectible issues per year that are stuffed with patterns to bring to your workbench\, step-by-step carving demonstrations\, painting tutorials\, inspiration for both decoratives and decoys\, reference articles\, carver profiles\, and so much more. Learn from our community of experts as they demonstrate the tips and techniques that the world’s best wildfowl carvers use to create award-winning work. Dazzle your friends with your artwork\, attract ducks to your blind with hand-made decoys\, or create thoughtful gifts that last a lifetime. From waterfowl to raptors\, songbirds\, and more\, you will be inspired by our talented community of carvers and wildfowl enthusiasts. \nWant to see the patterns\, tips\, and inspiration for yourself? Save 42% off the bookstore price with a one-year introductory subscription to Wildfowl Carving Magazine by clicking here.
URL:https://wisducks.org/event/6th-annual-decoy-carving-contest-and-exhibition/2024-08-23/
LOCATION:Sunnyview Expo Center\, 500 E. County Road Y\, Oshkosh\, WI\, 54901\, United States
GEO:44.0833447;-88.5321119
X-APPLE-STRUCTURED-LOCATION;VALUE=URI;X-ADDRESS=Sunnyview Expo Center 500 E. County Road Y Oshkosh WI 54901 United States;X-APPLE-RADIUS=500;X-TITLE=500 E. County Road Y:geo:-88.5321119,44.0833447
END:VEVENT
BEGIN:VEVENT
DTSTART;TZID=America/Chicago:20240824T080000
DTEND;TZID=America/Chicago:20240824T170000
DTSTAMP:20260424T194946
CREATED:20240520T141514Z
LAST-MODIFIED:20240520T142650Z
UID:10000693-1724486400-1724518800@wisducks.org
SUMMARY:Waterfowl Hunters EXPO & the Drawing of WWA's Duck Hunters Extravaganza Raffle
DESCRIPTION:Guns – Dogs – Gear – Tradition – Science\nGet your EXPO advance tickets online here.  \nFeaturing the drawing of WWA’s Duck Hunters Extravaganza Raffle \nA Class A (need not be present to win!) Raffle \nGrand Prize – Winner Takes ALL – OVER $3000 in PRIZES!\nA 12′ Water Feather Skiff  •  A GFORCE G2 12ga Camo Semi-Auto •  A Lucky Duck Spinning Wing Decoy •  A Half Dozen G&H Mallard Decoys  •  A WWA 40th Anniversary Driftless Custom Duck Call and Take-Em Gear Custom Lanyard  • An Avery Lightweight Camouflaged Jacket  •  AND A WWA Blind Bag!  \n\n$20 per ticket and limited to 450 tickets\nDrawing 3:30 pm at the EXPO\n\n*Online purchase of Class A raffles are limited to Wisconsin residents only\, purchasers must have a valid Wisconsin address noted at checkout. Out of state online orders without this will be refunded.
URL:https://wisducks.org/event/waterfowl-hunters-expo-the-drawing-of-wwas-duck-hunters-extravaganza-raffle/
LOCATION:Sunnyview Expo Center\, 500 E. County Road Y\, Oshkosh\, WI\, 54901\, United States
ORGANIZER;CN="Wisconsin Waterfowl Association":MAILTO:info@wisducks.org
GEO:44.0833447;-88.5321119
X-APPLE-STRUCTURED-LOCATION;VALUE=URI;X-ADDRESS=Sunnyview Expo Center 500 E. County Road Y Oshkosh WI 54901 United States;X-APPLE-RADIUS=500;X-TITLE=500 E. County Road Y:geo:-88.5321119,44.0833447
END:VEVENT
BEGIN:VEVENT
DTSTART;TZID=America/Chicago:20240824T120000
DTEND;TZID=America/Chicago:20240824T170000
DTSTAMP:20260424T194946
CREATED:20240311T214039Z
LAST-MODIFIED:20240605T152717Z
UID:10000319-1724500800-1724518800@wisducks.org
SUMMARY:6th Annual Decoy Carving Contest and Exhibition
DESCRIPTION:Join us August 23rd – 24th for our 6th Annual Decoy Carving Contest & Exhibition\nSchedule of events: \n\nFriday\, August 23rd – 12:00 noon until 5:00 pm for carver walk-ins\nSaturday\, August 24th – 12:00 noon until 5:00 pm for judging and viewing.\n\nPlease click on the following buttons for information on how to submit a decoy\, get more involved and other contest logistics: \n[row]\n[column lg=”4″ md=”12″ sm=”12″ xs=”12″ ]I Want To Enter A Decoy \n[/column][column lg=”4″ md=”12″ sm=”12″ xs=”12″ ]Learn More and Get Involved \n[/column]\n[column lg=”4″ md=”12″ sm=”12″ xs=”12″ ]Vendor/Exhibitor Information \n[/column]\n[column lg=”4″ md=”12″ sm=”12″ xs=”12″ ]Hotels/Lodging \n[/column]\n[row]\n  \n \nWildfowl Carving Magazine\, the ONLY magazine for bird carvers\, prints four collectible issues per year that are stuffed with patterns to bring to your workbench\, step-by-step carving demonstrations\, painting tutorials\, inspiration for both decoratives and decoys\, reference articles\, carver profiles\, and so much more. Learn from our community of experts as they demonstrate the tips and techniques that the world’s best wildfowl carvers use to create award-winning work. Dazzle your friends with your artwork\, attract ducks to your blind with hand-made decoys\, or create thoughtful gifts that last a lifetime. From waterfowl to raptors\, songbirds\, and more\, you will be inspired by our talented community of carvers and wildfowl enthusiasts. \nWant to see the patterns\, tips\, and inspiration for yourself? Save 42% off the bookstore price with a one-year introductory subscription to Wildfowl Carving Magazine by clicking here.
URL:https://wisducks.org/event/6th-annual-decoy-carving-contest-and-exhibition/2024-08-24/
LOCATION:Sunnyview Expo Center\, 500 E. County Road Y\, Oshkosh\, WI\, 54901\, United States
GEO:44.0833447;-88.5321119
X-APPLE-STRUCTURED-LOCATION;VALUE=URI;X-ADDRESS=Sunnyview Expo Center 500 E. County Road Y Oshkosh WI 54901 United States;X-APPLE-RADIUS=500;X-TITLE=500 E. County Road Y:geo:-88.5321119,44.0833447
END:VEVENT
END:VCALENDAR