BEGIN:VCALENDAR
VERSION:2.0
PRODID:-//Wisconsin Waterfowl Association - ECPv6.15.20//NONSGML v1.0//EN
CALSCALE:GREGORIAN
METHOD:PUBLISH
X-WR-CALNAME:Wisconsin Waterfowl Association
X-ORIGINAL-URL:https://wisducks.org
X-WR-CALDESC:Events for Wisconsin Waterfowl Association
REFRESH-INTERVAL;VALUE=DURATION:PT1H
X-Robots-Tag:noindex
X-PUBLISHED-TTL:PT1H
BEGIN:VTIMEZONE
TZID:America/Chicago
BEGIN:DAYLIGHT
TZOFFSETFROM:-0600
TZOFFSETTO:-0500
TZNAME:CDT
DTSTART:20250309T080000
END:DAYLIGHT
BEGIN:STANDARD
TZOFFSETFROM:-0500
TZOFFSETTO:-0600
TZNAME:CST
DTSTART:20251102T070000
END:STANDARD
BEGIN:DAYLIGHT
TZOFFSETFROM:-0600
TZOFFSETTO:-0500
TZNAME:CDT
DTSTART:20260308T080000
END:DAYLIGHT
BEGIN:STANDARD
TZOFFSETFROM:-0500
TZOFFSETTO:-0600
TZNAME:CST
DTSTART:20261101T070000
END:STANDARD
BEGIN:DAYLIGHT
TZOFFSETFROM:-0600
TZOFFSETTO:-0500
TZNAME:CDT
DTSTART:20270314T080000
END:DAYLIGHT
BEGIN:STANDARD
TZOFFSETFROM:-0500
TZOFFSETTO:-0600
TZNAME:CST
DTSTART:20271107T070000
END:STANDARD
END:VTIMEZONE
BEGIN:VEVENT
DTSTART;TZID=America/Chicago:20260418T120000
DTEND;TZID=America/Chicago:20260418T150000
DTSTAMP:20260422T203338
CREATED:20260306T180451Z
LAST-MODIFIED:20260405T230358Z
UID:10000778-1776513600-1776524400@wisducks.org
SUMMARY:WWA's 2026 State Meeting
DESCRIPTION:Event capacity reached – registration closed\nFREE to ATTEND! \nFood & refreshments provided. \nCome and join in a celebration of the accomplishments of 2025 with a peek into what 2026 could bring for Wisconsin Ducks and Duck Hunters!\n  \n\nALL MEMBERS are welcome – please RSVP below before 12:00 noon\, April 17.  \nSpace limited to first 50 RSVPs. \nCome see the full line of First Lite Premium Waterfowl Gear. \nA Generous discount on all IN-STORE First Lite products will be offered to members in attendance during the event. \nThere will be a FREE drawing for a $200 In-Store First Lite Gift Card for members in attendance.
URL:https://wisducks.org/event/wwas-2026-state-meeting/
LOCATION:MeatEater Store\, 340 N Lord St\, Brookfield\, WI\, 53045\, United States
ATTACH;FMTTYPE=image/jpeg:https://wisducks.org/wp-content/uploads/2026/03/Meat-Eater-store-2-scaled-e1774474395489.jpeg
ORGANIZER;CN="Brock Rosenkranz":MAILTO:brosenkranz@wisducks.org
END:VEVENT
BEGIN:VEVENT
DTSTART;TZID=America/Chicago:20260409T173000
DTEND;TZID=America/Chicago:20260409T213000
DTSTAMP:20260422T203338
CREATED:20250820T192359Z
LAST-MODIFIED:20260306T213317Z
UID:10000737-1775755800-1775770200@wisducks.org
SUMMARY:42nd Annual Waukesha County Chapter Banquet
DESCRIPTION:Join us for Waukesha’s Premier Fundraising Event \nOnline Registration Now Open! \n5:30 pm: Doors Open/Cocktails – 7:00 pm: Fresh Half Duck Plated Golden Mast Dinner \nEvent Highlights: \nPremier Ten-Gun Board: \n\nBrowning Maxus Maple \nWinchester SX4 TrueTimber Camo \nSmith & Wesson 686 .357 \nPointer ST 912 Laminate Gray \nHowa Fence Line Scorched Earth .308 \nHenry Golden Boy .22 Mag \nPointer FT 6 20ga Heat Treated \nCharter Arms .38  Pink Lady \nRadical Firearms 5.56 AR \nCitadell 1911 A1  .380 \n\nWern Valley 20 Bird Hunt & 20ga Acrius O/U Shotgun Raffle \n Tickets $20 each/only 200 sold! \nAnd MORE Guns: \n\nHenry .22 Mag Octagon Barrel \n Pointer FieldTek 12ga Camo \nRuger LCP .380 \nRetay RXP-22 FDE \nSpandau SAS\n\nHUGE Bucket Raffle \nVerlo Mattress!  \nMystery Gun Raffle  \nRoberts’ Specialty Meats Meat & Freezer Raffle  \nShotty Gear Raffle  \nPatio Package Raffle \nClothing Raffle   \n50/50 Raffle Benefitting WWA’s For Women By Women  \nGames & MORE!   \nFeaturing our Four Shotgun Set Class A Raffle– Need not be Present to win! \n\nGrand Prize: 1-ACRIUS POINTER O/U 12GA\, 1-ACRIUS POINTER 28GA\, 1-ACRIUS POINTER 20GA\, AND 1-ACRIUS POINTER .410\nTickets $20 each\, only 400 sold \n\nPurchase your event tickets securely online\, below. To pay by check\, please print out our mail-in banquet flyer here. \n**Guns subject to change to those of equal or greater value based on availability. We will maintain the same quality selection with any substitution.** 
URL:https://wisducks.org/event/42nd-annual-waukesha-county-chapter-banquet/
LOCATION:Golden Mast Restaurant\, W349 N5293 Lacy’s Lane\, Okauchee\, WI\, 53069\, United States
ORGANIZER;CN="Rob Monette":MAILTO:rmonette@wisducks.org
GEO:43.1143598;-88.4395609
X-APPLE-STRUCTURED-LOCATION;VALUE=URI;X-ADDRESS=Golden Mast Restaurant W349 N5293 Lacy’s Lane Okauchee WI 53069 United States;X-APPLE-RADIUS=500;X-TITLE=W349 N5293 Lacy’s Lane:geo:-88.4395609,43.1143598
END:VEVENT
BEGIN:VEVENT
DTSTART;TZID=America/Chicago:20260131T110000
DTEND;TZID=America/Chicago:20260131T130000
DTSTAMP:20260422T203338
CREATED:20251223T001524Z
LAST-MODIFIED:20251223T001524Z
UID:10000771-1769857200-1769864400@wisducks.org
SUMMARY:Cooking in the Duck Blind
DESCRIPTION:Join us for an in-the-field cooking demonstration! The Wisconsin Waterfowl Association is bringing wild game chef and hunter Zach Heredia for a live demonstration and tasting of two different meals you can make right in the duck blind\, on the boat\, or back at camp. \nThis will be an interactive event featuring great food\, practical cooking tips\, and plenty of opportunity to learn from an experienced wild game chef. Bring your family\, bring your friends or even bring your dog. Come for the food and stay for the stories. \nThis event is free to the public and\, as always\, will feature a free door prize for all attendees! \nWe look forward to seeing you there!
URL:https://wisducks.org/event/cooking-in-the-duck-blind/
LOCATION:Sitka Vernon Hills\, 925 N Milwaukee Ave Unit 100\, Vernon Hills\, IL\, 60061\, United States
ORGANIZER;CN="Brock Rosenkranz":MAILTO:brosenkranz@wisducks.org
END:VEVENT
END:VCALENDAR