BEGIN:VCALENDAR
VERSION:2.0
PRODID:-//Wisconsin Waterfowl Association - ECPv6.15.20//NONSGML v1.0//EN
CALSCALE:GREGORIAN
METHOD:PUBLISH
X-WR-CALNAME:Wisconsin Waterfowl Association
X-ORIGINAL-URL:https://wisducks.org
X-WR-CALDESC:Events for Wisconsin Waterfowl Association
REFRESH-INTERVAL;VALUE=DURATION:PT1H
X-Robots-Tag:noindex
X-PUBLISHED-TTL:PT1H
BEGIN:VTIMEZONE
TZID:America/Chicago
BEGIN:DAYLIGHT
TZOFFSETFROM:-0600
TZOFFSETTO:-0500
TZNAME:CDT
DTSTART:20250309T080000
END:DAYLIGHT
BEGIN:STANDARD
TZOFFSETFROM:-0500
TZOFFSETTO:-0600
TZNAME:CST
DTSTART:20251102T070000
END:STANDARD
BEGIN:DAYLIGHT
TZOFFSETFROM:-0600
TZOFFSETTO:-0500
TZNAME:CDT
DTSTART:20260308T080000
END:DAYLIGHT
BEGIN:STANDARD
TZOFFSETFROM:-0500
TZOFFSETTO:-0600
TZNAME:CST
DTSTART:20261101T070000
END:STANDARD
BEGIN:DAYLIGHT
TZOFFSETFROM:-0600
TZOFFSETTO:-0500
TZNAME:CDT
DTSTART:20270314T080000
END:DAYLIGHT
BEGIN:STANDARD
TZOFFSETFROM:-0500
TZOFFSETTO:-0600
TZNAME:CST
DTSTART:20271107T070000
END:STANDARD
END:VTIMEZONE
BEGIN:VEVENT
DTSTART;TZID=America/Chicago:20260821T180000
DTEND;TZID=America/Chicago:20260821T210000
DTSTAMP:20260422T185141
CREATED:20260306T180211Z
LAST-MODIFIED:20260326T141932Z
UID:10000777-1787335200-1787346000@wisducks.org
SUMMARY:2nd Annual Duckhunters Banquet at the EXPO
DESCRIPTION:Banquet details coming soon! \nFeaturing the drawing of our two Class A raffles: \n\nGrand prize: Browning Maxus II Max7 12 gauge 3.5″\, 28” Shotgun \n\nTickets $20 each\, only 200 sold\nDrawing 6pm at the banquet\, need not be present to win\n\n\nGrand prize: Certificate for a Labrador Puppy\, from a litter expected late fall 2026\n\nCompliments of Labrador Lodge an Award Winning Labrador Breeder\n\nSubject to Application Approval by Breeder. Winner MUST TAKE OWNERSHIP – NO RESALE OR GIFTING\n\n\nTickets $20 each\, only 200 sold\nDrawing 6pm at the banquet\, need not be present to win
URL:https://wisducks.org/event/2nd-annual-duckhunters-banquet-at-the-expo/
LOCATION:La Sure’s Banquet Hall\, 3125 S. Washburn St.\, Oshkosh\, WI\, 54904\, United States
ORGANIZER;CN="Brad Miller":MAILTO:millbunch0311@gmail.com
END:VEVENT
END:VCALENDAR