BEGIN:VCALENDAR
VERSION:2.0
PRODID:-//Wisconsin Waterfowl Association - ECPv6.15.20//NONSGML v1.0//EN
CALSCALE:GREGORIAN
METHOD:PUBLISH
X-WR-CALNAME:Wisconsin Waterfowl Association
X-ORIGINAL-URL:https://wisducks.org
X-WR-CALDESC:Events for Wisconsin Waterfowl Association
REFRESH-INTERVAL;VALUE=DURATION:PT1H
X-Robots-Tag:noindex
X-PUBLISHED-TTL:PT1H
BEGIN:VTIMEZONE
TZID:America/Chicago
BEGIN:DAYLIGHT
TZOFFSETFROM:-0600
TZOFFSETTO:-0500
TZNAME:CDT
DTSTART:20240310T080000
END:DAYLIGHT
BEGIN:STANDARD
TZOFFSETFROM:-0500
TZOFFSETTO:-0600
TZNAME:CST
DTSTART:20241103T070000
END:STANDARD
BEGIN:DAYLIGHT
TZOFFSETFROM:-0600
TZOFFSETTO:-0500
TZNAME:CDT
DTSTART:20250309T080000
END:DAYLIGHT
BEGIN:STANDARD
TZOFFSETFROM:-0500
TZOFFSETTO:-0600
TZNAME:CST
DTSTART:20251102T070000
END:STANDARD
BEGIN:DAYLIGHT
TZOFFSETFROM:-0600
TZOFFSETTO:-0500
TZNAME:CDT
DTSTART:20260308T080000
END:DAYLIGHT
BEGIN:STANDARD
TZOFFSETFROM:-0500
TZOFFSETTO:-0600
TZNAME:CST
DTSTART:20261101T070000
END:STANDARD
END:VTIMEZONE
BEGIN:VEVENT
DTSTART;TZID=America/Chicago:20250723T083000
DTEND;TZID=America/Chicago:20250723T150000
DTSTAMP:20260419T114725
CREATED:20250224T210840Z
LAST-MODIFIED:20250527T184702Z
UID:10000723-1753259400-1753282800@wisducks.org
SUMMARY:Green Bay Chapter's 15th Annual Fox Valley Scramble Outing
DESCRIPTION:Presented by:    \n\nWhat: A morning of golf at the gorgeous Royal St. Patrick’s Golf Links to benefit the Wisconsin Waterfowl Association.\nWhen: Wednesday\, July 23\, 2025\n\n8:30 am – Registration\n9:00 am – Shotgun Start\n9:00 am – 1:30 pm – Golf (Complimentary drink tickets provided. Snacks will also be available to purchase on course)\n1:30 pm – Drinks\, Raffles\, Silent Auction\, Draw Winners from Course Games\n2:00 pm – Luncheon Buffet & Awards\n\n\nWhy: To enjoy a great outing of golf on a truly outstanding course with a fantastic design. This is a perfect opportunity to entertain your clients or guests while also helping to support the mission of WWA\, including our habitat restoration\, education and policy programs. Great golf\, great food and great fun with friends\, all in support of a great cause – Wisconsin Waterfowl Association! This event is sure to fill up fast – book your Foursome early!\n\nPurchase your event tickets securely online below. To pay by check\, please print our our mail-in registration form here.
URL:https://wisducks.org/event/15th-annual-fox-valley-scramble-outing/
LOCATION:Royal St. Patrick’s Golf Links\, 201 Royal St. Pat's Drive\, Wrightstown\, WI\, 54180\, United States
ORGANIZER;CN="Mike Keeler":MAILTO:keeler0109@gmail.com
GEO:44.328973;-88.2001779
X-APPLE-STRUCTURED-LOCATION;VALUE=URI;X-ADDRESS=Royal St. Patrick’s Golf Links 201 Royal St. Pat's Drive Wrightstown WI 54180 United States;X-APPLE-RADIUS=500;X-TITLE=201 Royal St. Pat's Drive:geo:-88.2001779,44.328973
END:VEVENT
END:VCALENDAR