BEGIN:VCALENDAR
VERSION:2.0
PRODID:-//Wisconsin Waterfowl Association - ECPv6.15.20//NONSGML v1.0//EN
CALSCALE:GREGORIAN
METHOD:PUBLISH
X-ORIGINAL-URL:https://wisducks.org
X-WR-CALDESC:Events for Wisconsin Waterfowl Association
REFRESH-INTERVAL;VALUE=DURATION:PT1H
X-Robots-Tag:noindex
X-PUBLISHED-TTL:PT1H
BEGIN:VTIMEZONE
TZID:America/Chicago
BEGIN:DAYLIGHT
TZOFFSETFROM:-0600
TZOFFSETTO:-0500
TZNAME:CDT
DTSTART:20190310T080000
END:DAYLIGHT
BEGIN:STANDARD
TZOFFSETFROM:-0500
TZOFFSETTO:-0600
TZNAME:CST
DTSTART:20191103T070000
END:STANDARD
BEGIN:DAYLIGHT
TZOFFSETFROM:-0600
TZOFFSETTO:-0500
TZNAME:CDT
DTSTART:20200308T080000
END:DAYLIGHT
BEGIN:STANDARD
TZOFFSETFROM:-0500
TZOFFSETTO:-0600
TZNAME:CST
DTSTART:20201101T070000
END:STANDARD
BEGIN:DAYLIGHT
TZOFFSETFROM:-0600
TZOFFSETTO:-0500
TZNAME:CDT
DTSTART:20210314T080000
END:DAYLIGHT
BEGIN:STANDARD
TZOFFSETFROM:-0500
TZOFFSETTO:-0600
TZNAME:CST
DTSTART:20211107T070000
END:STANDARD
END:VTIMEZONE
BEGIN:VEVENT
DTSTART;TZID=America/Chicago:20200710T160000
DTEND;TZID=America/Chicago:20200710T163000
DTSTAMP:20260419T091340
CREATED:20200517T212844Z
LAST-MODIFIED:20200711T115734Z
UID:10000174-1594396800-1594398600@wisducks.org
SUMMARY:Drawing of Mississippi River Chapter's Summer Habitat Gun Raffle
DESCRIPTION:Class A (need not be present to win!) Raffle \nGrand Prize: Ruger Limited Edition AR 556 MPR with American Flag Cerakote \n\n\nTickets just $20 each\nOnly 150 will be sold!\nIf winner not present he/she will be notified via information given on the winning ticket.  Winner will be posted in the News section of our website within 48 hours of the drawing or as soon as the winner is notified.\nGet yours securely online\, below. Tickets will be available for sale online until 11:30pm July 9th or until the raffle sells out. Any remaining tickets may or may not be available for sale at Valvoline Express Care in La Crosse on the day of the drawing\, dependent on current COVID-19 restrictions.\n\nThis drawing is conducted under the auspices of a Class A license holder with WWA.  100% of the proceeds will further WWA’s non-profit purposes in Wisconsin.\nPurchaser must complete all contact information and pay electronically for the purchase of their tickets.\nThe purchaser will be provided: (1)  At the time of purchase\, an electronic receipt acknowledging their purchase at the time of purchase; (2) shortly thereafter\, a digital version of the ticket(s)\, completed with the purchaser-provided contact information.  The physical raffle entry ticket will be hand-conveyed by to the location of the drawing in order to be drawn.\nThe drawing winning ticket(s) will be drawn in public\, and witnessed by a disinterested party.  The drawing will be digitally recorded without interruption and/or streamed live witness.\nWWA will post the winner on wisducks.org and contact the winner through the information provided by the purchaser\, at which time the winner will be instructed on how claim their winnings.\nPrize winners are responsible for all state/local and federal tax ramifications and prizes may not be awarded until tax implications have been addressed. Firearm prizes awardees must comply with all state and federal laws to claim the prize.
URL:https://wisducks.org/event/drawing-of-mississippi-river-chapters-summer-habitat-gun-raffle/
LOCATION:Valvoline Express Care\, 3605 Highway 157\, La Crosse\, WI\, 54603\, United States
GEO:43.867011;-91.2037595
X-APPLE-STRUCTURED-LOCATION;VALUE=URI;X-ADDRESS=Valvoline Express Care 3605 Highway 157 La Crosse WI 54603 United States;X-APPLE-RADIUS=500;X-TITLE=3605 Highway 157:geo:-91.2037595,43.867011
END:VEVENT
END:VCALENDAR