Workbook

Sheet 2017 Nets
A1: Chapter | B1: Credit Cards | C1: Checks/ Cash/ Funds Transfers | D1: Non-Cash Event Credits | E1: Credit Notes | F1: Deductions | G1: Deductions Notes | H1: Sales Tax | I1: 2017 Cash Net (cash into WWA) | J1: 2017 Net/ Gross | K1: 2016 Net/ Gross | L1: Calendar Credits (does not add into net/gross) | M1: 2017 Net w/non- cash Credits (use for goal) | N1: 2017 Budget | O1: 2017 Goal | P1: 2017 Super Goal | Q1: Event Date | R1: Notes | S1: Net for historic nets spreadsheet (cash & noncash additions but not calendar credits
A2: Rhinelander/Northern Wetlands | B2: 8950.08 | C2: 10712.25 | D2: 700 | E2: $400 gun credit, $300 credit 10 SS tumblers | F2: 1133.37 | G2: State items | H2: 135.96 | I2: =SUM(B2+C2-F2-H2) -> 18393 | J2: 0.37 | K2: 0.4 | M2: =SUM(B2+C2+D2-F2-H2+L2) -> 19093 | N2: 20000 | O2: 27500 | P2: 29000 | Q2: 42425 | R2: Complete (w/o detailed final report turned in) | S2: =SUM(B2+C2+D2-F2-H2) -> 19093
A3: Milwaukee Sports Show | B3: 0 | C3: 750 | F3: 735 | G3: Show booth | H3: 0 | I3: =SUM(B3+C3-F3-H3) -> 15 | M3: =SUM(B3+C3+D3-F3-H3+L3) -> 15 | N3: 500 | O3: 0 | P3: 0 | Q3: 3/8-3/12 | R3: Complete, funds towards chapter class A's | S3: =SUM(B3+C3+D3-F3-H3) -> 15
A4: Green Bay | B4: 15661.95 | C4: 9540.41 | D4: 400 | E4: $400 gun credit | H4: 270.96 | I4: =SUM(B4+C4-F4-H4) -> 24931.4 | J4: 0.49 | K4: 0.49 | M4: =SUM(B4+C4+D4-F4-H4+L4) -> 25331.4 | N4: 25000 | O4: 28500 | P4: 29500 | Q4: 42445 | R4: Complete | S4: =SUM(B4+C4+D4-F4-H4) -> 25331.4
A5: Appleton/Valley | B5: 16169.45 | C5: 2459.26 | H5: 158.29 | I5: =SUM(B5+C5-F5-H5) -> 18470.42 | J5: 0.41 | K5: 0.28 | M5: =SUM(B5+C5+D5-F5-H5+L5) -> 18470.42 | N5: 13000 | O5: 15750 | P5: 16750 | Q5: 42452 | R5: Complete - Super goal! | S5: =SUM(B5+C5+D5-F5-H5) -> 18470.42
A6: Jefferson/Twin Rivers | B6: 7512.14 | C6: 2818.56 | D6: 2322 | E6: $2322 mugs | F6: 959.45 | G6: $800 Kimber, $64.69 & $94.76 Tickets & More invoices | H6: 234.52 | I6: =SUM(B6+C6-F6-H6) -> 9136.73 | J6: 0.38 | K6: 0.39 | M6: =SUM(B6+C6+D6-F6-H6+L6) -> 11458.73 | N6: 15000 | O6: 19000 | P6: 20000 | Q6: 42461 | R6: Complete | S6: =SUM(B6+C6+D6-F6-H6) -> 11458.73
A7: Chilton | B7: 4470 | C7: 1685.03 | D7: 400 | E7: $400 gun credit | F7: 4470 | G7: Funds transfer | H7: 42.1 | I7: =SUM(B7+C7-F7-H7) -> 1642.93 | J7: 0.21 | K7: 0.39 | M7: =SUM(B7+C7+D7-F7-H7+L7) -> 2042.93 | N7: 4000 | O7: 5000 | P7: 6000 | Q7: 42468 | R7: Complete | S7: =SUM(B7+C7+D7-F7-H7) -> 2042.93
A8: Waukesha County | B8: 23990.73 | C8: 480 | D8: 3058.5 | E8: $400 gun credit, $156 artwork & pistol safe, $337.50 decoys (3), $590 Mossberg, $1575 Citori | F8: 2946.95 | G8: $1075 Funds transfer $1871.95 state package | H8: 194.95 | I8: =SUM(B8+C8-F8-H8) -> 21328.83 | J8: 0.42 | K8: 0.21 | M8: =SUM(B8+C8+D8-F8-H8+L8) -> 24387.33 | N8: 15000 | O8: 18000 | P8: 19000 | Q8: 42480 | R8: Complete | S8: =SUM(B8+C8+D8-F8-H8) -> 24387.33
A9: Baraboo River | B9: 1764 | C9: 600 | D9: 500 | E9: $500 11-87 used at West Allis | F9: 2608.42 | G9: $2116.51 Funds transfer, $491.91 state invoice | H9: 40.21 | I9: =SUM(B9+C9-F9-H9) -> -284.63 | J9: 0.03 | K9: 0.44 | M9: =SUM(B9+C9+D9-F9-H9+L9) -> 215.37 | N9: 2000 | O9: 3000 | P9: 4000 | Q9: 42847 | R9: Complete | S9: =SUM(B9+C9+D9-F9-H9) -> 215.37
A10: Madison Shoot | B10: 680 | C10: 655.23 | F10: 639.69 | G10: State items | H10: 0 | I10: =SUM(B10+C10-F10-H10) -> 695.54 | J10: 0.25 | K10: 0.72 | M10: =SUM(B10+C10+D10-F10-H10+L10) -> 695.54 | N10: 1500 | O10: 2000 | P10: 2500 | Q10: 42489 | R10: Complete | S10: =SUM(B10+C10+D10-F10-H10) -> 695.54
A11: Milwaukee/South Suburban | B11: 9819.37 | F11: 1747.22 | G11: $1747.22 state invoice | H11: 94.37 | I11: =SUM(B11+C11-F11-H11) -> 7977.78 | J11: 0.28 | K11: 0.33 | M11: =SUM(B11+C11+D11-F11-H11+L11) -> 7977.78 | N11: 5000 | O11: 6000 | P11: 7000 | Q11: 42856 | R11: Complete - Super goal! | S11: =SUM(B11+C11+D11-F11-H11) -> 7977.78
A12: Abrams Shoot | B12: 1325 | C12: 2873.16 | F12: 550 | G12: $550 funds transfer | H12: 0 | I12: =SUM(B12+C12-F12-H12) -> 3648.16 | J12: 0.77 | K12: 0.56 | M12: =SUM(B12+C12+D12-F12-H12+L12) -> 3648.16 | N12: 3000 | O12: 4000 | P12: 4500 | Q12: 42503 | R12: Complete | S12: =SUM(B12+C12+D12-F12-H12) -> 3648.16
A13: Ozaukee Shoot | B13: 930 | C13: 1482 | F13: 0 | H13: 0 | I13: =SUM(B13+C13-F13-H13) -> 2412 | J13: 0.44 | K13: 0.49 | M13: =SUM(B13+C13+D13-F13-H13+L13) -> 2412 | N13: 2500 | O13: 3500 | P13: 4000 | Q13: 5/20 - 5/21 | R13: Complete | S13: =SUM(B13+C13+D13-F13-H13) -> 2412
A14: SE WI Golf Outing | B14: 10025 | C14: 4495 | F14: 7319.53 | G14: $7319.53 golf, meals, state expenses | H14: 0 | I14: =SUM(B14+C14-F14-H14) -> 7200.47 | J14: 0.5 | K14: 0.57 | M14: =SUM(B14+C14+D14-F14-H14+L14) -> 7200.47 | N14: 5000 | O14: 7000 | P14: 7500 | Q14: 42513 | R14: Complete | S14: =SUM(B14+C14+D14-F14-H14) -> 7200.47
A15: Summer Shoot at J&H | B15: 1750 | C15: 2297.51 | F15: 1065.19 | G15: $1065.19 state expenses | H15: 0 | I15: =SUM(B15+C15-F15-H15) -> 2982.32 | J15: 0.58 | M15: =SUM(B15+C15+D15-F15-H15+L15) -> 2982.32 | N15: 2000 | O15: 2500 | P15: 3000 | Q15: 42903 | R15: Complete | S15: =SUM(B15+C15+D15-F15-H15) -> 2982.32
A16: Madison Golf Outing | B16: 7945 | C16: 1040 | F16: 6267.83 | G16: $6267.83 golf, meals, state expenses | H16: 0 | I16: =SUM(B16+C16-F16-H16) -> 2717.17 | J16: 0.3 | K16: 0.25 | M16: =SUM(B16+C16+D16-F16-H16+L16) -> 2717.17 | N16: 2500 | O16: 3500 | P16: 4000 | Q16: 42541 | R16: Complete | S16: =SUM(B16+C16+D16-F16-H16) -> 2717.17
A17: Fox Valley Golf Outing | B17: 12910 | F17: 6455.23 | G17: golf, meals, state expenses | H17: 0 | I17: =SUM(B17+C17-F17-H17) -> 6454.77 | J17: 0.5 | K17: 0.68 | M17: =SUM(B17+C17+D17-F17-H17+L17) -> 6454.77 | N17: 5500 | O17: 6750 | P17: 7000 | Q17: 42577 | R17: Complete | S17: =SUM(B17+C17+D17-F17-H17) -> 6454.77
A18: Waukesha Shoot | B18: 2115 | C18: 130.75 | F18: 317.99 | G18: State items | H18: 0 | I18: =SUM(B18+C18-F18-H18) -> 1927.76 | J18: 0.48 | K18: 0.3 | M18: =SUM(B18+C18+D18-F18-H18+L18) -> 1927.76 | N18: 2500 | O18: 3000 | P18: 3500 | Q18: 7/29 - 7/30 | R18: Complete | S18: =SUM(B18+C18+D18-F18-H18) -> 1927.76
A19: Calling Contest | B19: 160 | C19: 815 | D19: 1585 | E19: $285: 11 regular & 1youth membership, $1300 brat fry credit | F19: 193.45 | G19: State items, clothing sales | H19: 0 | I19: =SUM(B19+C19-F19-H19) -> 781.55 | K19: 0.64 | M19: =SUM(B19+C19+D19-F19-H19+L19) -> 2366.55 | N19: 1500 | O19: 2000 | P19: 2500 | Q19: 42594 | R19: Complete (does not include $1800 in merch) | S19: =SUM(B19+C19+D19-F19-H19) -> 2366.55
A20: Wausau | B20: 3150.61 | C20: 3450.25 | D20: 425 | E20: $25 Life Member discount, $400 gun credit | H20: 93.5 | I20: =SUM(B20+C20-F20-H20) -> 6507.36 | J20: 0.37 | K20: 0.39 | M20: =SUM(B20+C20+D20-F20-H20+L20) -> 6932.36 | N20: 2500 | O20: 3500 | P20: 4000 | Q20: 42592 | R20: Complete - Super goal! | S20: =SUM(B20+C20+D20-F20-H20) -> 6932.36
A21: Sheboygan | B21: 1808 | C21: 114.9 | F21: 1557.67 | G21: $1125 Funds transfer for startup, $432.67 state invoice | H21: 34.15 | I21: =SUM(B21+C21-F21-H21) -> 331.08 | M21: =SUM(B21+C21+D21-F21-H21+L21) -> 331.08 | N21: 1500 | O21: 3000 | P21: 3500 | Q21: 42601 | R21: Final paperwork in, chapter collecting additional funds per Regan | S21: =SUM(B21+C21+D21-F21-H21) -> 331.08
A22: State Shoot | B22: 1255 | C22: 2488 | F22: 1003.17 | G22: State items used | H22: 0 | I22: =SUM(B22+C22-F22-H22) -> 2739.83 | J22: 0.56 | M22: =SUM(B22+C22+D22-F22-H22+L22) -> 2739.83 | N22: 3000 | O22: 3500 | P22: 4000 | Q22: 42601 | R22: Complete | S22: =SUM(B22+C22+D22-F22-H22) -> 2739.83
A23: Hunter's Eve Bash | B23: 5508 | D23: 50 | E23: $50 2 entries given at state shoot | F23: 3433.61 | G23: State items used, food, beverages, facility | H23: 0 | I23: =SUM(B23+C23-F23-H23) -> 2074.39 | J23: 0.38 | K23: 0.56 | M23: =SUM(B23+C23+D23-F23-H23+L23) -> 2124.39 | N23: 3500 | O23: 4000 | P23: 4500 | Q23: 42612 | R23: Complete | S23: =SUM(B23+C23+D23-F23-H23) -> 2124.39
A24: West Bend | B24: 6760.3 | F24: 340.52 | G24: Cabela's items purchased by Seibert | H24: 166.04 | I24: =SUM(B24+C24-F24-H24) -> 6253.74 | M24: =SUM(B24+C24+D24-F24-H24+L24) -> 6253.74 | N24: 6000 | O24: 9500 | P24: 10500 | Q24: 42606 | R24: No reporting yet | S24: =SUM(B24+C24+D24-F24-H24) -> 6253.74
A25: West Allis | B25: 6649.71 | D25: 755 | E25: $400 gun credit, $80 SE WI Outing & $275 Madison Outingmeat credit (credit cards include State Shoot Class A pistol/vault) | F25: 1593.87 | G25: $37.23 Class A Spring & $56.64 Fall raffle ticket invoices, $500 gun from Baraboo | H25: 79.02 | I25: =SUM(B25+C25-F25-H25) -> 4976.82 | M25: =SUM(B25+C25+D25-F25-H25+L25) -> 5731.82 | N25: 9500 | O25: 12500 | P25: 13500 | Q25: 42627 | R25: No reporting due | S25: =SUM(B25+C25+D25-F25-H25) -> 5731.82
A26: Decoy Carving Competition & Exhibition | B26: 5390 | F26: 6044.81 | G26: merchandise, prizes, event expenses | H26: 0 | I26: =SUM(B26+C26-F26-H26) -> -654.81 | L26: 220 | M26: =SUM(B26+C26+D26-F26-H26+L26) -> -434.81 | N26: 1500 | O26: 2500 | P26: 3500 | Q26: 9/15-9/16 | R26: Complete | S26: =SUM(B26+C26+D26-F26-H26) -> -654.81
A27: Madison | B27: 5345.61 | F27: 6834.45 | G27: $5300 transfer back to chapter, $1534.45 state items | H27: 28 | I27: =SUM(B27+C27-F27-H27) -> -1516.84 | M27: =SUM(B27+C27+D27-F27-H27+L27) -> -1516.84 | N27: 5000 | O27: 6000 | P27: 7000 | Q27: 42632 | R27: No reporting due | S27: =SUM(B27+C27+D27-F27-H27) -> -1516.84
A28: Lakeshore/Manitowoc | I28: =SUM(B28+C28-F28-H28) -> 0 | M28: =SUM(B28+C28+D28-F28-H28+L28) -> 0 | N28: 8500 | O28: 10000 | P28: 10500 | Q28: 42711 | S28: =SUM(B28+C28+D28-F28-H28) -> 0
A29: WWA Christmas Bash | I29: =SUM(B29+C29-F29-H29) -> 0 | M29: =SUM(B29+C29+D29-F29-H29+L29) -> 0 | N29: 2500 | O29: 4000 | P29: 4500 | Q29: 43081 | S29: =SUM(B29+C29+D29-F29-H29) -> 0
A30: Racine/South Shore | I30: =SUM(B30+C30-F30-H30) -> 0 | M30: =SUM(B30+C30+D30-F30-H30+L30) -> 0 | N30: 1500 | O30: 5000 | P30: 6000 | R30: No event | S30: =SUM(B30+C30+D30-F30-H30) -> 0
A31: LaCrosse | I31: =SUM(B31+C31-F31-H31) -> 0 | M31: =SUM(B31+C31+D31-F31-H31+L31) -> 0 | N31: 500 | O31: 3000 | P31: 4000 | R31: No event | S31: =SUM(B31+C31+D31-F31-H31) -> 0
A32: DePere Ladies Wine Event | I32: =SUM(B32+C32-F32-H32) -> 0 | M32: =SUM(B32+C32+D32-F32-H32+L32) -> 0 | N32: 1500 | O32: 2000 | P32: 2500 | R32: No event | S32: =SUM(B32+C32+D32-F32-H32) -> 0
A33: Mequon/Cedar Creek | I33: =SUM(B33+C33-F33-H33) -> 0 | K33: 0.45 | M33: =SUM(B33+C33+D33-F33-H33+L33) -> 0 | N33: 2500 | O33: 6000 | P33: 7000 | R33: No event | S33: =SUM(B33+C33+D33-F33-H33) -> 0
A34: Hudson | I34: =SUM(B34+C34-F34-H34) -> 0 | K34: 0.24 | M34: =SUM(B34+C34+D34-F34-H34+L34) -> 0 | N34: 1500 | O34: 2500 | P34: 3500 | R34: No event | S34: =SUM(B34+C34+D34-F34-H34) -> 0
A35: Stevens Point | I35: =SUM(B35+C35-F35-H35) -> 0 | K35: 0.33 | M35: =SUM(B35+C35+D35-F35-H35+L35) -> 0 | N35: 500 | O35: 3000 | P35: 4000 | R35: No event | S35: =SUM(B35+C35+D35-F35-H35) -> 0
A36: Total 2017 Banquet $ | B36: =SUM(B2:B35) -> 162044.95 | C36: =SUM(C2:C35) -> 48887.31 | D36: =SUM(D2:D35) -> 10195.5 | F36: =SUM(F2:F35) -> 58217.42 | H36: =SUM(H2:H35) -> 1572.07 | I36: =SUM(I2:I35) -> 151142.77 | J36: 0.44 | K36: 41% Avg | L36: =SUM(L3:L24) -> 0 | M36: =SUM(M2:M35) -> 161558.27 | N36: =SUM(N2:N35) -> 177000 | O36: =SUM(O2:O35) -> 237000 | P36: =SUM(P2:P35) -> 262250 | R36: Funding gap is $26K to budget, with 2 to go… | S36: =SUM(S2:S35) -> 161338.27

Sheet Historic Nets
A1: Chapter | B1: Credit Cards | C1: Checks | D1: Sales Tax | E1: Additional Deductions | F1: Explanantion | G1: 2002 Net | H1: 2003 Net | I1: 2004 Net | J1: 2005 Net | K1: 2006 Net | L1: 2007 Net | M1: 2008 Net | N1: 2009 Net | O1: 2010 Net | P1: 2011 Net | Q1: 2012 Net | R1: 2013 Net | S1: 2014 Net | T1: 2015 Net | U1: 2016 Net | V1: 2017 Net | W1: 2017 Net Increase
A2: Appleton/Valley | B2: 7671.15 | C2: 1400 | D2: 181.75 | E2: 250 | F2: Banquet Postage | G2: 7005.3 | H2: =SUM(B2+C2-D2-E2) -> 8639.4 | I2: 8582.45 | J2: 10967.29 | K2: 7144.6 | L2: 14579.04 | M2: 8368.33 | N2: 6733.56 | O2: 8374.55 | P2: =SUM([1]Sheet1!$J$3) -> 18091.79 | Q2: =SUM([2]Sheet1!$J$5) -> 12347.01 | R2: 10809.67 | S2: 11856.23 | T2: 15714.8 | U2: =SUM('2016 Nets'!I6) -> 15193.3 | V2: =SUM('2017 Nets'!S5) -> 18470.42 | W2: =SUM(V2-U2) -> 3277.12
A3: Baraboo River | G3: 0 | H3: 0 | I3: 0 | J3: 4787.14 | K3: 5884.33 | L3: 6170.93 | M3: 3976.06 | N3: 5857.23 | O3: 8290.46 | P3: =SUM([1]Sheet1!$J$10) -> 7863.25 | Q3: =SUM([2]Sheet1!$J$27) -> 0 | R3: 0 | S3: 221.87 | T3: 2477.75 | U3: =SUM('2016 Nets'!I28) -> 0 | V3: =SUM('2017 Nets'!S9) -> 215.37 | W3: =SUM(V3-U3) -> 215.37
A4: Calling Contest | T4: 804.4 | U4: =SUM('[3]2016 Nets'!$M$18) -> 1520.25 | V4: =SUM('2017 Nets'!S19) -> 2366.55 | W4: =SUM(V4-U4) -> 846.3
A5: Chilton | G5: 0 | H5: 0 | I5: 0 | J5: 0 | K5: 0 | L5: 0 | M5: 0 | N5: 0 | O5: 0 | P5: =SUM([1]Sheet1!$J$17) -> 1460 | Q5: =SUM([2]Sheet1!$J$3) -> 5113.75 | R5: 8912.12 | S5: 3949.92 | T5: 0 | U5: 0 | V5: =SUM('2017 Nets'!S7) -> 2042.93 | W5: =SUM(V5-U5) -> 2042.93
A6: Decoy Carving Competition | G6: 0 | H6: 0 | I6: 0 | J6: 0 | K6: 0 | L6: 0 | M6: 0 | N6: 0 | O6: 0 | P6: 0 | Q6: 0 | R6: 0 | S6: 0 | T6: 0 | U6: 0 | V6: =SUM('2017 Nets'!S26) -> -654.81 | W6: =SUM(V6-U6) -> -654.81
A7: Dunn County | G7: 0 | H7: 0 | I7: 0 | J7: 0 | K7: 0 | L7: 0 | M7: 0 | N7: 0 | O7: 592.16 | P7: =SUM([1]Sheet1!$J$30) -> 2084.63 | Q7: 0 | R7: 0 | S7: 0 | T7: 0 | U7: 0 | V7: 0 | W7: =SUM(V7-U7) -> 0
A8: Ducks Before Bucks Fall | G8: 0 | H8: 0 | I8: 0 | J8: 0 | K8: 0 | L8: 0 | M8: 0 | N8: 0 | O8: 0 | P8: 0 | Q8: 0 | R8: 0 | S8: 0 | T8: 3073.52 | U8: =SUM('2016 Nets'!I22) -> 3717.77 | V8: =SUM('2017 Nets'!S23) -> 2124.39 | W8: =SUM(V8-U8) -> -1593.38
A9: Ducks Before Bucks Xmas | G9: 0 | H9: 0 | I9: 0 | J9: 0 | K9: 0 | L9: 0 | M9: 0 | N9: 0 | O9: 0 | P9: 0 | Q9: 0 | R9: 0 | S9: 0 | T9: 0 | U9: =SUM('2016 Nets'!I26) -> 3074.48 | V9: =SUM('2017 Nets'!S29) -> 0 | X9: 43081
A10: Eau Claire | B10: 2251.01 | C10: 1591.43 | D10: 83.76 | G10: 0 | H10: =SUM(B10+C10-D10-E10) -> 3758.68 | I10: 6295.04 | J10: 7795.88 | K10: 3776.34 | L10: 11206.2 | M10: 7931.87 | N10: 10459.97 | O10: 9784.1 | P10: =SUM([1]Sheet1!$J$28) -> 4758.4 | Q10: 0 | R10: 0 | S10: 0 | T10: 0 | U10: 0 | V10: 0 | W10: =SUM(V10-U10) -> 0
A11: Summer Shoot | G11: 0 | H11: 0 | I11: 0 | J11: 0 | K11: 0 | L11: 0 | M11: 0 | N11: 0 | O11: -1956.91 | P11: 0 | Q11: 0 | R11: 0 | S11: 3217.27 | T11: 2784 | U11: =SUM('2016 Nets'!I15) -> 3569 | V11: =SUM('2017 Nets'!S15) -> 2982.32 | W11: =SUM(V11-U11) -> -586.68
A12: Fond du Lac | B12: 5696.6 | C12: 647.07 | D12: 166.85 | G12: 6486.66 | H12: =SUM(B12+C12-D12-E12) -> 6176.82 | I12: 9790.53 | J12: 7047.34 | K12: 4065.49 | L12: 844.38 | M12: 859.15 | N12: 9812.3 | O12: -2262.59 | P12: =SUM([1]Sheet1!$J$5) -> 8328.75 | Q12: =SUM([2]Sheet1!$J$11) -> 254.97 | R12: 0 | S12: 0 | T12: 0 | U12: 0 | V12: 0 | W12: =SUM(V12-U12) -> 0
A13: Fountain City | B13: 1930.56 | C13: 5249.82 | D13: 113.98 | G13: 0 | H13: =SUM(B13+C13-D13-E13) -> 7066.4 | I13: 6844.52 | J13: 9033.59 | K13: 10312.04 | L13: 8790.05 | M13: 6003.39 | N13: 10785.08 | O13: 12339.87 | P13: =SUM([1]Sheet1!$J$29) -> 8463.38 | Q13: 0 | R13: 0 | S13: 0 | T13: 0 | U13: 0 | V13: 0 | W13: =SUM(V13-U13) -> 0
A14: Fox Valley Golf Outing | G14: 0 | H14: 0 | I14: 0 | J14: 0 | K14: 0 | L14: 0 | M14: 0 | N14: 0 | O14: 0 | P14: =SUM([1]Sheet1!$J$33) -> 311.49 | Q14: =SUM([2]Sheet1!$J$12) -> 2759.87 | R14: 6713.42 | S14: 4947.85 | T14: 6634.7 | U14: =SUM('2016 Nets'!I16) -> 3107.33 | V14: =SUM('2017 Nets'!S17) -> 6454.77 | W14: =SUM(V14-U14) -> 3347.44
A15: Green Bay | B15: 5122 | C15: 7507.44 | D15: 253.41 | G15: 4420.67 | H15: =SUM(B15+C15-D15-E15) -> 12376.03 | I15: 15216.24 | J15: 16129.93 | K15: 12301.47 | L15: 17027 | M15: 23785.61 | N15: 20578.65 | O15: 26752.44 | P15: =SUM([1]Sheet1!$J$26) -> 21832.57 | Q15: =SUM([2]Sheet1!$J$6) -> 23001.02 | R15: 31980.47 | S15: 28183.86 | T15: 29620.79 | U15: =SUM('2016 Nets'!I5) -> 27145.7 | V15: =SUM('2017 Nets'!S4) -> 25331.4 | W15: =SUM(V15-U15) -> -1814.3
A16: Green Bay Abrams Shoot | G16: 0 | H16: 0 | I16: 0 | J16: 0 | K16: 0 | L16: 0 | M16: 0 | N16: 0 | O16: 0 | P16: 18009.54 | Q16: =SUM([2]Sheet1!$J$10) -> 7494.98 | R16: 4004.81 | S16: 1265.13 | T16: 1798 | U16: =SUM('2016 Nets'!I11) -> 4271.77 | V16: =SUM('2017 Nets'!S12) -> 3648.16 | W16: =SUM(V16-U16) -> -623.61
A17: Hayward | G17: 0 | H17: 0 | I17: 0 | J17: 0 | K17: 0 | L17: 0 | M17: 0 | N17: 0 | O17: -81.31 | P17: =SUM([1]Sheet1!$J$35) -> -356.79 | Q17: 0 | R17: 0 | S17: 0 | T17: 0 | U17: 0 | V17: 0 | W17: =SUM(V17-U17) -> 0
A18: Hudson | G18: 0 | H18: 0 | I18: 0 | J18: 0 | K18: 0 | L18: 0 | M18: 0 | N18: 1906.82 | O18: 0 | P18: =SUM([1]Sheet1!$J$37) -> 1796.36 | Q18: 0 | R18: 3646.67 | S18: 3910.98 | T18: 3376.38 | U18: 0 | V18: 0 | W18: =SUM(V18-U18) -> 0
A19: Janesville | B19: 5914.15 | C19: 825.87 | D19: 352.33 | G19: 12684.08 | H19: =SUM(B19+C19-D19-E19) -> 6387.69 | I19: 6165.05 | J19: 7530.64 | K19: 5386.32 | L19: 0 | M19: 2284.9 | N19: 2729.56 | O19: 1355.57 | P19: =SUM([1]Sheet1!$J$6) -> 6573.75 | Q19: =SUM([2]Sheet1!$J$4) -> 6399.83 | R19: 3981.71 | S19: 1354.86 | T19: 0 | U19: 0 | V19: 0 | W19: =SUM(V19-U19) -> 0
A20: Jefferson | B20: 2112.84 | C20: 1879.33 | D20: 124.8 | G20: 9412.07 | H20: =SUM(B20+C20-D20-E20) -> 3867.37 | I20: 4425.95 | J20: 9325.42 | K20: 11228.45 | L20: 7339.59 | M20: 13974.14 | N20: 13109.65 | O20: 12110.61 | P20: =SUM([1]Sheet1!$J$2) -> 20212.1 | Q20: =SUM([2]Sheet1!$J$7) -> 15509.69 | R20: 16244.13 | S20: 18623.63 | T20: 19029.51 | U20: =SUM('2016 Nets'!I7) -> 15271.38 | V20: =SUM('2017 Nets'!S6) -> 11458.73 | W20: =SUM(V20-U20) -> -3812.65
A21: Jefferson 2nd Event | G21: 0 | H21: 0 | I21: 0 | J21: 0 | K21: 0 | L21: 0 | M21: 0 | N21: 0 | O21: 0 | P21: =SUM([1]Sheet1!$J$7) -> 745.21 | Q21: 0 | R21: 0 | S21: 0 | T21: 0 | U21: 0 | V21: 0 | W21: =SUM(V21-U21) -> 0
A22: Kettle Moraine | G22: 0 | H22: 0 | I22: 0 | J22: 0 | K22: 0 | L22: 0 | M22: 5463.99 | N22: 0 | O22: 0 | P22: 0 | Q22: 0 | R22: 0 | S22: 0 | T22: 0 | U22: 0 | V22: 0 | W22: =SUM(V22-U22) -> 0
A23: La Crosse | B23: 4551.46 | C23: 6150 | D23: 201.19 | G23: 9776.77 | H23: =SUM(B23+C23-D23-E23) -> 10500.27 | I23: 11485.35 | J23: 10103.44 | K23: 8611.84 | L23: 4353.87 | M23: 5895.65 | N23: 0 | O23: 990.14 | P23: =SUM([1]Sheet1!$J$38) -> 2279.44 | Q23: =SUM([2]Sheet1!$J$22) -> 1623.67 | R23: 0 | S23: 0 | T23: 0 | U23: 0 | V23: 0 | W23: =SUM(V23-U23) -> 0
A24: Lake Country | B24: 11469.54 | D24: 329.92 | G24: 10386.96 | H24: =SUM(B24+C24-D24-E24) -> 11139.62 | I24: 10508.13 | J24: 6369.54 | K24: 4819 | L24: 6334.92 | M24: 8544.39 | N24: 13789.53 | O24: 6150.77 | P24: 0 | Q24: 0 | R24: 0 | S24: 0 | T24: 0 | U24: 0 | V24: 0 | W24: =SUM(V24-U24) -> 0
A25: Lake Holcombe | G25: 0 | H25: 0 | I25: 0 | J25: 0 | K25: 0 | L25: 0 | M25: 0 | N25: 0 | O25: 2719.69 | P25: =SUM([1]Sheet1!$J$31) -> 874.58 | Q25: 0 | R25: 0 | S25: 0 | T25: 0 | U25: 0 | V25: 0 | W25: =SUM(V25-U25) -> 0
A26: Lakeshore/Manitowoc | B26: 6624.25 | C26: 5221.14 | D26: 275.13 | G26: 15394.19 | H26: =SUM(B26+C26-D26-E26) -> 11570.26 | I26: 9876.38 | J26: 11992.6 | K26: 6438 | L26: 13732.99 | M26: 6808.58 | N26: 7718.96 | O26: 8878 | P26: =SUM([1]Sheet1!$J$14) -> 10441.81 | Q26: =SUM([2]Sheet1!$J$21) -> 10695.7 | R26: 6325.26 | S26: 9985.72 | T26: 9305.35 | U26: =SUM('2016 Nets'!I27) -> 6669.91 | V26: =SUM('2017 Nets'!S28) -> 0 | X26: 43076
A27: Madison | B27: 10899.58 | C27: 7531.45 | D27: 267.85 | G27: 5481.24 | H27: =SUM(B27+C27-D27-E27) -> 18163.18 | I27: 9181.21 | J27: 4882.08 | K27: 10456.82 | L27: 4750.18 | M27: 8849.97 | N27: 9028.73 | O27: 7096.33 | P27: =SUM([1]Sheet1!$J$19) -> 7224.68 | Q27: =SUM([2]Sheet1!$J$23) -> 13149.14 | R27: 11657.73 | S27: 9058.32 | T27: 0 | U27: =SUM('2016 Nets'!I25) -> 170.86 | V27: =SUM('2017 Nets'!S27) -> -1516.84 | W27: =SUM(V27-U27) -> -1687.7
A28: Madison Golf Outing | G28: 0 | H28: 0 | I28: 0 | J28: 0 | K28: 0 | L28: 0 | M28: 0 | N28: 0 | O28: 0 | P28: 0 | Q28: 0 | R28: 0 | S28: 331.23 | T28: 0 | U28: =SUM('2016 Nets'!I17) -> 2124.87 | V28: =SUM('2017 Nets'!S16) -> 2717.17 | W28: =SUM(V28-U28) -> 592.3
A29: Madison Shoot | G29: 0 | H29: 0 | I29: 0 | J29: 0 | K29: 0 | L29: 0 | M29: 0 | N29: 0 | O29: 0 | P29: 0 | Q29: 0 | R29: 0 | S29: 0 | T29: 0 | U29: =SUM('2016 Nets'!I10) -> 1427.84 | V29: =SUM('2017 Nets'!S10) -> 695.54 | W29: =SUM(V29-U29) -> -732.3
A30: Marshland | B30: 2934.57 | C30: 317.06 | D30: 127.61 | G30: 0 | H30: =SUM(B30+C30-D30-E30) -> 3124.02 | I30: 6649.06 | J30: 5003.88 | K30: 3023.35 | L30: 4946.07 | M30: 2518.4 | N30: 5479.26 | O30: 4885.47 | P30: =SUM([1]Sheet1!$J$18) -> 6667.56 | Q30: 0 | R30: 0 | S30: 0 | T30: 0 | U30: 0 | V30: 0 | W30: =SUM(V30-U30) -> 0
A31: Mequon/Cedar Creek | B31: 9657.39 | C31: 2000 | D31: 344.96 | G31: 19407.67 | H31: =SUM(B31+C31-D31-E31) -> 11312.43 | I31: 14512.91 | J31: 9008.41 | K31: 16057.76 | L31: 11850.41 | M31: 16563.16 | N31: 11855.98 | O31: 5930.89 | P31: =SUM([1]Sheet1!$J$8) -> 7842.51 | Q31: =SUM([2]Sheet1!$J$15) -> 15446.31 | R31: 13249.54 | S31: 15716.38 | T31: 6324.3 | U31: 0 | V31: 0 | W31: =SUM(V31-U31) -> 0
A32: Muskego | B32: 12937.01 | C32: 14256.2 | D32: 433.74 | G32: 17871.95 | H32: =SUM(B32+C32-D32-E32) -> 26759.47 | I32: 16497.54 | J32: 18708.33 | K32: 14425.32 | L32: 21179.67 | M32: 0 | N32: 0 | O32: 0 | P32: 0 | Q32: 0 | R32: 0 | S32: 0 | T32: 0 | U32: 0 | V32: 0 | W32: =SUM(V32-U32) -> 0
A33: New Berlin | B33: 19938.61 | C33: 3742.5 | D33: 792.89 | G33: 24878.94 | H33: =SUM(B33+C33-D33-E33) -> 22888.22 | I33: 22435.52 | J33: 23059.33 | K33: 21114.28 | L33: 20361.18 | M33: 17690.94 | N33: 23912.88 | O33: 15716.77 | P33: 0 | Q33: 0 | R33: 0 | S33: 0 | T33: 0 | U33: 0 | V33: 0 | W33: =SUM(V33-U33) -> 0
A34: New Richmond | B34: 3887.29 | D34: 176.89 | G34: 5797.97 | H34: =SUM(B34+C34-D34-E34) -> 3710.4 | I34: 2116.55 | J34: 0 | K34: 2070.25 | L34: 0 | M34: 0 | N34: 0 | O34: 0 | P34: 0 | Q34: 0 | R34: 0 | S34: 0 | T34: 0 | U34: 0 | V34: 0 | W34: =SUM(V34-U34) -> 0
A35: Northern Wetlands | G35: 0 | H35: 0 | I35: 0 | J35: 0 | K35: 13131.84 | L35: 9304.39 | M35: 7919.21 | N35: 14169.52 | O35: 6586.43 | P35: =SUM([1]Sheet1!$J$27) -> 8426.62 | Q35: =SUM([2]Sheet1!$J$8) -> 13142.3 | R35: 19809.03 | S35: 17997.52 | T35: 22298.99 | U35: =SUM('2016 Nets'!I3) -> 26633.14 | V35: =SUM('2017 Nets'!S2) -> 19093 | W35: =SUM(V35-U35) -> -7540.14
A36: Oshkosh | B36: 2472.07 | C36: 2464.25 | D36: 162.35 | G36: 6456.91 | H36: =SUM(B36+C36-D36-E36) -> 4773.97 | I36: 12039.18 | J36: 9836.19 | K36: 1906.48 | L36: 10873.09 | M36: 8484.48 | N36: 8553.18 | O36: 5463.09 | P36: =SUM([1]Sheet1!$J$16) -> 8631.71 | Q36: =SUM([2]Sheet1!$J$20) -> 5214.94 | R36: 3308.65 | S36: 0 | T36: 0 | U36: 0 | V36: 0 | W36: =SUM(V36-U36) -> 0
A37: Ozaukee Shoot | P37: 0 | Q37: 0 | R37: 0 | S37: 0 | T37: 3456.62 | U37: =SUM('2016 Nets'!I12) -> 2790.73 | V37: =SUM('2017 Nets'!S13) -> 2412 | W37: =SUM(V37-U37) -> -378.73
A38: Portage | B38: 2652.43 | D38: 176.66 | G38: 6479.83 | H38: 3475.77 | I38: 0 | J38: 0 | K38: 0 | L38: 0 | M38: 0 | N38: 0 | O38: 0 | P38: 0 | Q38: 0 | R38: 0 | S38: 0 | T38: 0 | U38: 0 | V38: 0 | W38: =SUM(V38-U38) -> 0
A39: Prairie du Chien | G39: 0 | H39: 0 | I39: 0 | J39: 0 | K39: 0 | L39: 0 | M39: 0 | N39: 12223.7 | O39: 6858.76 | P39: =SUM([1]Sheet1!$J$36) -> 9593.86 | Q39: =SUM([2]Sheet1!$J$14) -> 8783.67 | R39: 5393.97 | S39: 0 | T39: 0 | U39: 0 | V39: 0 | W39: =SUM(V39-U39) -> 0
A40: Puckaway/Fox River | B40: 6058.2 | C40: 5652.32 | D40: 213.9 | G40: 15660.7 | H40: =SUM(B40+C40-D40-E40) -> 11496.62 | I40: 12697.11 | J40: 13253.47 | K40: 11691.22 | L40: 13288.12 | M40: 11702.09 | N40: 11824.11 | O40: 10942.67 | P40: 0 | Q40: 0 | R40: 0 | S40: 0 | T40: 10173.22 | U40: =SUM('2016 Nets'!I2) -> 15812.97 | V40: 0 | W40: =SUM(V40-U40) -> -15812.97
...

Sheet 2016 Nets
A1: Chapter | B1: Credit Cards | C1: Checks/ Cash/ Funds Transfers | D1: Non-Cash Event Credits | E1: Credit Notes | F1: Deductions | G1: Deductions Notes | H1: Sales Tax | I1: 2016 Cash Net (cash into WWA) | J1: 2016 Net/ Gross | K1: 2015 Net/ Gross | L1: Calendar Credits (does not add into net/gross) | M1: 2016 Net w/non- cash Credits (use for goal) | N1: 2016 Budget | O1: 2016 Goal | P1: 2016 Super Goal | Q1: Event Date | R1: Notes
A2: Fox River | B2: 1776.23 | C2: 14967.14 | D2: 400 | E2: $400 gun credit | F2: 700 | G2: Account overdraft | H2: 230.4 | I2: =SUM(B2+C2-F2-H2) -> 15812.97 | J2: 0.4 | K2: 0.44 | L2: 1080 | M2: =SUM(B2+C2+D2-F2-H2+L2) -> 17292.97 | N2: 10000 | O2: 11500 | P2: 12500 | Q2: 42399 | R2: Complete
A3: Rhinelander/Northern Wetlands | B3: 8813.87 | C3: 18169.29 | D3: 1830 | E3: $400 gun credit, $1310 water bottles, $120 cutting boards | H3: 350.02 | I3: =SUM(B3+C3-F3-H3) -> 26633.14 | J3: 0.44 | K3: 0.43 | L3: 540 | M3: =SUM(B3+C3+D3-F3-H3+L3) -> 29003.14 | N3: 16000 | O3: 23000 | P3: 23500 | Q3: 42427 | R3: Complete
A4: Milwaukee Sports Show | B4: 282 | C4: 1083 | F4: 1330 | G4: $425 gun, $170 t-shirts, $735 booth | H4: 0 | I4: =SUM(B4+C4-F4-H4) -> 35 | L4: 0 | M4: =SUM(B4+C4+D4-F4-H4+L4) -> 35 | N4: 500 | O4: 1000 | P4: 1500 | Q4: March 3-7 | R4: Complete
A5: Green Bay | B5: 15081.5 | C5: 12317.05 | D5: 400 | E5: $400 gun credit | H5: 252.85 | I5: =SUM(B5+C5-F5-H5) -> 27145.7 | J5: 0.49 | K5: 0.46 | L5: 3080 | M5: =SUM(B5+C5+D5-F5-H5+L5) -> 30625.7 | N5: 25000 | O5: 30000 | P5: 31000 | Q5: 42446 | R5: Complete
A6: Appleton/Valley | B6: 14568 | C6: 4687.35 | D6: 400 | E6: $400 gun credit | F6: 3931.5 | G6: $1150 G. Braun double charge, $2781.50 st.pkg | H6: 130.55 | I6: =SUM(B6+C6-F6-H6) -> 15193.3 | J6: 0.28 | K6: 0.31 | L6: 5420 | M6: =SUM(B6+C6+D6-F6-H6+L6) -> 21013.3 | N6: 11000 | O6: 15000 | P6: 16000 | Q6: 42460 | R6: Complete, includes Class A proceeds
A7: Jefferson/Twin Rivers | B7: 6406.42 | C7: 9377.55 | D7: 400 | E7: $400 gun credit | F7: 249.08 | G7: $162.32 Tickets & More, $86.76 EnvisionInk | H7: 263.51 | I7: =SUM(B7+C7-F7-H7) -> 15271.38 | J7: 0.39 | K7: 0.42 | L7: 500 | M7: =SUM(B7+C7+D7-F7-H7+L7) -> 16171.38 | N7: 15000 | O7: 19000 | P7: 20000 | Q7: 42462 | R7: Complete
A8: Waukesha County | B8: 16891.16 | C8: 1471.12 | D8: 400 | E8: $400 gun credit | H8: 113.32 | I8: =SUM(B8+C8-F8-H8) -> 18248.96 | J8: 0.39 | K8: 0.33 | L8: 2720 | M8: =SUM(B8+C8+D8-F8-H8+L8) -> 21368.96 | N8: 12000 | O8: 15000 | P8: 16000 | Q8: 42474 | R8: Complete, includes Class A proceeds
A9: Milwaukee/South Suburban | B9: 4649.89 | C9: 986.32 | D9: 150 | E9: $150 package credit to Regan (gun) | F9: 475 | G9: Beretta pistol | H9: 117.82 | I9: =SUM(B9+C9-F9-H9) -> 5043.39 | J9: 0.21 | K9: 0.14 | L9: 1960 | M9: =SUM(B9+C9+D9-F9-H9+L9) -> 7153.39 | N9: 8000 | O9: 10000 | P9: 12000 | Q9: 42478 | R9: Complete
A10: Madison Shoot | B10: 1000 | C10: 3370 | F10: 2942.16 | G10: $1842 Clays, $1100.16 state package | H10: 0 | I10: =SUM(B10+C10-F10-H10) -> 1427.84 | J10: 0.33 | L10: 0 | M10: =SUM(B10+C10+D10-F10-H10+L10) -> 1427.84 | N10: 1500 | O10: 2500 | P10: 3000 | Q10: 42483 | R10: Complete
A11: Green Bay Abrams Event | B11: 1835 | C11: 2462.99 | F11: 26.22 | G11: Printing | H11: 0 | I11: =SUM(B11+C11-F11-H11) -> 4271.77 | J11: 0.72 | K11: 0.64 | L11: 0 | M11: =SUM(B11+C11+D11-F11-H11+L11) -> 4271.77 | N11: 2000 | O11: 2500 | P11: 3500 | Q11: 42504 | R11: Complete
A12: Ozaukee Shoot | B12: 676 | C12: 3633 | F12: 1518.27 | G12: Prizes, winner's checks | H12: 0 | I12: =SUM(B12+C12-F12-H12) -> 2790.73 | J12: 0.33 | K12: 0.46 | L12: 0 | M12: =SUM(B12+C12+D12-F12-H12+L12) -> 2790.73 | N12: 2500 | O12: 3500 | P12: 4000 | Q12: May 21-22 | R12: Complete
A13: SE WI Golf Outing | B13: 16572 | D13: 400 | E13: $400 gun credit | F13: 8432.68 | G13: Golf, meal, WWA merch expenses | H13: 0 | I13: =SUM(B13+C13-F13-H13) -> 8139.32 | J13: 0.49 | K13: 0.43 | L13: 0 | M13: =SUM(B13+C13+D13-F13-H13+L13) -> 8539.32 | N13: 4000 | O13: 6000 | P13: 6500 | Q13: 42514 | R13: Complete
A14: Waukesha County Shoot | B14: 1285 | C14: 2730 | F14: 1891.69 | G14: $1675 gun club, $216.69 State items used | H14: 0 | I14: =SUM(B14+C14-F14-H14) -> 2123.31 | J14: 0.57 | L14: 0 | M14: =SUM(B14+C14+D14-F14-H14+L14) -> 2123.31 | N14: 1500 | O14: 2500 | P14: 3500 | Q14: June 25-26 | R14: Complete
A15: Wild Wings Summer Shoot | B15: 985 | C15: 2959 | F15: 375 | G15: $100 cash prizes, $275 state items | H15: 0 | I15: =SUM(B15+C15-F15-H15) -> 3569 | J15: 0.56 | K15: 0.25 | L15: 0 | M15: =SUM(B15+C15+D15-F15-H15+L15) -> 3569 | N15: 3000 | O15: 4000 | P15: 5000 | Q15: July 22-24 | R15: Complete
A16: Fox Valley Golf Outing | C16: 10125 | F16: 7017.67 | G16: State items & golf/meal | H16: 0 | I16: =SUM(B16+C16-F16-H16) -> 3107.33 | J16: 0.3 | K16: 0.42 | L16: 0 | M16: =SUM(B16+C16+D16-F16-H16+L16) -> 3107.33 | N16: 5500 | O16: 6750 | P16: 7000 | Q16: 42578 | R16: Complete
A17: Madison Golf Outing | C17: 8355 | F17: 6230.13 | G17: State items & golf/meal | H17: 0 | I17: =SUM(B17+C17-F17-H17) -> 2124.87 | J17: 0.25 | L17: 0 | M17: =SUM(B17+C17+D17-F17-H17+L17) -> 2124.87 | N17: 1500 | O17: 3000 | P17: 4000 | Q17: 42584 | R17: Complete
A18: Calling Contest | C18: 1152 | D18: 932.54 | F18: 564.29 | G18: Raffle items/prizes | H18: 0 | I18: =SUM(B18+C18-F18-H18) -> 587.71 | L18: 0 | M18: =SUM(B18+C18+D18-F18-H18+L18) -> 1520.25 | N18: 1000 | O18: 1500 | P18: 2000 | Q18: 42595 | R18: Complete
A19: Wausau/Stevens Point | B19: 4148.04 | C19: 3111.79 | F19: 4340 | G19: $4340 transferred back to chapter | H19: 39.38 | I19: =SUM(B19+C19-F19-H19) -> 2880.45 | J19: 0.24 | L19: 4460 | M19: =SUM(B19+C19+D19-F19-H19+L19) -> 7340.45 | N19: 500 | O19: 3000 | P19: 4000 | Q19: 42600 | R19: Complete
A20: State Shoot | B20: 705 | C20: 2670.5 | F20: 1081.17 | G20: Raffle items/prizes | H20: 0 | I20: =SUM(B20+C20-F20-H20) -> 2294.33 | J20: 0.68 | K20: 0.73 | L20: 0 | M20: =SUM(B20+C20+D20-F20-H20+L20) -> 2294.33 | N20: 2500 | O20: 3500 | P20: 4000 | Q20: 42602 | R20: Complete
A21: Sheboygan Lunch on the Farm | B21: 859.7 | C21: 1396.37 | D21: 530 | E21: $400 account credit, $130 wine credit | F21: 763.99 | G21: $763.99 wine invoice | H21: 0 | I21: =SUM(B21+C21-F21-H21) -> 1492.08 | J21: 0.45 | L21: 6920 | M21: =SUM(B21+C21+D21-F21-H21+L21) -> 8942.08 | N21: 1500 | O21: 2000 | P21: 2500 | Q21: 42609 | R21: Complete
A22: Bucks Before Ducks/Browning Cynergy Class A | B22: 395 | C22: 5387 | F22: 2064.23 | G22: Raffle items/prizes, MidPoint expenses | H22: 0 | I22: =SUM(B22+C22-F22-H22) -> 3717.77 | J22: 0.64 | L22: 0 | M22: =SUM(B22+C22+D22-F22-H22+L22) -> 3717.77 | N22: 2000 | O22: 3000 | P22: 4000 | Q22: 42612 | R22: Complete
A23: West Bend | B23: 8907.64 | C23: 5.3 | D23: 490 | E23: $400 gun credit, $90 Cabela's dinners | H23: 219.74 | I23: =SUM(B23+C23-F23-H23) -> 8693.2 | J23: 0.39 | K23: 0.23 | L23: 4480 | M23: =SUM(B23+C23+D23-F23-H23+L23) -> 13663.2 | N23: 4000 | O23: 6000 | P23: 7000 | Q23: 42607 | R23: Final paperwork complete, chapter retaining funds for Class A and donation
A24: West Allis | B24: 4382.1 | C24: 6813.42 | D24: 625 | E24: $400 gun credit, $100 jacket, $125 RER decoy pkg | H24: 83.11 | I24: =SUM(B24+C24-F24-H24) -> 11112.41 | K24: 0.24 | L24: 3780 | M24: =SUM(B24+C24+D24-F24-H24+L24) -> 15517.41 | N24: 8000 | O24: 10000 | P24: 11000 | Q24: 42628 | R24: All funds received, chapter has 2 inventory guns to be sold (proceeds to state) or added into inventory before YE, need final paperwork
A25: Madison | B25: 11691.9 | C25: 1443.87 | D25: 809.88 | E25: WC Naturals, $800 Nutro Table credit | F25: 12889.23 | G25: $10,500 Funds transfer, $1986.40 state invoice, $402.83 EnvisionInk invoices | H25: 75.68 | I25: =SUM(B25+C25-F25-H25) -> 170.86 | L25: 140 | M25: =SUM(B25+C25+D25-F25-H25+L25) -> 1120.74 | N25: 5000 | O25: 10000 | P25: 10500 | Q25: 42633 | R25: All funds received, need final paperwork
A26: WWA Christmas bash | C26: 5460 | F26: 2385.52 | G26: state items & beer/apps | H26: 0 | I26: =SUM(B26+C26-F26-H26) -> 3074.48 | J26: 0.56 | K26: 0 | L26: 540 | M26: =SUM(B26+C26+D26-F26-H26+L26) -> 3614.48 | N26: 2500 | O26: 4000 | P26: 4500 | Q26: 42719 | R26: Complete
A27: Lakeshore/Manitowoc | B27: 6005.5 | C27: 2901.2 | D27: 1300 | E27: $1000 yantzee credit, $300 bow credit | F27: 2072.74 | G27: State Package invoice | H27: 164.05 | I27: =SUM(B27+C27-F27-H27) -> 6669.91 | L27: 5220 | M27: =SUM(B27+C27+D27-F27-H27+L27) -> 13189.91 | N27: 6000 | O27: 10000 | P27: 10500 | Q27: 42705 | R27: Chapter has additional funds to turn in from sponsorships & still awaiting $769 refund from gun vendor & need final paperwork.
A28: Baraboo River | I28: =SUM(B28+C28-F28-H28) -> 0 | K28: 0.19 | M28: =SUM(B28+C28+D28-F28-H28+L28) -> 0 | N28: 2000 | O28: 3500 | P28: 4500 | Q28: 42469 | R28: Cancelled
A29: Duckweed | I29: =SUM(B29+C29-F29-H29) -> 0 | M29: =SUM(B29+C29+D29-F29-H29+L29) -> 0 | N29: 0 | O29: 2500 | P29: 3500 | Q29: April | R29: Cancelled/chapter disbanded
A30: Hudson | I30: =SUM(B30+C30-F30-H30) -> 0 | K30: 0.26 | M30: =SUM(B30+C30+D30-F30-H30+L30) -> 0 | N30: 3000 | O30: 4000 | P30: 5000 | Q30: July | R30: No event scheduled
A31: Prairie du Chien | I31: =SUM(B31+C31-F31-H31) -> 0 | M31: =SUM(B31+C31+D31-F31-H31+L31) -> 0 | O31: 6000 | P31: 7500 | Q31: August | R31: Cancelled
A32: Midwest SS Fall Fest | I32: =SUM(B32+C32-F32-H32) -> 0 | M32: =SUM(B32+C32+D32-F32-H32+L32) -> 0 | N32: 500 | O32: 750 | P32: 1000 | Q32: 42602 | R32: Date changed, no workers available
A33: Racine/South Shore | I33: =SUM(B33+C33-F33-H33) -> 0 | K33: 0.52 | M33: =SUM(B33+C33+D33-F33-H33+L33) -> 0 | N33: 5000 | O33: 7500 | P33: 8000 | Q33: 42642 | R33: Cancelled
A34: Mequon/Cedar Creek | I34: =SUM(B34+C34-F34-H34) -> 0 | K34: 0.23 | M34: =SUM(B34+C34+D34-F34-H34+L34) -> 0 | N34: 10000 | O34: 12000 | P34: 13000 | Q34: August | R34: Cancelled
A35: Oshkosh | I35: =SUM(B35+C35-F35-H35) -> 0 | M35: =SUM(B35+C35+D35-F35-H35+L35) -> 0 | N35: 0 | O35: 5000 | P35: 5500 | Q35: October | R35: No event scheduled
A36: LaCrosse | I36: =SUM(B36+C36-F36-H36) -> 0 | M36: =SUM(B36+C36+D36-F36-H36+L36) -> 0 | N36: 500 | O36: 3000 | P36: 4000 | Q36: October | R36: No event scheduled
A37: DePere Ladies Wine Event | I37: =SUM(B37+C37-F37-H37) -> 0 | M37: =SUM(B37+C37+D37-F37-H37+L37) -> 0 | N37: 1500 | O37: 2000 | P37: 2500 | Q37: Nov | R37: No event scheduled
A38: Janesville/Rock County | I38: =SUM(B38+C38-F38-H38) -> 0 | M38: =SUM(B38+C38+D38-F38-H38+L38) -> 0 | N38: 0 | O38: 3000 | P38: 4000 | Q38: October | R38: No event scheduled
A39: Total 2016 Banquet $ | B39: =SUM(B2:B27) -> 127916.95 | C39: =SUM(C2:C27) -> 127035.26 | D39: =SUM(D2:D27) -> 9067.42 | F39: =SUM(F2:F27) -> 61280.57 | H39: =SUM(H2:H27) -> 2040.43 | I39: =SUM(I2:I27) -> 191631.21 | J39: 41% Avg | K39: 39% Avg | L39: =SUM(L3:L27) -> 39760 | M39: =SUM(M2:M27) -> 241538.63 | N39: =SUM(N2:N38) -> 174500 | O39: =SUM(O2:O38) -> 257500 | P39: =SUM(P2:P38) -> 287500
