Workbook
Name PRINT_AREA_MI: [1]CAP!#REF!
Name PRINT_TITLES_MI: [1]CAP!#REF!
Name PrintArea: BS!$E$3:$M$45
Name Report: BS!$A$3:$M$45
Name rptacctidend: " "
Name rptacctidstart: " "
Name rptcurr1: " "
Name rptcurr10: " "
Name rptcurr2: " "
Name rptcurr3: " "
Name rptcurr4: " "
Name rptcurr5: " "
Name rptcurr6: " "
Name rptcurr7: " "
Name rptcurr8: " "
Name rptcurr9: " "
Name rptgroupend: 16
Name rptgroupstart: 1
Name rptorderby: 2
Name rptorderbysegid: 1
Name rptperiod: 5
Name rptprovtype: 1
Name rptsegend1: "ZZZZZ"
Name rptsegend10: " "
Name rptsegend2: "ZZ"
Name rptsegend3: "ZZZ"
Name rptsegend4: " "
Name rptsegend5: " "
Name rptsegend6: " "
Name rptsegend7: " "
Name rptsegend8: " "
Name rptsegend9: " "
Name rptsegoption1: 1
Name rptsegoption10: 0
Name rptsegoption2: 1
Name rptsegoption3: 1
Name rptsegoption4: 0
Name rptsegoption5: 0
Name rptsegoption6: 0
Name rptsegoption7: 0
Name rptsegoption8: 0
Name rptsegoption9: 0
Name rptsegstart1: " "
Name rptsegstart10: " "
Name rptsegstart2: " "
Name rptsegstart3: " "
Name rptsegstart4: " "
Name rptsegstart5: " "
Name rptsegstart6: " "
Name rptsegstart7: " "
Name rptsegstart8: " "
Name rptsegstart9: " "
Name rptyear: 2009
Name Spec: BS!#REF!

Sheet Income Statement
A1: Wisconsin Waterfowl Association
A2: Income Statement
A3: 2019 Budget - DRAFT 6
A6: 2019 Budget | P6: 2018 Actuals
B7: January | C7: February | D7: March | E7: April | F7: May | G7: June | H7: July | I7: August | J7: September | K7: October | L7: November | M7: December | N7: Total | P7: 12.31.18
A8: Gross Sales
A9: Chapter event revenue | B9: 0 | C9: 33750 | D9: 102500 | E9: 50000 | F9: 133750 | G9: 32500 | H9: 5000 | I9: 18750 | J9: 22500 | K9: 32500 | L9: 0 | M9: 27500 | N9: =SUM(B9:M9) -> 458750 | P9: 563147
A10: State event revenue | B10: 350 | C10: 1400 | D10: 2000 | E10: 1100 | F10: 150 | G10: 10 | H10: 200 | I10: 3600 | J10: 525 | K10: 9500 | L10: 6600 | M10: 57000 | N10: =SUM(B10:M10) -> 82435 | P10: 97565
A11: Membership revenue | B11: 250 | C11: 650 | D11: 1600 | E11: 325 | F11: 375 | G11: 175 | H11: 400 | I11: 485 | J11: 175 | K11: 875 | L11: 735 | M11: 250 | N11: =SUM(B11:M11) -> 6295 | P11: 8355
A12: Sponsor revenue | B12: 0 | C12: 0 | D12: 0 | E12: 0 | F12: 0 | G12: 0 | H12: 0 | I12: 0 | J12: 0 | K12: 0 | L12: 0 | M12: 0 | N12: =SUM(B12:M12) -> 0 | P12: =SUM(D12:O12) -> 0
A13: Restoration revenue | B13: 4896 | C13: 4896 | D13: 4896 | E13: 4896 | F13: 4896 | G13: 4896 | H13: 4896 | I13: 4896 | J13: 4896 | K13: 4896 | L13: 4896 | M13: 4896 | N13: =SUM(B13:M13) -> 58752 | P13: 46199
A14: other grant revenue | B14: 1800 | C14: 1800 | D14: 500 | E14: 6500 | F14: 500 | G14: 1100 | H14: 3500 | I14: 10000 | J14: 300 | K14: 20000 | L14: 8500 | M14: 6000 | N14: =SUM(B14:M14) -> 60500 | P14: 114798
A15: Other | B15: 300 | C15: 650 | D15: 900 | E15: 750 | F15: 800 | G15: 175 | H15: 825 | I15: 200 | J15: 125 | K15: 4000 | L15: 750 | M15: 1000 | N15: =SUM(B15:M15) -> 10475 | P15: 11573
A17: Net Sales | B17: =SUM(B9:B16) -> 7596 | C17: =SUM(C9:C16) -> 43146 | D17: =SUM(D9:D16) -> 112396 | E17: =SUM(E9:E16) -> 63571 | F17: =SUM(F9:F16) -> 140471 | G17: =SUM(G9:G16) -> 38856 | H17: =SUM(H9:H16) -> 14821 | I17: =SUM(I9:I16) -> 37931 | ... N17: =SUM(N9:N16) -> 677207 | P17: =SUM(P9:P15) -> 841637
A19: Standard Cost of Sales
A20: COS-Chapter event revenue | B20: 0 | C20: 20250 | D20: 61500 | E20: 30000 | F20: 80250 | G20: 19500 | H20: 3000 | I20: 11250 | J20: 13500 | K20: 19500 | L20: 0 | M20: 16500 | N20: =SUM(B20:M20) -> 275250 | P20: 380164
A21: COS-State event revenue | B21: 100 | C21: 25 | D21: 25 | E21: 100 | F21: 25 | G21: 25 | H21: 25 | I21: 2000 | J21: 300 | K21: 6500 | L21: 4200 | M21: 37500 | N21: =SUM(B21:M21) -> 50825 | P21: 48974
A22: COS-Other | B22: 0 | C22: 0 | D22: 0 | E22: 0 | F22: 0 | G22: 0 | H22: 0 | I22: 0 | J22: 0 | K22: 0 | L22: 0 | M22: 0 | N22: =SUM(B22:M22) -> 0 | P22: =SUM(D22:O22) -> 0
A26: Total Standard Cost of Sales | B26: =SUM(B20:B25) -> 100 | C26: =SUM(C20:C25) -> 20275 | D26: =SUM(D20:D25) -> 61525 | E26: =SUM(E20:E25) -> 30100 | F26: =SUM(F20:F25) -> 80275 | G26: =SUM(G20:G25) -> 19525 | H26: =SUM(H20:H25) -> 3025 | I26: =SUM(I20:I25) -> 13250 | ... N26: =SUM(N20:N25) -> 326075 | P26: 429138
A28: Gross Profit | B28: =B17-B26 -> 7496 | C28: =C17-C26 -> 22871 | D28: =D17-D26 -> 50871 | E28: =E17-E26 -> 33471 | F28: =F17-F26 -> 60196 | G28: =G17-G26 -> 19331 | H28: =H17-H26 -> 11796 | I28: =I17-I26 -> 24681 | ... N28: =N17-N26 -> 351132 | P28: 412019
A30: Operating Expenses
A31: Development:
A32: Wages | B32: 4628 | C32: 3868 | D32: 4428 | E32: 4668 | F32: 5738 | G32: 4943 | H32: 5293 | I32: 4668 | J32: 4668 | K32: 4968 | L32: 4968 | M32: 4968 | N32: =SUM(B32:M32) -> 57806 | P32: 54977
A33: Benefits | B33: 0 | C33: 0 | D33: 0 | E33: 0 | F33: 0 | G33: 0 | H33: 0 | I33: 0 | J33: 0 | K33: 0 | L33: 0 | M33: 0 | N33: =SUM(B33:M33) -> 0 | P33: =SUM(D33:O33) -> 0
A34: Travel | B34: 1000 | C34: 1000 | D34: 1500 | E34: 1400 | F34: 1200 | G34: 750 | H34: 1350 | I34: 1225 | J34: 675 | K34: 750 | L34: 750 | M34: 750 | N34: =SUM(B34:M34) -> 12350 | P34: 12232
A35: Phone | B35: 200 | C35: 200 | D35: 200 | E35: 200 | F35: 200 | G35: 200 | H35: 200 | I35: 200 | J35: 200 | K35: 200 | L35: 200 | M35: 200 | N35: =SUM(B35:M35) -> 2400 | P35: 2524
A36: Event expenses | B36: 6000 | C36: 2700 | D36: 2500 | E36: 2250 | F36: 1700 | G36: 280 | H36: 525 | I36: 1500 | J36: 450 | K36: 250 | L36: 400 | M36: 450 | N36: =SUM(B36:M36) -> 19005 | P36: 19458
A37: Postage & shipping | B37: 50 | C37: 50 | D37: 50 | E37: 50 | F37: 50 | G37: 50 | H37: 50 | I37: 50 | J37: 50 | K37: 50 | L37: 50 | M37: 50 | N37: =SUM(B37:M37) -> 600 | P37: 1451
A38: Shows & meetings | B38: 0 | C38: 0 | D38: 0 | E38: 0 | F38: 0 | G38: 0 | H38: 0 | I38: 0 | J38: 0 | K38: 0 | L38: 0 | M38: 0 | N38: =SUM(B38:M38) -> 0 | P38: =SUM(D38:O38) -> 0
A39: Marketing | B39: 0 | C39: 0 | D39: 0 | E39: 0 | F39: 0 | G39: 0 | H39: 0 | I39: 0 | J39: 0 | K39: 0 | L39: 0 | M39: 0 | N39: =SUM(B39:M39) -> 0 | P39: =SUM(D39:O39) -> 0
A40: Magazine | B40: 0 | C40: 0 | D40: 0 | E40: 0 | F40: 0 | G40: 0 | H40: 0 | I40: 0 | J40: 0 | K40: 0 | L40: 0 | M40: 0 | N40: =SUM(B40:M40) -> 0 | P40: 0
A41: Advertising | B41: 0 | C41: 125 | D41: 400 | E41: 500 | F41: 450 | G41: 400 | H41: 385 | I41: 650 | J41: 0 | K41: 100 | L41: 0 | M41: 100 | N41: =SUM(B41:M41) -> 3110 | P41: 3080
A42: Rent | B42: 400 | C42: 400 | D42: 425 | E42: 475 | F42: 400 | G42: 425 | H42: 400 | I42: 450 | J42: 425 | K42: 475 | L42: 425 | M42: 425 | N42: =SUM(B42:M42) -> 5125 | P42: 5131
A43: Other | B43: 25 | C43: 25 | D43: 25 | E43: 25 | F43: 25 | G43: 25 | H43: 25 | I43: 25 | J43: 25 | K43: 25 | L43: 25 | M43: 25 | N43: =SUM(B43:M43) -> 300 | P43: 498
A44: Total | B44: =SUM(B32:B43) -> 12303 | C44: =SUM(C32:C43) -> 8368 | D44: =SUM(D32:D43) -> 9528 | E44: =SUM(E32:E43) -> 9568 | F44: =SUM(F32:F43) -> 9763 | G44: =SUM(G32:G43) -> 7073 | H44: =SUM(H32:H43) -> 8228 | I44: =SUM(I32:I43) -> 8768 | ... N44: =SUM(N32:N43) -> 100696 | P44: 99351
A46: Program Services:
A47: Wages | B47: 5537 | C47: 6612 | D47: 5837 | E47: 5137 | F47: 4137 | G47: 5037 | H47: 4837 | I47: 5837 | J47: 4937 | K47: 2937 | L47: 2937 | M47: 2937 | N47: =SUM(B47:M47) -> 56719 | P47: 50818
A48: Travel | B48: 700 | C48: 1015 | D48: 1150 | E48: 875 | F48: 550 | G48: 325 | H48: 675 | I48: 1000 | J48: 450 | K48: 200 | L48: 200 | M48: 200 | N48: =SUM(B48:M48) -> 7340 | P48: 6978
A49: Other | B49: 400 | C49: 475 | D49: 475 | E49: 475 | F49: 400 | G49: 500 | H49: 400 | I49: 500 | J49: 400 | K49: 100 | L49: 100 | M49: 100 | N49: =SUM(B49:M49) -> 4325 | P49: 8081
A50: HRP | B50: 6066 | C50: 6066 | D50: 6066 | E50: 6066 | F50: 6066 | G50: 6066 | H50: 6066 | I50: 6066 | J50: 6066 | K50: 6066 | L50: 6066 | M50: 6066 | N50: =SUM(B50:M50) -> 72792 | P50: 70726
...

Sheet BS
E3: Wisconsin Waterfowl Association
E4: Balance Sheet
J6: 5 | K6: 2009 | L6: 39934 | M6: 39934
F9: Assets | J9: 43465 | K9: January | L9: February | M9: March | N9: April | O9: May | P9: June | Q9: July | R9: August | S9: September | T9: October | U9: November | V9: December
G10: Current Assets
G11: Cash
H12: Chapters | J12: 17040.02 | K12: 10600 | L12: 53600 | M12: 75150 | N12: 102000 | O12: 35800 | P12: 43000 | Q12: 24000 | R12: 21500 | S12: 24000 | T12: 18000 | U12: 20500 | V12: 15000
H13: State restricted | J13: 42361.24 | K13: 32500 | L13: 30000 | M13: 28000 | N13: 25500 | O13: 20500 | P13: 17000 | Q13: 15000 | R13: 13500 | S13: 10100 | T13: 9500 | U13: 7700 | V13: 44000
H14: Abrams restricted | J14: 9137.77 | K14: 9138 | L14: 9138 | M14: 9138 | N14: 9138 | O14: 9138 | P14: 9138 | Q14: 9138 | R14: 9138 | S14: 9138 | T14: 9138 | U14: 9138 | V14: 9138
H15: AWA restricted | J15: 720.5 | K15: 721 | L15: 721 | M15: 721 | N15: 721 | O15: 721 | P15: 721 | Q15: 721 | R15: 721 | S15: 721 | T15: 721 | U15: 721 | V15: 721
H16: State Unrestricted | J16: 35098.4 | K16: =SUM(K17-K12-K13-K14-K15) -> 37817.43 | L16: =SUM(L17-L12-L13-L14-L15) -> 36196.43 | M16: =SUM(M17-M12-M13-M14-M15) -> 91295.43 | N16: =SUM(N17-N12-N13-N14-N15) -> 83544.43 | O16: =SUM(O17-O12-O13-O14-O15) -> 122508.43 | P16: =SUM(P17-P12-P13-P14-P15) -> 148837.43 | Q16: =SUM(Q17-Q12-Q13-Q14-Q15) -> 116056.43 | R16: =SUM(R17-R12-R13-R14-R15) -> 88768.43 | ... V16: =SUM(V17-V12-V13-V14-V15) -> 61194.43
H17: Total Cash | J17: =SUM(J12:J16) -> 104357.93 | K17: =CF!G33 -> 90776.43 | L17: =CF!H33 -> 129655.43 | M17: =CF!I33 -> 204304.43 | N17: =CF!J33 -> 220903.43 | O17: =CF!K33 -> 188667.43 | P17: =CF!L33 -> 218696.43 | Q17: =CF!M33 -> 164915.43 | R17: =CF!N33 -> 133627.43 | ... V17: =CF!R33 -> 130053.43
G18: Accounts Receivable - Trade | J18: 0 | K18: =SUM('BS wrksht'!C14) -> 1000 | L18: =SUM('BS wrksht'!D14) -> 2000 | M18: =SUM('BS wrksht'!E14) -> 3000 | N18: =SUM('BS wrksht'!F14) -> 4000 | O18: =SUM('BS wrksht'!G14) -> 1000 | P18: =SUM('BS wrksht'!H14) -> 0 | Q18: =SUM('BS wrksht'!I14) -> 3000 | R18: =SUM('BS wrksht'!J14) -> 3000 | ... V18: =SUM('BS wrksht'!N14) -> 0
G19: Accounts Receivable - Grants | J19: 53126.56 | K19: =SUM('BS wrksht'!C9) -> 56580.78 | L19: =SUM('BS wrksht'!D9) -> 60430.78 | M19: =SUM('BS wrksht'!E9) -> 64280.78 | N19: =SUM('BS wrksht'!F9) -> 68130.78 | O19: =SUM('BS wrksht'!G9) -> 71980.78 | P19: =SUM('BS wrksht'!H9) -> 24680.78 | Q19: =SUM('BS wrksht'!I9) -> 7380.78 | R19: =SUM('BS wrksht'!J9) -> 10080.78 | ... V19: =SUM('BS wrksht'!N9) -> 20880.78
G20: Inventory | J20: 39291.38 | K20: =SUM('BS wrksht'!C20) -> 40291 | L20: =SUM('BS wrksht'!D20) -> 41291 | M20: =SUM('BS wrksht'!E20) -> 42291 | N20: =SUM('BS wrksht'!F20) -> 43291 | O20: =SUM('BS wrksht'!G20) -> 40291 | P20: =SUM('BS wrksht'!H20) -> 39291 | Q20: =SUM('BS wrksht'!I20) -> 42291 | R20: =SUM('BS wrksht'!J20) -> 42291 | ... V20: =SUM('BS wrksht'!N20) -> 39291
G21: Prepaid Expenses | J21: 10628.74 | K21: 10000 | L21: 11600 | M21: 13200 | N21: 12800 | O21: 12400 | P21: 18400 | Q21: 17600 | R21: 16000 | S21: 14000 | T21: 12000 | U21: 11500 | V21: 10000
G22: Other Current Assets | J22: 21494.33 | K22: 0 | L22: 0 | M22: 0 | N22: 0 | O22: 0 | P22: 0 | Q22: 0 | R22: 0 | S22: 0 | T22: 0 | U22: 0 | V22: 0
G23: Total Current Assets | J23: =SUM(J17:J22) -> 228898.94 | K23: =SUM(K17:K22) -> 198648.21 | L23: =SUM(L17:L22) -> 244977.21 | M23: =SUM(M17:M22) -> 327076.21 | N23: =SUM(N17:N22) -> 349125.21 | O23: =SUM(O17:O22) -> 314339.21 | P23: =SUM(P17:P22) -> 301068.21 | Q23: =SUM(Q17:Q22) -> 235187.21 | ... V23: =SUM(V17:V22) -> 200225.21
G25: Fixed Assets
G26: Gross Fixed Assets | J26: 148154.45 | K26: 148154 | L26: 148154 | M26: 148154 | N26: 148154 | O26: 148154 | P26: 148154 | Q26: 148154 | R26: 148154 | S26: 148154 | T26: 148154 | U26: 148154 | V26: 148154
G27: Accum. Depreciation | J27: -7805.7 | K27: -7806 | L27: -7806 | M27: -7806 | N27: -7806 | O27: -7806 | P27: -7806 | Q27: -7806 | R27: -7806 | S27: -7806 | T27: -7806 | U27: -7806 | V27: -7806
G28: Net Fixed Assets | J28: =SUM(J26:J27) -> 140348.75 | K28: =SUM(K26:K27) -> 140348 | L28: =SUM(L26:L27) -> 140348 | M28: =SUM(M26:M27) -> 140348 | N28: =SUM(N26:N27) -> 140348 | O28: =SUM(O26:O27) -> 140348 | P28: =SUM(P26:P27) -> 140348 | Q28: =SUM(Q26:Q27) -> 140348 | ... V28: =SUM(V26:V27) -> 140348
G30: Other Assets | J30: 26041.06 | K30: 27002 | L30: 27002 | M30: 27002 | N30: 27002 | O30: 27002 | P30: 27002 | Q30: 27002 | R30: 27002 | S30: 27002 | T30: 27002 | U30: 27002 | V30: 27002
G31: Total Assets | J31: =J23+J28+J30 -> 395288.75 | K31: =K23+K28+K30 -> 365998.21 | L31: =L23+L28+L30 -> 412327.21 | M31: =M23+M28+M30 -> 494426.21 | N31: =N23+N28+N30 -> 516475.21 | O31: =O23+O28+O30 -> 481689.21 | P31: =P23+P28+P30 -> 468418.21 | Q31: =Q23+Q28+Q30 -> 402537.21 | ... V31: =V23+V28+V30 -> 367575.21
F33: Liabilities & Equity
G34: Current Liabilities
G35: Accounts Payable | J35: 51663.15 | K35: =SUM('BS wrksht'!C26) -> 61482 | L35: =SUM('BS wrksht'!D26) -> 64568 | M35: =SUM('BS wrksht'!E26) -> 65784 | N35: =SUM('BS wrksht'!F26) -> 71050 | O35: =SUM('BS wrksht'!G26) -> 69326 | P35: =SUM('BS wrksht'!H26) -> 70832 | Q35: =SUM('BS wrksht'!I26) -> 31803 | R35: =SUM('BS wrksht'!J26) -> 22687 | ... V35: =SUM('BS wrksht'!N26) -> 24311
G36: Accued Liabilities | J36: 42361.24 | K36: 32500 | L36: 30000 | M36: 28000 | N36: 25500 | O36: 20500 | P36: 17000 | Q36: 15000 | R36: 13500 | S36: 10100 | T36: 9500 | U36: 7700 | V36: 44000
G37: Deferred Chapter Bank Accounts | J37: 17040.02 | K37: 10600 | L37: 53600 | M37: 75150 | N37: 102000 | O37: 35800 | P37: 43000 | Q37: 24000 | R37: 21500 | S37: 24000 | T37: 18000 | U37: 20500 | V37: 15000
G38: Deferred Chapter Credit Cards | J38: 2290 | K38: 750 | L38: 11000 | M38: 50000 | N38: 40000 | O38: 44500 | P38: 32000 | Q38: 43000 | R38: 36000 | S38: 23000 | T38: 14000 | U38: 14500 | V38: 500
G39: Other Liabilities | J39: 1840.53 | K39: 3125 | L39: 3125 | M39: 3125 | N39: 3125 | O39: 3125 | P39: 3125 | Q39: 3000 | R39: 2900 | S39: 2900 | T39: 2900 | U39: 2900 | V39: 2900
G40: Total Liabilities | J40: =SUM(J35:J39) -> 115194.94 | K40: =SUM(K35:K39) -> 108457 | L40: =SUM(L35:L39) -> 162293 | M40: =SUM(M35:M39) -> 222059 | N40: =SUM(N35:N39) -> 241675 | O40: =SUM(O35:O39) -> 173251 | P40: =SUM(P35:P39) -> 165957 | Q40: =SUM(Q35:Q39) -> 116803 | ... V40: =SUM(V35:V39) -> 86711
G41: Equity
G42: Net Equity at Beginning of Year | J42: 257359.38 | K42: 280094 | L42: 280094 | M42: 280094 | N42: 280094 | O42: 280094 | P42: 280094 | Q42: 280094 | R42: 280094 | S42: 280094 | T42: 280094 | U42: 280094 | V42: 280094
G43: Current Year P&L | J43: 22734.9 | K43: ='Income Statement'!B71 -> -22552 | L43: =K43+'Income Statement'!C71 -> -30059 | M43: =L43+'Income Statement'!D71 -> -7726 | N43: =M43+'Income Statement'!E71 -> -5293 | O43: =N43+'Income Statement'!F71 -> 28345 | P43: =O43+'Income Statement'!G71 -> 22368 | Q43: =P43+'Income Statement'!H71 -> 5641 | R43: =Q43+'Income Statement'!I71 -> -4331 | S43: =R43+'Income Statement'!J71 -> -12033 | ... V43: =U43+'Income Statement'!M71 -> 771
G44: Total Equity | J44: =SUM(J42:J43) -> 280094.28 | K44: =SUM(K42:K43) -> 257542 | L44: =SUM(L42:L43) -> 250035 | M44: =SUM(M42:M43) -> 272368 | N44: =SUM(N42:N43) -> 274801 | O44: =SUM(O42:O43) -> 308439 | P44: =SUM(P42:P43) -> 302462 | Q44: =SUM(Q42:Q43) -> 285735 | ... V44: =SUM(V42:V43) -> 280865
G45: Total Liabilities & Equity | J45: =J40+J44 -> 395289.22 | K45: =K40+K44 -> 365999 | L45: =L40+L44 -> 412328 | M45: =M40+M44 -> 494427 | N45: =N40+N44 -> 516476 | O45: =O40+O44 -> 481690 | P45: =P40+P44 -> 468419 | Q45: =Q40+Q44 -> 402538 | ... V45: =V40+V44 -> 367576
G47: check | J47: =J31-J45 -> -0.47 | K47: =K31-K45 -> -0.79 | L47: =L31-L45 -> -0.79 | M47: =M31-M45 -> -0.79 | N47: =N31-N45 -> -0.79 | O47: =O31-O45 -> -0.79 | P47: =P31-P45 -> -0.79 | Q47: =Q31-Q45 -> -0.79 | ... V47: =V31-V45 -> -0.79

Sheet CF
A3: Wisconsin Waterfowl Association
A4: Cash Flow
G5: January | H5: February | I5: March | J5: April | K5: May | L5: June | M5: July | N5: August | O5: September | P5: October | Q5: November | R5: December
A6: Operating Activities
A7: Net Income | G7: =SUM('Income Statement'!B71) -> -22552 | H7: ='Income Statement'!C71 -> -7507 | I7: ='Income Statement'!D71 -> 22333 | J7: ='Income Statement'!E71 -> 2433 | K7: ='Income Statement'!F71 -> 33638 | L7: ='Income Statement'!G71 -> -5977 | M7: ='Income Statement'!H71 -> -16727 | N7: ='Income Statement'!I71 -> -9972 | O7: ='Income Statement'!J71 -> -7702 | ... R7: ='Income Statement'!M71 -> 17393 | S7: =SUM(G7:R7) -> 771
A8: Items to Reconcile to Cash Basis:
A9: Depreciation/Amortization | G9: =BS!K27-BS!J27 -> -0.3 | H9: =BS!L27-BS!K27 -> 0 | I9: =BS!M27-BS!L27 -> 0 | J9: =BS!N27-BS!M27 -> 0 | K9: =BS!O27-BS!N27 -> 0 | L9: =BS!P27-BS!O27 -> 0 | M9: =BS!Q27-BS!P27 -> 0 | N9: =BS!R27-BS!Q27 -> 0 | ... R9: =BS!V27-BS!U27 -> 0 | S9: =SUM(G9:R9) -> -0.3
A11: Changes in Components of Working Capital
A12: Accounts Receivable | G12: =(BS!J18+BS!J19)-(BS!K18+BS!K19) -> -4454.22 | H12: =(BS!K18+BS!K19)-(BS!L18+BS!L19) -> -4850 | I12: =(BS!L18+BS!L19)-(BS!M18+BS!M19) -> -4850 | J12: =(BS!M18+BS!M19)-(BS!N18+BS!N19) -> -4850 | K12: =(BS!N18+BS!N19)-(BS!O18+BS!O19) -> -850 | L12: =(BS!O18+BS!O19)-(BS!P18+BS!P19) -> 48300 | M12: =(BS!P18+BS!P19)-(BS!Q18+BS!Q19) -> 14300 | N12: =(BS!Q18+BS!Q19)-(BS!R18+BS!R19) -> -2700 | ... R12: =(BS!U18+BS!U19)-(BS!V18+BS!V19) -> -2700 | S12: =SUM(G12:R12) -> 32245.78
A13: Inventory | G13: =BS!J20-BS!K20 -> -999.62 | H13: =BS!K20-BS!L20 -> -1000 | I13: =BS!L20-BS!M20 -> -1000 | J13: =BS!M20-BS!N20 -> -1000 | K13: =BS!N20-BS!O20 -> 3000 | L13: =BS!O20-BS!P20 -> 1000 | M13: =BS!P20-BS!Q20 -> -3000 | N13: =BS!Q20-BS!R20 -> 0 | ... R13: =BS!U20-BS!V20 -> 0 | S13: =SUM(G13:R13) -> 0.38
A14: Prepaid Expenses | G14: =BS!J21-BS!K21 -> 628.74 | H14: =BS!K21-BS!L21 -> -1600 | I14: =BS!L21-BS!M21 -> -1600 | J14: =BS!M21-BS!N21 -> 400 | K14: =BS!N21-BS!O21 -> 400 | L14: =BS!O21-BS!P21 -> -6000 | M14: =BS!P21-BS!Q21 -> 800 | N14: =BS!Q21-BS!R21 -> 1600 | ... R14: =BS!U21-BS!V21 -> 1500 | S14: =SUM(G14:R14) -> 628.74
A15: Other Current Assets | G15: =BS!J22-BS!K22 -> 21494.33 | H15: =BS!K22-BS!L22 -> 0 | I15: =BS!L22-BS!M22 -> 0 | J15: =BS!M22-BS!N22 -> 0 | K15: =BS!N22-BS!O22 -> 0 | L15: =BS!O22-BS!P22 -> 0 | M15: =BS!P22-BS!Q22 -> 0 | N15: =BS!Q22-BS!R22 -> 0 | ... R15: =BS!U22-BS!V22 -> 0 | S15: =SUM(G15:R15) -> 21494.33
A16: Other Assets | G16: =BS!J30-BS!K30 -> -960.94 | H16: =BS!K30-BS!L30 -> 0 | I16: =BS!L30-BS!M30 -> 0 | J16: =BS!M30-BS!N30 -> 0 | K16: =BS!N30-BS!O30 -> 0 | L16: =BS!O30-BS!P30 -> 0 | M16: =BS!P30-BS!Q30 -> 0 | N16: =BS!Q30-BS!R30 -> 0 | ... R16: =BS!U30-BS!V30 -> 0 | S16: =SUM(G16:R16) -> -960.94
A17: Accounts Payable | G17: =BS!K35-BS!J35 -> 9818.85 | H17: =BS!L35-BS!K35 -> 3086 | I17: =BS!M35-BS!L35 -> 1216 | J17: =BS!N35-BS!M35 -> 5266 | K17: =BS!O35-BS!N35 -> -1724 | L17: =BS!P35-BS!O35 -> 1506 | M17: =BS!Q35-BS!P35 -> -39029 | N17: =BS!R35-BS!Q35 -> -9116 | ... R17: =BS!V35-BS!U35 -> 321 | S17: =SUM(G17:R17) -> -27352.15
A18: Deferred Income | G18: =(BS!K37-BS!J37)+(BS!K38-BS!J38) -> -7980.02 | H18: =(BS!L37-BS!K37)+(BS!L38-BS!K38) -> 53250 | I18: =(BS!M37-BS!L37)+(BS!M38-BS!L38) -> 60550 | J18: =(BS!N37-BS!M37)+(BS!N38-BS!M38) -> 16850 | K18: =(BS!O37-BS!N37)+(BS!O38-BS!N38) -> -61700 | L18: =(BS!P37-BS!O37)+(BS!P38-BS!O38) -> -5300 | M18: =(BS!Q37-BS!P37)+(BS!Q38-BS!P38) -> -8000 | N18: =(BS!R37-BS!Q37)+(BS!R38-BS!Q38) -> -9500 | ... R18: =(BS!V37-BS!U37)+(BS!V38-BS!U38) -> -19500 | S18: =SUM(G18:R18) -> -3830.02
A19: Accruals | G19: =BS!K36-BS!J36 -> -9861.24 | H19: =BS!L36-BS!K36 -> -2500 | I19: =BS!M36-BS!L36 -> -2000 | J19: =BS!N36-BS!M36 -> -2500 | K19: =BS!O36-BS!N36 -> -5000 | L19: =BS!P36-BS!O36 -> -3500 | M19: =BS!Q36-BS!P36 -> -2000 | N19: =BS!R36-BS!Q36 -> -1500 | ... R19: =BS!V36-BS!U36 -> 36300 | S19: =SUM(G19:R19) -> 1638.76
A20: Other Liabilities | G20: =BS!K39-BS!J39 -> 1284.47 | H20: =BS!L39-BS!K39 -> 0 | I20: =BS!M39-BS!L39 -> 0 | J20: =BS!N39-BS!M39 -> 0 | K20: =BS!O39-BS!N39 -> 0 | L20: =BS!P39-BS!O39 -> 0 | M20: =BS!Q39-BS!P39 -> -125 | N20: =BS!R39-BS!Q39 -> -100 | ... R20: =BS!V39-BS!U39 -> 0 | S20: =SUM(G20:R20) -> 1059.47
A21: Total Increase/(Decrease) due to Operating Activities | G21: =SUM(G7:G20) -> -13581.95 | H21: =SUM(H7:H20) -> 38879 | I21: =SUM(I7:I20) -> 74649 | J21: =SUM(J7:J20) -> 16599 | K21: =SUM(K7:K20) -> -32236 | L21: =SUM(L7:L20) -> 30029 | M21: =SUM(M7:M20) -> -53781 | N21: =SUM(N7:N20) -> -31288 | ... R21: =SUM(R7:R20) -> 33314 | S21: =SUM(G21:R21) -> 25695.05
A23: Investing Activities
A24: Capital Expenditures | G24: =BS!J26-BS!K26 -> 0.45 | H24: =BS!K26-BS!L26 -> 0 | I24: =BS!L26-BS!M26 -> 0 | J24: =BS!M26-BS!N26 -> 0 | K24: =BS!N26-BS!O26 -> 0 | L24: =BS!O26-BS!P26 -> 0 | M24: =BS!P26-BS!Q26 -> 0 | N24: =BS!Q26-BS!R26 -> 0 | ... R24: =BS!U26-BS!V26 -> 0 | S24: =SUM(G24:R24) -> 0.45
A26: Financing Activities
A27: Loans | G27: 0 | H27: 0 | I27: 0 | J27: 0 | K27: 0 | L27: 0 | M27: 0 | N27: 0 | O27: 0 | P27: 0 | Q27: 0 | R27: 0 | S27: =SUM(G27:R27) -> 0
A29: Total Increase/(decrease) in Cash | G29: =G21+G24+G27 -> -13581.5 | H29: =H21+H24+H27 -> 38879 | I29: =I21+I24+I27 -> 74649 | J29: =J21+J24+J27 -> 16599 | K29: =K21+K24+K27 -> -32236 | L29: =L21+L24+L27 -> 30029 | M29: =M21+M24+M27 -> -53781 | N29: =N21+N24+N27 -> -31288 | ... R29: =R21+R24+R27 -> 33314 | S29: =SUM(G29:R29) -> 25695.5
A31: Beginning Cash Balance | G31: =BS!J17 -> 104357.93 | H31: =BS!K17 -> 90776.43 | I31: =BS!L17 -> 129655.43 | J31: =BS!M17 -> 204304.43 | K31: =BS!N17 -> 220903.43 | L31: =BS!O17 -> 188667.43 | M31: =BS!P17 -> 218696.43 | N31: =BS!Q17 -> 164915.43 | ... R31: =BS!U17 -> 96739.43
A33: Ending Cash Balance | G33: =G29+G31 -> 90776.43 | H33: =H29+H31 -> 129655.43 | I33: =I29+I31 -> 204304.43 | J33: =J29+J31 -> 220903.43 | K33: =K29+K31 -> 188667.43 | L33: =L29+L31 -> 218696.43 | M33: =M29+M31 -> 164915.43 | N33: =N29+N31 -> 133627.43 | ... R33: =R29+R31 -> 130053.43
A35: (check) | G35: =G33-BS!K17 -> 0 | H35: =H33-BS!L17 -> 0 | I35: =I33-BS!M17 -> 0 | J35: =J33-BS!N17 -> 0 | K35: =K33-BS!O17 -> 0 | L35: =L33-BS!P17 -> 0 | M35: =M33-BS!Q17 -> 0 | N35: =N33-BS!R17 -> 0 | ... R35: =R33-BS!V17 -> 0

Sheet BS wrksht
B1: 43465 | C1: January | D1: February | E1: March | F1: April | G1: May | H1: June | I1: July | J1: August | K1: September | L1: October | M1: November | N1: December
A2: AR Grants
A4: Duck Stamp 2017-2019 | B4: 39383.78 | C4: 2650 | D4: 2650 | E4: 2650 | F4: 2650 | G4: 2650
A5: Other | H5: 1500 | I5: 1500 | J5: 1500 | K5: 1500 | L5: 1500 | M5: 1500 | N5: 1500
A6: Small NAWCA | B6: 13347 | C6: 1200 | D6: 1200 | E6: 1200 | F6: 1200 | G6: 1200 | H6: 1200 | I6: 1200 | J6: 1200 | K6: 1200 | L6: 1200 | M6: 1200 | N6: 1200
A7: USFWS | B7: 0 | C7: 1800 | D7: 1800 | E7: 500 | F7: 6500 | G7: 500 | H7: 1100 | I7: 3500 | J7: 10000 | K7: 300 | L7: 20000 | M7: 8500 | N7: 6000
A8: AR Grant Payments | C8: -1800 | D8: -1800 | E8: -500 | F8: -6500 | G8: -500 | H8: -51100 | I8: -23500 | J8: -10000 | K8: -300 | L8: -20000 | M8: -8500 | N8: -6000
A9: Totals | B9: =SUM(B3:B8) -> 52730.78 | C9: =SUM(B9+C3+C4+C5+C6+C7+C8) -> 56580.78 | D9: =SUM(C9+D3+D4+D5+D6+D7+D8) -> 60430.78 | E9: =SUM(D9+E3+E4+E5+E6+E7+E8) -> 64280.78 | F9: =SUM(E9+F3+F4+F5+F6+F7+F8) -> 68130.78 | G9: =SUM(F9+G3+G4+G5+G6+G7+G8) -> 71980.78 | H9: =SUM(G9+H3+H4+H5+H6+H7+H8) -> 24680.78 | I9: =SUM(H9+I3+I4+I5+I6+I7+I8) -> 7380.78 | J9: =SUM(I9+J3+J4+J5+J6+J7+J8) -> 10080.78 | ... N9: =SUM(M9+N3+N4+N5+N6+N7+N8) -> 20880.78
A11: AR Trade
A12: Banquets - $1000 ea. | C12: 1000 | D12: 2000 | E12: 3000 | F12: 4000 | G12: 1000 | H12: 0 | I12: 3000 | J12: 3000 | K12: 1000 | L12: 0 | M12: 0 | N12: 2000
A13: Chapter Payments | C13: 0 | D13: -1000 | E13: -2000 | F13: -3000 | G13: -4000 | H13: -1000 | I13: 0 | J13: -3000 | K13: -3000 | L13: -1000 | M13: 0 | N13: -2000
A14: Ending Balance | B14: 0 | C14: =SUM(B12+C12+C13) -> 1000 | D14: =SUM(C14+D12+D13) -> 2000 | E14: =SUM(D14+E12+E13) -> 3000 | F14: =SUM(E14+F12+F13) -> 4000 | G14: =SUM(F14+G12+G13) -> 1000 | H14: =SUM(G14+H12+H13) -> 0 | I14: =SUM(H14+I12+I13) -> 3000 | J14: =SUM(I14+J12+J13) -> 3000 | K14: =SUM(J14+K12+K13) -> 1000 | ... N14: =SUM(M14+N12+N13) -> 0
A16: Inventory
B17: 39291
A18: Plus Banquets - $1000 ea. | C18: 1000 | D18: 2000 | E18: 3000 | F18: 4000 | G18: 1000 | H18: 0 | I18: 3000 | J18: 3000 | K18: 1000 | L18: 0 | N18: 2000
A19: Minus Inventory used - $1000 ea. | C19: 0 | D19: -1000 | E19: -2000 | F19: -3000 | G19: -4000 | H19: -1000 | J19: -3000 | K19: -3000 | L19: -1000 | M19: 0 | N19: -2000
A20: Total | C20: =SUM(B17+C18+C19) -> 40291 | D20: =SUM(C20+D18+D19) -> 41291 | E20: =SUM(D20+E18+E19) -> 42291 | F20: =SUM(E20+F18+F19) -> 43291 | G20: =SUM(F20+G18+G19) -> 40291 | H20: =SUM(G20+H18+H19) -> 39291 | I20: =SUM(H20+I18+I19) -> 42291 | J20: =SUM(I20+J18+J19) -> 42291 | K20: =SUM(J20+K18+K19) -> 40291 | ... N20: =SUM(M20+N18+N19) -> 39291
A22: AP
A23: Beginning Balance | B23: 51604 | C23: 51604 | D23: =C26 -> 61482 | E23: =D26 -> 64568 | F23: =E26 -> 65784 | G23: =F26 -> 71050 | H23: =G26 -> 69326 | I23: =H26 -> 70832 | J23: =I26 -> 31803 | K23: =J26 -> 22687 | ... N23: =M26 -> 23990
A24: Budget Exp minus Salaries | C24: =SUM('Income Statement'!B68)-13051 -> 16997 | D24: =SUM('Income Statement'!C68)-13051 -> 17327 | E24: =SUM('Income Statement'!D68)-13051 -> 15487 | F24: =SUM('Income Statement'!E68)-13051 -> 17987 | G24: =SUM('Income Statement'!F68)-13051 -> 13507 | H24: =SUM('Income Statement'!G68)-13051 -> 12257 | I24: =SUM('Income Statement'!H68)-13051 -> 15472 | J24: =SUM('Income Statement'!I68)-13051 -> 21602 | ... N24: =SUM('Income Statement'!M68)-13051 -> 12202
A25: Payments | C25: 7119 | D25: 14241 | E25: 14271 | F25: 12721 | G25: 15231 | H25: 10751 | I25: 54501 | J25: 30718 | K25: 18846 | L25: 6616 | M25: 24146 | N25: 11881
A26: Balance | B26: 51604 | C26: =SUM(C23+C24-C25) -> 61482 | D26: =SUM(D23+D24-D25) -> 64568 | E26: =SUM(E23+E24-E25) -> 65784 | F26: =SUM(F23+F24-F25) -> 71050 | G26: =SUM(G23+G24-G25) -> 69326 | H26: =SUM(H23+H24-H25) -> 70832 | I26: =SUM(I23+I24-I25) -> 31803 | J26: =SUM(J23+J24-J25) -> 22687 | ... N26: =SUM(N23+N24-N25) -> 24311

Sheet P&L Monthly Totals
B1: January | C1: Feb | D1: March | E1: April | F1: May | G1: June | H1: July | I1: August | J1: Sept | K1: Oct | L1: Nov | M1: Dec | N1: Totals
A2: Gross Sales
A3: Chapter event revenue | N3: =SUM(B3:M3) -> 0
A4: State event revenue | N4: =SUM(B4:M4) -> 0
A5: Membership revenue | N5: =SUM(B5:M5) -> 0
A6: Sponsor revenue | N6: =SUM(B6:M6) -> 0
A7: Restoration revenue | N7: =SUM(B7:M7) -> 0
A8: other grant revenue | N8: =SUM(B8:M8) -> 0
A9: Other | N9: =SUM(B9:M9) -> 0
N10: =SUM(B10:M10) -> 0
A11: Net Sales | N11: =SUM(B11:M11) -> 0
N12: =SUM(B12:M12) -> 0
A13: Standard Cost of Sales | N13: =SUM(B13:M13) -> 0
A14: COS-Chapter event revenue | N14: =SUM(B14:M14) -> 0
A15: COS-State event revenue | N15: =SUM(B15:M15) -> 0
A16: COS-Other | N16: =SUM(B16:M16) -> 0
N17: =SUM(B17:M17) -> 0
N18: =SUM(B18:M18) -> 0
N19: =SUM(B19:M19) -> 0
A20: Total Standard Cost of Sales | N20: =SUM(B20:M20) -> 0
N21: =SUM(B21:M21) -> 0
A22: Gross Profit | N22: =SUM(B22:M22) -> 0
N23: =SUM(B23:M23) -> 0
A24: Operating Expenses | N24: =SUM(B24:M24) -> 0
A25: Development: | N25: =SUM(B25:M25) -> 0
A26: Wages | N26: =SUM(B26:M26) -> 0
A27: Benefits | N27: =SUM(B27:M27) -> 0
A28: Travel | N28: =SUM(B28:M28) -> 0
A29: Phone | N29: =SUM(B29:M29) -> 0
A30: Event expenses | N30: =SUM(B30:M30) -> 0
A31: Postage & shipping | N31: =SUM(B31:M31) -> 0
A32: Shows & meetings | N32: =SUM(B32:M32) -> 0
A33: Marketing | N33: =SUM(B33:M33) -> 0
A34: Magazine | N34: =SUM(B34:M34) -> 0
A35: Advertising | N35: =SUM(B35:M35) -> 0
... A38: Total | N38: =SUM(B38:M38) -> 0
N39: =SUM(B39:M39) -> 0
A40: Program Services: | N40: =SUM(B40:M40) -> 0
A41: Wages | N41: =SUM(B41:M41) -> 0
A42: Travel | N42: =SUM(B42:M42) -> 0
...

Sheet 2011 VS 2012 by Class
B1: Chapters/Development | E1: Restoration/HRP | H1: Education
B3: 2011 | C3: 2012 | E3: 2011 | F3: 2012 | H3: 2011 | I3: 2012
A4: Revenue | B4: 681264 | C4: 508315 | E4: 69164 | F4: 63500 | H4: 30500 | I4: 0
A5: Expense | B5: 819790 | C5: 547675 | E5: 96398 | F5: 93050 | H5: 20000 | I5: 20000
A6: Profit (Loss) | B6: =SUM(B4-B5) -> -138526 | C6: =SUM(C4-C5) -> -39360 | E6: =SUM(E4-E5) -> -27234 | F6: =SUM(F4-F5) -> -29550 | H6: =SUM(H4-H5) -> 10500 | I6: =SUM(I4-I5) -> -20000
