Workbook
Name PRINT_AREA_MI: [1]CAP!#REF!
Name PRINT_TITLES_MI: [1]CAP!#REF!
Name PrintArea: BS!$E$3:$M$48
Name Report: BS!$A$3:$M$48
Name rptacctidend: " "
Name rptacctidstart: " "
Name rptcurr1: " "
Name rptcurr10: " "
Name rptcurr2: " "
Name rptcurr3: " "
Name rptcurr4: " "
Name rptcurr5: " "
Name rptcurr6: " "
Name rptcurr7: " "
Name rptcurr8: " "
Name rptcurr9: " "
Name rptgroupend: 16
Name rptgroupstart: 1
Name rptorderby: 2
Name rptorderbysegid: 1
Name rptperiod: 5
Name rptprovtype: 1
Name rptsegend1: "ZZZZZ"
Name rptsegend10: " "
Name rptsegend2: "ZZ"
Name rptsegend3: "ZZZ"
Name rptsegend4: " "
Name rptsegend5: " "
Name rptsegend6: " "
Name rptsegend7: " "
Name rptsegend8: " "
Name rptsegend9: " "
Name rptsegoption1: 1
Name rptsegoption10: 0
Name rptsegoption2: 1
Name rptsegoption3: 1
Name rptsegoption4: 0
Name rptsegoption5: 0
Name rptsegoption6: 0
Name rptsegoption7: 0
Name rptsegoption8: 0
Name rptsegoption9: 0
Name rptsegstart1: " "
Name rptsegstart10: " "
Name rptsegstart2: " "
Name rptsegstart3: " "
Name rptsegstart4: " "
Name rptsegstart5: " "
Name rptsegstart6: " "
Name rptsegstart7: " "
Name rptsegstart8: " "
Name rptsegstart9: " "
Name rptyear: 2009
Name Spec: BS!#REF!

Sheet Income Statement
A1: Wisconsin Waterfowl Association
A2: Income Statement
A3: 2022 Budget
A6: 2022 Budget | P6: 2021 Actuals
B7: January | C7: February | D7: March | E7: April | F7: May | G7: June | H7: July | I7: August | J7: September | K7: October | L7: November | M7: December | N7: Total | P7: 12.31.21
A8: Gross Sales
A9: Chapter event revenue | B9: 0 | C9: 3750 | D9: 0 | E9: 113500 | F9: 60000 | G9: 32500 | H9: 7500 | I9: 89250 | J9: 1875 | K9: 55500 | L9: 28750 | M9: 36250 | N9: =SUM(B9:M9) -> 428875 | P9: 456707
A10: State event revenue | B10: 275 | C10: 950 | D10: 500 | E10: 50 | F10: 870 | G10: 150 | H10: 100 | I10: 1300 | J10: 10400 | K10: 7800 | L10: 14500 | M10: 44300 | N10: =SUM(B10:M10) -> 81195 | P10: 109781
A11: Membership revenue | B11: 825 | C11: 1025 | D11: 1425 | E11: 725 | F11: 725 | G11: 1525 | H11: 1025 | I11: 1525 | J11: 1025 | K11: 1375 | L11: 1000 | M11: 525 | N11: =SUM(B11:M11) -> 12725 | P11: 15435
A12: Sponsor revenue | B12: 0 | C12: 0 | D12: 0 | E12: 1000 | F12: 0 | G12: 0 | H12: 0 | I12: 0 | J12: 0 | K12: 0 | L12: 0 | M12: 0 | N12: =SUM(B12:M12) -> 1000 | P12: 1500
A13: Restoration revenue | B13: 4896 | C13: 4896 | D13: 4896 | E13: 4896 | F13: 4896 | G13: 4896 | H13: 4896 | I13: 4896 | J13: 4896 | K13: 4896 | L13: 4896 | M13: 4896 | N13: =SUM(B13:M13) -> 58752 | P13: 57807
A14: other grant revenue | B14: 11800 | C14: 8900 | D14: 4500 | E14: 26700 | F14: 7350 | G14: 29500 | H14: 4850 | I14: 21380 | J14: 19640 | K14: 17850 | L14: 18000 | M14: 5000 | N14: =SUM(B14:M14) -> 175470 | P14: 187131
A15: EXPO revenue | B15: 0 | C15: 0 | D15: 1500 | E15: 5000 | F15: 500 | G15: 1200 | H15: 3500 | I15: 20000 | J15: 2500 | K15: 0 | L15: 0 | M15: 0 | N15: =SUM(B15:M15) -> 34200 | P15: 0
A16: Other | B16: 500 | C16: 500 | D16: 500 | E16: 500 | F16: 250 | G16: 500 | H16: 500 | I16: 1000 | J16: 100 | K16: 350 | L16: 1500 | M16: 500 | N16: =SUM(B16:M16) -> 6700 | P16: 99193
A18: Net Sales | B18: =SUM(B9:B17) -> 18296 | C18: =SUM(C9:C17) -> 20021 | D18: =SUM(D9:D17) -> 13321 | E18: =SUM(E9:E17) -> 152371 | F18: =SUM(F9:F17) -> 74591 | G18: =SUM(G9:G17) -> 70271 | H18: =SUM(H9:H17) -> 22371 | I18: =SUM(I9:I17) -> 139351 | ... N18: =SUM(N9:N17) -> 798917 | P18: 922072
A20: Standard Cost of Sales
A21: COS-Chapter event revenue | B21: 0 | C21: 2250 | D21: 0 | E21: 68100 | F21: 36000 | G21: 19500 | H21: 4500 | I21: 53550 | J21: 1125 | K21: 33300 | L21: 17250 | M21: 21750 | N21: =SUM(B21:M21) -> 257325 | P21: 198555
A22: COS-State event revenue | B22: 100 | C22: 100 | D22: 100 | E22: 100 | F22: 100 | G22: 100 | H22: 100 | I22: 2100 | J22: 400 | K22: 6600 | L22: 4300 | M22: 37100 | N22: =SUM(B22:M22) -> 51200 | P22: 54672
A23: COS-Other | B23: 0 | C23: 0 | D23: 0 | E23: 0 | F23: 0 | G23: 0 | H23: 0 | I23: 0 | J23: 0 | K23: 0 | L23: 0 | M23: 0 | N23: =SUM(B23:M23) -> 0 | P23: 0
A27: Total Standard Cost of Sales | B27: =SUM(B21:B26) -> 100 | C27: =SUM(C21:C26) -> 2350 | D27: =SUM(D21:D26) -> 100 | E27: =SUM(E21:E26) -> 68200 | F27: =SUM(F21:F26) -> 36100 | G27: =SUM(G21:G26) -> 19600 | H27: =SUM(H21:H26) -> 4600 | I27: =SUM(I21:I26) -> 55650 | ... N27: =SUM(N21:N26) -> 308525 | P27: 253227
A29: Gross Profit | B29: =B18-B27 -> 18196 | C29: =C18-C27 -> 17671 | D29: =D18-D27 -> 13221 | E29: =E18-E27 -> 84171 | F29: =F18-F27 -> 38491 | G29: =G18-G27 -> 50671 | H29: =H18-H27 -> 17771 | I29: =I18-I27 -> 83701 | ... N29: =N18-N27 -> 490392 | P29: 674328
A31: Operating Expenses
A32: Development:
A33: Wages | B33: 3630 | C33: 10094 | D33: 4393 | E33: 5035 | F33: 4213 | G33: 4704 | H33: 4114 | I33: 3080 | J33: 3960 | K33: 4070 | L33: 4960 | M33: 4960 | N33: =SUM(B33:M33) -> 57213 | P33: 48835
A34: Benefits | B34: 0 | C34: 0 | D34: 0 | E34: 0 | F34: 0 | G34: 0 | H34: 0 | I34: 0 | J34: 0 | K34: 0 | L34: 0 | M34: 0 | N34: =SUM(B34:M34) -> 0 | P34: 0
A35: Travel | B35: 50 | C35: 0 | D35: 400 | E35: 200 | F35: 80 | G35: 615 | H35: 825 | I35: 600 | J35: 0 | K35: 0 | L35: 250 | M35: 1000 | N35: =SUM(B35:M35) -> 4020 | P35: 3679
A36: Phone | B36: 160 | C36: 110 | D36: 115 | E36: 115 | F36: 115 | G36: 115 | H36: 115 | I36: 65 | J36: 120 | K36: 120 | L36: 120 | M36: 120 | N36: =SUM(B36:M36) -> 1390 | P36: 1388
A37: Event expenses | B37: 3600 | C37: 900 | D37: 4600 | E37: 700 | F37: 800 | G37: 1000 | H37: 950 | I37: 950 | J37: 500 | K37: 500 | L37: 1000 | M37: 1000 | N37: =SUM(B37:M37) -> 16500 | P37: 17609
A38: Postage & shipping | B38: 150 | C38: 50 | D38: 25 | E38: 0 | F38: 350 | G38: 40 | H38: 30 | I38: 50 | J38: 0 | K38: 120 | L38: 100 | M38: 100 | N38: =SUM(B38:M38) -> 1015 | P38: 875
A39: Shows & meetings | B39: 0 | C39: 0 | D39: 0 | E39: 0 | F39: 0 | G39: 0 | H39: 0 | I39: 0 | J39: 0 | K39: 0 | L39: 0 | M39: 0 | N39: =SUM(B39:M39) -> 0 | P39: 0
A40: Marketing | B40: 0 | C40: 0 | D40: 0 | E40: 0 | F40: 0 | G40: 0 | H40: 0 | I40: 0 | J40: 0 | K40: 0 | L40: 0 | M40: 0 | N40: =SUM(B40:M40) -> 0 | P40: 0
A41: Magazine | B41: 0 | C41: 0 | D41: 0 | E41: 0 | F41: 0 | G41: 0 | H41: 0 | I41: 0 | J41: 0 | K41: 0 | L41: 0 | M41: 0 | N41: =SUM(B41:M41) -> 0 | P41: 0
A42: Advertising | B42: 0 | C42: 0 | D42: 0 | E42: 0 | F42: 0 | G42: 0 | H42: 0 | I42: 0 | J42: 0 | K42: 0 | L42: 0 | M42: 0 | N42: =SUM(B42:M42) -> 0 | P42: 0
A43: Rent | B43: 390 | C43: 350 | D43: 410 | E43: 390 | F43: 350 | G43: 350 | H43: 400 | I43: 350 | J43: 350 | K43: 390 | L43: 350 | M43: 350 | N43: =SUM(B43:M43) -> 4430 | P43: 4388
A44: Other | B44: 0 | C44: 0 | D44: 0 | E44: 0 | F44: 0 | G44: 0 | H44: 0 | I44: 0 | J44: 0 | K44: 0 | L44: 0 | M44: 0 | N44: =SUM(B44:M44) -> 0 | P44: 4538
A45: Total | B45: =SUM(B33:B44) -> 7980 | C45: =SUM(C33:C44) -> 11504 | D45: =SUM(D33:D44) -> 9943 | E45: =SUM(E33:E44) -> 6440 | F45: =SUM(F33:F44) -> 5908 | G45: =SUM(G33:G44) -> 6824 | H45: =SUM(H33:H44) -> 6434 | I45: =SUM(I33:I44) -> 5095 | ... N45: =SUM(N33:N44) -> 84568 | P45: 81312
A47: Program Services:
A48: Wages | B48: 6930 | C48: 18763 | D48: 5731 | E48: 6583 | F48: 6600 | G48: 6820 | H48: 6765 | I48: 7810 | J48: 7051 | K48: 6545 | L48: 6737 | M48: 6737 | N48: =SUM(B48:M48) -> 93072 | P48: 82450
A49: Travel | B49: 230 | C49: 100 | D49: 125 | E49: 0 | F49: 150 | G49: 110 | H49: 300 | I49: 800 | J49: 0 | K49: 225 | L49: 500 | M49: 500 | N49: =SUM(B49:M49) -> 3040 | P49: 2698
A50: Other | B50: 2600 | C50: 300 | D50: 450 | E50: 760 | F50: 350 | G50: 550 | H50: 790 | I50: 750 | J50: 350 | K50: 1000 | L50: 750 | M50: 900 | N50: =SUM(B50:M50) -> 9550 | P50: 9603
...

Sheet BS
E3: Wisconsin Waterfowl Association
E4: Balance Sheet
J6: 5 | K6: 2009 | L6: 39934 | M6: 39934
F9: Assets | J9: 12.31.21 | K9: January | L9: February | M9: March | N9: April | O9: May | P9: June | Q9: July | R9: August | S9: September | T9: October | U9: November | V9: December
G10: Current Assets
G11: Cash
H12: Chapters | J12: 17912 | K12: 10000 | L12: 9000 | M12: 15500 | N12: 21700 | O12: 16500 | P12: 16000 | Q12: 22300 | R12: 41500 | S12: 35400 | T12: 26000 | U12: 26500 | V12: 10000
H13: State restricted | J13: 0 | K13: 70000 | L13: 70000 | M13: 70000 | N13: 70000 | O13: 70000 | P13: 70000 | Q13: 70000 | R13: 70000 | S13: 70000 | T13: 70000 | U13: 70000 | V13: 70000
H14: Raffle restricted | J14: 43642 | K14: 22000 | L14: 4000 | M14: 3800 | N14: 3500 | O14: 3200 | P14: 3000 | Q14: 7000 | R14: 10000 | S14: 14200 | T14: 15500 | U14: 19300 | V14: 54200
H15: Abrams restricted | J15: 4438 | K15: 4438 | L15: 4438 | M15: 4438 | N15: 4438 | O15: 4438 | P15: 4438 | Q15: 4438 | R15: 4438 | S15: 4438 | T15: 4438 | U15: 4438 | V15: 4438
H16: AWA restricted | J16: 1720.5 | K16: 1721 | L16: 1721 | M16: 1721 | N16: 1721 | O16: 1721 | P16: 1721 | Q16: 1721 | R16: 1721 | S16: 1721 | T16: 1721 | U16: 1721 | V16: 1721
H17: EXPO restricted | J17: 19335 | K17: 19585 | L17: 19585 | M17: 19585 | N17: 24500 | O17: 25000 | P17: 26000 | Q17: 27800 | R17: 39800 | S17: 38700 | T17: 36500 | U17: 36500 | V17: 36500
H18: Chapter Loan restricted | J18: 0 | K18: 8000 | L18: 8000 | M18: 8000 | N18: 8000 | O18: 8000 | P18: 8000 | Q18: 8000 | R18: 8000 | S18: 8000 | T18: 8000 | U18: 8000 | V18: 8000
H19: State Unrestricted | J19: 245518 | K19: =SUM(K20-K12-K13-K14-K15-K16-K17-K18) -> 217587.09 | L19: =SUM(L20-L12-L13-L14-L15-L16-L17-L18) -> 222260.09 | M19: =SUM(M20-M12-M13-M14-M15-M16-M17-M18) -> 177745.09 | N19: =SUM(N20-N12-N13-N14-N15-N16-N17-N18) -> 240430.09 | O19: =SUM(O20-O12-O13-O14-O15-O16-O17-O18) -> 220915.09 | P19: =SUM(P20-P12-P13-P14-P15-P16-P17-P18) -> 236770.09 | Q19: =SUM(Q20-Q12-Q13-Q14-Q15-Q16-Q17-Q18) -> 213029.09 | R19: =SUM(R20-R12-R13-R14-R15-R16-R17-R18) -> 254471.09 | ... V19: =SUM(V20-V12-V13-V14-V15-V16-V17-V18) -> 224952.09
H20: Total Cash | J20: =SUM(J12:J19) -> 332565.5 | K20: =CF!G33 -> 353331.09 | L20: =CF!H33 -> 339004.09 | M20: =CF!I33 -> 300789.09 | N20: =CF!J33 -> 374289.09 | O20: =CF!K33 -> 349774.09 | P20: =CF!L33 -> 365929.09 | Q20: =CF!M33 -> 354288.09 | R20: =CF!N33 -> 429930.09 | ... V20: =CF!R33 -> 409811.09
G21: Accounts Receivable - Trade | J21: 0 | K21: =SUM('BS wrksht'!C14) -> 0 | L21: =SUM('BS wrksht'!D14) -> 1000 | M21: =SUM('BS wrksht'!E14) -> 0 | N21: =SUM('BS wrksht'!F14) -> 4000 | O21: =SUM('BS wrksht'!G14) -> 1000 | P21: =SUM('BS wrksht'!H14) -> 3000 | Q21: =SUM('BS wrksht'!I14) -> 1000 | R21: =SUM('BS wrksht'!J14) -> 9000 | ... V21: =SUM('BS wrksht'!N14) -> 0
G22: Accounts Receivable - Grants | J22: 30184 | K22: =SUM('BS wrksht'!C9) -> 30769.06 | L22: =SUM('BS wrksht'!D9) -> 16769.06 | M22: =SUM('BS wrksht'!E9) -> 17769.06 | N22: =SUM('BS wrksht'!F9) -> 16069.06 | O22: =SUM('BS wrksht'!G9) -> 17069.06 | P22: =SUM('BS wrksht'!H9) -> 19169.06 | Q22: =SUM('BS wrksht'!I9) -> 669.06 | R22: =SUM('BS wrksht'!J9) -> 1169.06 | ... V22: =SUM('BS wrksht'!N9) -> 4669.06
G23: Inventory | J23: 27602 | K23: =SUM('BS wrksht'!C20) -> 27602 | L23: =SUM('BS wrksht'!D20) -> 28602 | M23: =SUM('BS wrksht'!E20) -> 27602 | N23: =SUM('BS wrksht'!F20) -> 31602 | O23: =SUM('BS wrksht'!G20) -> 28602 | P23: =SUM('BS wrksht'!H20) -> 30602 | Q23: =SUM('BS wrksht'!I20) -> 28602 | R23: =SUM('BS wrksht'!J20) -> 36602 | ... V23: =SUM('BS wrksht'!N20) -> 27602
G24: Prepaid Expenses | J24: 11553 | K24: 10000 | L24: 11600 | M24: 13200 | N24: 12800 | O24: 12400 | P24: 18400 | Q24: 17600 | R24: 16000 | S24: 14000 | T24: 12000 | U24: 11500 | V24: 10000
G25: Other Current Assets | J25: 35588 | K25: 0 | L25: 0 | M25: 0 | N25: 0 | O25: 0 | P25: 0 | Q25: 0 | R25: 0 | S25: 0 | T25: 0 | U25: 0 | V25: 0
G26: Total Current Assets | J26: =SUM(J20:J25) -> 437492.5 | K26: =SUM(K20:K25) -> 421702.15 | L26: =SUM(L20:L25) -> 396975.15 | M26: =SUM(M20:M25) -> 359360.15 | N26: =SUM(N20:N25) -> 438760.15 | O26: =SUM(O20:O25) -> 408845.15 | P26: =SUM(P20:P25) -> 437100.15 | Q26: =SUM(Q20:Q25) -> 402159.15 | ... V26: =SUM(V20:V25) -> 452082.15
G28: Fixed Assets
G29: Gross Fixed Assets | J29: 147759.45 | K29: 147759 | L29: 147759 | M29: 147759 | N29: 147759 | O29: 147759 | P29: 147759 | Q29: 147759 | R29: 147759 | S29: 147759 | T29: 147759 | U29: 147759 | V29: 147759
G30: Accum. Depreciation | J30: -14306.2 | K30: -14306 | L30: -14306 | M30: -14306 | N30: -14306 | O30: -14306 | P30: -14306 | Q30: -14306 | R30: -14306 | S30: -14306 | T30: -14306 | U30: -14306 | V30: -14306
G31: Net Fixed Assets | J31: =SUM(J29:J30) -> 133453.25 | K31: =SUM(K29:K30) -> 133453 | L31: =SUM(L29:L30) -> 133453 | M31: =SUM(M29:M30) -> 133453 | N31: =SUM(N29:N30) -> 133453 | O31: =SUM(O29:O30) -> 133453 | P31: =SUM(P29:P30) -> 133453 | Q31: =SUM(Q29:Q30) -> 133453 | ... V31: =SUM(V29:V30) -> 133453
G33: Other Assets | J33: 43178 | K33: 37018 | L33: 37018 | M33: 37018 | N33: 37018 | O33: 37018 | P33: 37018 | Q33: 37018 | R33: 37018 | S33: 37018 | T33: 37018 | U33: 37018 | V33: 37018
G34: Total Assets | J34: =J26+J31+J33 -> 614123.75 | K34: =K26+K31+K33 -> 592173.15 | L34: =L26+L31+L33 -> 567446.15 | M34: =M26+M31+M33 -> 529831.15 | N34: =N26+N31+N33 -> 609231.15 | O34: =O26+O31+O33 -> 579316.15 | P34: =P26+P31+P33 -> 607571.15 | Q34: =Q26+Q31+Q33 -> 572630.15 | ... V34: =V26+V31+V33 -> 622553.15
F36: Liabilities & Equity
G37: Current Liabilities
G38: Accounts Payable | J38: 2979 | K38: =SUM('BS wrksht'!C26) -> 20526 | L38: =SUM('BS wrksht'!D26) -> 34264 | M38: =SUM('BS wrksht'!E26) -> 12799 | N38: =SUM('BS wrksht'!F26) -> 32434 | O38: =SUM('BS wrksht'!G26) -> 11444 | P38: =SUM('BS wrksht'!H26) -> 34340 | Q38: =SUM('BS wrksht'!I26) -> 12072 | R38: =SUM('BS wrksht'!J26) -> 36525 | ... V38: =SUM('BS wrksht'!N26) -> 10922
G39: Accued Liabilities | J39: 43642 | K39: 22000 | L39: 4000 | M39: 3800 | N39: 3500 | O39: 3200 | P39: 3000 | Q39: 7000 | R39: 10000 | S39: 14200 | T39: 15500 | U39: 19300 | V39: 54200
G40: Deferred Chapter Bank Accounts | J40: 17912 | K40: 10000 | L40: 9000 | M40: 15500 | N40: 21700 | O40: 16500 | P40: 16000 | Q40: 22300 | R40: 41500 | S40: 35400 | T40: 26000 | U40: 26500 | V40: 10000
G41: Deferred Chapter Credit Cards | J41: -7209 | K41: 3700 | L41: 18700 | M41: 13700 | N41: 33700 | O41: 21100 | P41: 28700 | Q41: 17900 | R41: 33300 | S41: 13900 | T41: 100 | U41: 7000 | V41: 100
G42: Other Liabilities | J42: 2791 | K42: 2140 | L42: 2140 | M42: 2140 | N42: 2140 | O42: 2140 | P42: 2140 | Q42: 2140 | R42: 2140 | S42: 2140 | T42: 2140 | U42: 2140 | V42: 2140
G43: Total Liabilities | J43: =SUM(J38:J42) -> 60115 | K43: =SUM(K38:K42) -> 58366 | L43: =SUM(L38:L42) -> 68104 | M43: =SUM(M38:M42) -> 47939 | N43: =SUM(N38:N42) -> 93474 | O43: =SUM(O38:O42) -> 54384 | P43: =SUM(P38:P42) -> 84180 | Q43: =SUM(Q38:Q42) -> 61412 | ... V43: =SUM(V38:V42) -> 77362
G44: Equity
G45: Net Equity at Beginning of Year | J45: 353971 | K45: 554008 | L45: 554008 | M45: 554008 | N45: 554008 | O45: 554008 | P45: 554008 | Q45: 554008 | R45: 554008 | S45: 554008 | T45: 554008 | U45: 554008 | V45: 554008
G46: Current Year P&L | J46: 200037 | K46: ='Income Statement'!B73 -> -20202 | L46: =K46+'Income Statement'!C73 -> -54667 | M46: =L46+'Income Statement'!D73 -> -72117 | N46: =M46+'Income Statement'!E73 -> -38252 | O46: =N46+'Income Statement'!F73 -> -29077 | P46: =O46+'Income Statement'!G73 -> -30618 | Q46: =P46+'Income Statement'!H73 -> -42791 | R46: =Q46+'Income Statement'!I73 -> -14302 | S46: =R46+'Income Statement'!J73 -> -20940 | ... V46: =U46+'Income Statement'!M73 -> -8818
G47: Total Equity | J47: =SUM(J45:J46) -> 554008 | K47: =SUM(K45:K46) -> 533806 | L47: =SUM(L45:L46) -> 499341 | M47: =SUM(M45:M46) -> 481891 | N47: =SUM(N45:N46) -> 515756 | O47: =SUM(O45:O46) -> 524931 | P47: =SUM(P45:P46) -> 523390 | Q47: =SUM(Q45:Q46) -> 511217 | ... V47: =SUM(V45:V46) -> 545190
G48: Total Liabilities & Equity | J48: =J43+J47 -> 614123 | K48: =K43+K47 -> 592172 | L48: =L43+L47 -> 567445 | M48: =M43+M47 -> 529830 | N48: =N43+N47 -> 609230 | O48: =O43+O47 -> 579315 | P48: =P43+P47 -> 607570 | Q48: =Q43+Q47 -> 572629 | ... V48: =V43+V47 -> 622552
...

Sheet CF
A3: Wisconsin Waterfowl Association
A4: Cash Flow
G5: January | H5: February | I5: March | J5: April | K5: May | L5: June | M5: July | N5: August | O5: September | P5: October | Q5: November | R5: December
A6: Operating Activities
A7: Net Income | G7: =SUM('Income Statement'!B73) -> -20202 | H7: ='Income Statement'!C73 -> -34465 | I7: ='Income Statement'!D73 -> -17450 | J7: ='Income Statement'!E73 -> 33865 | K7: ='Income Statement'!F73 -> 9175 | L7: ='Income Statement'!G73 -> -1541 | M7: ='Income Statement'!H73 -> -12173 | N7: ='Income Statement'!I73 -> 28489 | O7: ='Income Statement'!J73 -> -6638 | ... R7: ='Income Statement'!M73 -> 3012 | S7: =SUM(G7:R7) -> -8818
A8: Items to Reconcile to Cash Basis:
A9: Depreciation/Amortization | G9: =BS!K30-BS!J30 -> 0.2 | H9: =BS!L30-BS!K30 -> 0 | I9: =BS!M30-BS!L30 -> 0 | J9: =BS!N30-BS!M30 -> 0 | K9: =BS!O30-BS!N30 -> 0 | L9: =BS!P30-BS!O30 -> 0 | M9: =BS!Q30-BS!P30 -> 0 | N9: =BS!R30-BS!Q30 -> 0 | ... R9: =BS!V30-BS!U30 -> 0 | S9: =SUM(G9:R9) -> 0.2
A11: Changes in Components of Working Capital
A12: Accounts Receivable | G12: =(BS!J21+BS!J22)-(BS!K21+BS!K22) -> -585.06 | H12: =(BS!K21+BS!K22)-(BS!L21+BS!L22) -> 13000 | I12: =(BS!L21+BS!L22)-(BS!M21+BS!M22) -> 0 | J12: =(BS!M21+BS!M22)-(BS!N21+BS!N22) -> -2300 | K12: =(BS!N21+BS!N22)-(BS!O21+BS!O22) -> 2000 | L12: =(BS!O21+BS!O22)-(BS!P21+BS!P22) -> -4100 | M12: =(BS!P21+BS!P22)-(BS!Q21+BS!Q22) -> 20500 | N12: =(BS!Q21+BS!Q22)-(BS!R21+BS!R22) -> -8500 | ... R12: =(BS!U21+BS!U22)-(BS!V21+BS!V22) -> 0 | S12: =SUM(G12:R12) -> 25514.94
A13: Inventory | G13: =BS!J23-BS!K23 -> 0 | H13: =BS!K23-BS!L23 -> -1000 | I13: =BS!L23-BS!M23 -> 1000 | J13: =BS!M23-BS!N23 -> -4000 | K13: =BS!N23-BS!O23 -> 3000 | L13: =BS!O23-BS!P23 -> -2000 | M13: =BS!P23-BS!Q23 -> 2000 | N13: =BS!Q23-BS!R23 -> -8000 | ... R13: =BS!U23-BS!V23 -> 1000 | S13: =SUM(G13:R13) -> 0
A14: Prepaid Expenses | G14: =BS!J24-BS!K24 -> 1553 | H14: =BS!K24-BS!L24 -> -1600 | I14: =BS!L24-BS!M24 -> -1600 | J14: =BS!M24-BS!N24 -> 400 | K14: =BS!N24-BS!O24 -> 400 | L14: =BS!O24-BS!P24 -> -6000 | M14: =BS!P24-BS!Q24 -> 800 | N14: =BS!Q24-BS!R24 -> 1600 | ... R14: =BS!U24-BS!V24 -> 1500 | S14: =SUM(G14:R14) -> 1553
A15: Other Current Assets | G15: =BS!J25-BS!K25 -> 35588 | H15: =BS!K25-BS!L25 -> 0 | I15: =BS!L25-BS!M25 -> 0 | J15: =BS!M25-BS!N25 -> 0 | K15: =BS!N25-BS!O25 -> 0 | L15: =BS!O25-BS!P25 -> 0 | M15: =BS!P25-BS!Q25 -> 0 | N15: =BS!Q25-BS!R25 -> 0 | ... R15: =BS!U25-BS!V25 -> 0 | S15: =SUM(G15:R15) -> 35588
A16: Other Assets | G16: =BS!J33-BS!K33 -> 6160 | H16: =BS!K33-BS!L33 -> 0 | I16: =BS!L33-BS!M33 -> 0 | J16: =BS!M33-BS!N33 -> 0 | K16: =BS!N33-BS!O33 -> 0 | L16: =BS!O33-BS!P33 -> 0 | M16: =BS!P33-BS!Q33 -> 0 | N16: =BS!Q33-BS!R33 -> 0 | ... R16: =BS!U33-BS!V33 -> 0 | S16: =SUM(G16:R16) -> 6160
A17: Accounts Payable | G17: =BS!K38-BS!J38 -> 17547 | H17: =BS!L38-BS!K38 -> 13738 | I17: =BS!M38-BS!L38 -> -21465 | J17: =BS!N38-BS!M38 -> 19635 | K17: =BS!O38-BS!N38 -> -20990 | L17: =BS!P38-BS!O38 -> 22896 | M17: =BS!Q38-BS!P38 -> -22268 | N17: =BS!R38-BS!Q38 -> 24453 | ... R17: =BS!V38-BS!U38 -> -12200 | S17: =SUM(G17:R17) -> 7943
A18: Deferred Income | G18: =(BS!K40-BS!J40)+(BS!K41-BS!J41) -> 2997 | H18: =(BS!L40-BS!K40)+(BS!L41-BS!K41) -> 14000 | I18: =(BS!M40-BS!L40)+(BS!M41-BS!L41) -> 1500 | J18: =(BS!N40-BS!M40)+(BS!N41-BS!M41) -> 26200 | K18: =(BS!O40-BS!N40)+(BS!O41-BS!N41) -> -17800 | L18: =(BS!P40-BS!O40)+(BS!P41-BS!O41) -> 7100 | M18: =(BS!Q40-BS!P40)+(BS!Q41-BS!P41) -> -4500 | N18: =(BS!R40-BS!Q40)+(BS!R41-BS!Q41) -> 34600 | ... R18: =(BS!V40-BS!U40)+(BS!V41-BS!U41) -> -23400 | S18: =SUM(G18:R18) -> -603
A19: Accruals | G19: =BS!K39-BS!J39 -> -21642 | H19: =BS!L39-BS!K39 -> -18000 | I19: =BS!M39-BS!L39 -> -200 | J19: =BS!N39-BS!M39 -> -300 | K19: =BS!O39-BS!N39 -> -300 | L19: =BS!P39-BS!O39 -> -200 | M19: =BS!Q39-BS!P39 -> 4000 | N19: =BS!R39-BS!Q39 -> 3000 | ... R19: =BS!V39-BS!U39 -> 34900 | S19: =SUM(G19:R19) -> 10558
A20: Other Liabilities | G20: =BS!K42-BS!J42 -> -651 | H20: =BS!L42-BS!K42 -> 0 | I20: =BS!M42-BS!L42 -> 0 | J20: =BS!N42-BS!M42 -> 0 | K20: =BS!O42-BS!N42 -> 0 | L20: =BS!P42-BS!O42 -> 0 | M20: =BS!Q42-BS!P42 -> 0 | N20: =BS!R42-BS!Q42 -> 0 | ... R20: =BS!V42-BS!U42 -> 0 | S20: =SUM(G20:R20) -> -651
A21: Total Increase/(Decrease) due to Operating Activities | G21: =SUM(G7:G20) -> 20765.14 | H21: =SUM(H7:H20) -> -14327 | I21: =SUM(I7:I20) -> -38215 | J21: =SUM(J7:J20) -> 73500 | K21: =SUM(K7:K20) -> -24515 | L21: =SUM(L7:L20) -> 16155 | M21: =SUM(M7:M20) -> -11641 | N21: =SUM(N7:N20) -> 75642 | ... R21: =SUM(R7:R20) -> 4812 | S21: =SUM(G21:R21) -> 77245.14
A23: Investing Activities
A24: Capital Expenditures | G24: =BS!J29-BS!K29 -> 0.45 | H24: =BS!K29-BS!L29 -> 0 | I24: =BS!L29-BS!M29 -> 0 | J24: =BS!M29-BS!N29 -> 0 | K24: =BS!N29-BS!O29 -> 0 | L24: =BS!O29-BS!P29 -> 0 | M24: =BS!P29-BS!Q29 -> 0 | N24: =BS!Q29-BS!R29 -> 0 | ... R24: =BS!U29-BS!V29 -> 0 | S24: =SUM(G24:R24) -> 0.45
A26: Financing Activities
A27: Loans | G27: 0 | H27: 0 | I27: 0 | J27: 0 | K27: 0 | L27: 0 | M27: 0 | N27: 0 | O27: 0 | P27: 0 | Q27: 0 | R27: 0 | S27: =SUM(G27:R27) -> 0
A29: Total Increase/(decrease) in Cash | G29: =G21+G24+G27 -> 20765.59 | H29: =H21+H24+H27 -> -14327 | I29: =I21+I24+I27 -> -38215 | J29: =J21+J24+J27 -> 73500 | K29: =K21+K24+K27 -> -24515 | L29: =L21+L24+L27 -> 16155 | M29: =M21+M24+M27 -> -11641 | N29: =N21+N24+N27 -> 75642 | ... R29: =R21+R24+R27 -> 4812 | S29: =SUM(G29:R29) -> 77245.59
A31: Beginning Cash Balance | G31: =BS!J20 -> 332565.5 | H31: =BS!K20 -> 353331.09 | I31: =BS!L20 -> 339004.09 | J31: =BS!M20 -> 300789.09 | K31: =BS!N20 -> 374289.09 | L31: =BS!O20 -> 349774.09 | M31: =BS!P20 -> 365929.09 | N31: =BS!Q20 -> 354288.09 | ... R31: =BS!U20 -> 404999.09
A33: Ending Cash Balance | G33: =G29+G31 -> 353331.09 | H33: =H29+H31 -> 339004.09 | I33: =I29+I31 -> 300789.09 | J33: =J29+J31 -> 374289.09 | K33: =K29+K31 -> 349774.09 | L33: =L29+L31 -> 365929.09 | M33: =M29+M31 -> 354288.09 | N33: =N29+N31 -> 429930.09 | ... R33: =R29+R31 -> 409811.09
A35: (check) | G35: =G33-BS!K20 -> 0 | H35: =H33-BS!L20 -> 0 | I35: =I33-BS!M20 -> 0 | J35: =J33-BS!N20 -> 0 | K35: =K33-BS!O20 -> 0 | L35: =L33-BS!P20 -> 0 | M35: =M33-BS!Q20 -> 0 | N35: =N33-BS!R20 -> 0 | ... R35: =R33-BS!V20 -> 0

Sheet BS wrksht
B1: 12.31.21 | C1: January | D1: February | E1: March | F1: April | G1: May | H1: June | I1: July | J1: August | K1: September | L1: October | M1: November | N1: December
A2: AR Grants
A4: Duck Stamp 2019-2021 | B4: 27069.06 | C4: 1000 | D4: 1000 | E4: 1000 | F4: 1000 | G4: 1000 | H4: 2100 | I4: 1000
A5: Duck Stamp 2021-2022 | B5: 0 | C5: 500 | D5: 500 | E5: 500 | F5: 500 | G5: 500 | H5: 500 | I5: 500 | J5: 500 | K5: 500 | L5: 1000 | M5: 1000 | N5: 1000
A6: Small NAWCA | B6: 2700
A7: USFWS | B7: 0 | C7: 11800 | D7: 8900 | E7: 4500 | F7: 26700 | G7: 7350 | H7: 29500 | I7: 4850 | J7: 21380 | K7: 19640 | L7: 17850 | M7: 18000 | N7: 5000
A8: AR Grant Payments | C8: -11800 | D8: -23900 | E8: -4500 | F8: -29400 | G8: -7350 | H8: -29500 | I8: -24850 | J8: -21380 | K8: -19640 | L8: -17850 | M8: -18000 | N8: -5000
A9: Totals | B9: =SUM(B3:B8) -> 29769.06 | C9: =SUM(B9+C3+C4+C6+C7+C8) -> 30769.06 | D9: =SUM(C9+D3+D4+D6+D7+D8) -> 16769.06 | E9: =SUM(D9+E3+E4+E6+E7+E8) -> 17769.06 | F9: =SUM(E9+F3+F4+F6+F7+F8) -> 16069.06 | G9: =SUM(F9+G3+G4+G6+G7+G8) -> 17069.06 | H9: =SUM(G9+H3+H4+H6+H7+H8) -> 19169.06 | I9: =SUM(H9+I4+I5+I6+I7+I8) -> 669.06 | J9: =SUM(I9+J4+J5+J6+J7+J8) -> 1169.06 | K9: =SUM(J9+K4+K5+K6+K7+K8) -> 1669.06 | L9: =SUM(K9+L4+L5+L6+L7+L8) -> 2669.06 | M9: =SUM(L9+M4+M5+M6+M7+M8) -> 3669.06 | N9: =SUM(M9+N4+N5+N6+N7+N8) -> 4669.06
A11: AR Trade
A12: Banquets - $1000 ea. | D12: 1000 | F12: 4000 | G12: 1000 | H12: 3000 | I12: 1000 | J12: 9000 | K12: 2000 | L12: 4000 | M12: 1000 | N12: 3000
A13: Chapter Payments | E13: -1000 | F13: 0 | G13: -4000 | H13: -1000 | I13: -3000 | J13: -1000 | K13: -9000 | L13: -2000 | M13: -4000 | N13: -4000
A14: Ending Balance | B14: 0 | C14: =SUM(B12+C12+C13) -> 0 | D14: =SUM(C14+D12+D13) -> 1000 | E14: =SUM(D14+E12+E13) -> 0 | F14: =SUM(E14+F12+F13) -> 4000 | G14: =SUM(F14+G12+G13) -> 1000 | H14: =SUM(G14+H12+H13) -> 3000 | I14: =SUM(H14+I12+I13) -> 1000 | J14: =SUM(I14+J12+J13) -> 9000 | K14: =SUM(J14+K12+K13) -> 2000 | ... N14: =SUM(M14+N12+N13) -> 0
A16: Inventory
B17: 27602
A18: Plus Banquets - $1000 ea. | D18: 1000 | F18: 4000 | G18: 1000 | H18: 3000 | I18: 1000 | J18: 9000 | K18: 2000 | L18: 4000 | M18: 1000 | N18: 3000
A19: Minus Inventory used - $1000 ea. | E19: -1000 | G19: -4000 | H19: -1000 | I19: -3000 | J19: -1000 | K19: -9000 | L19: -2000 | M19: -4000 | N19: -4000
A20: Total | C20: =SUM(B17+C18+C19) -> 27602 | D20: =SUM(C20+D18+D19) -> 28602 | E20: =SUM(D20+E18+E19) -> 27602 | F20: =SUM(E20+F18+F19) -> 31602 | G20: =SUM(F20+G18+G19) -> 28602 | H20: =SUM(G20+H18+H19) -> 30602 | I20: =SUM(H20+I18+I19) -> 28602 | J20: =SUM(I20+J18+J19) -> 36602 | K20: =SUM(J20+K18+K19) -> 29602 | ... N20: =SUM(M20+N18+N19) -> 27602
A22: AP
A23: Beginning Balance | B23: 2979 | C23: 2979 | D23: =C26 -> 20526 | E23: =D26 -> 34264 | F23: =E26 -> 12799 | G23: =F26 -> 32434 | H23: =G26 -> 11444 | I23: =H26 -> 34340 | J23: =I26 -> 12072 | K23: =J26 -> 36525 | ... N23: =M26 -> 23122
A24: Budget Exp minus Salaries | C24: =SUM('Income Statement'!B70)-10900 -> 27498 | D24: =SUM('Income Statement'!C70)-31715 -> 20421 | E24: =SUM('Income Statement'!D70)-11715 -> 18956 | F24: =SUM('Income Statement'!E70)-11715 -> 38591 | G24: =SUM('Income Statement'!F70)-11715 -> 17601 | H24: =SUM('Income Statement'!G70)-11715 -> 40497 | I24: =SUM('Income Statement'!H70)-11715 -> 18229 | J24: =SUM('Income Statement'!I70)-11715 -> 43497 | K24: =SUM('Income Statement'!J70)-11715 -> 33834 | L24: =SUM('Income Statement'!K70)-11715 -> 32333 | ... N24: =SUM('Income Statement'!M70)-11715 -> 17894
A25: Payments | C25: -9951 | D25: =-(SUM('Income Statement'!B70)-31715) -> -6683 | E25: =-(SUM('Income Statement'!C70)-11715) -> -40421 | F25: =-(SUM('Income Statement'!D70)-11715) -> -18956 | G25: =-(SUM('Income Statement'!E70)-11715) -> -38591 | H25: =-(SUM('Income Statement'!F70)-11715) -> -17601 | I25: =-(SUM('Income Statement'!G70)-11715) -> -40497 | J25: =-(SUM('Income Statement'!H70)-10900) -> -19044 | K25: =-(SUM('Income Statement'!I70)-11715) -> -43497 | L25: =-(SUM('Income Statement'!J70)-11715) -> -33834 | M25: =-(SUM('Income Statement'!K70)-11715) -> -32333 | N25: =-(SUM('Income Statement'!L70)-11715) -> -30094
A26: Balance | B26: 2979 | C26: =SUM(C23:C25) -> 20526 | D26: =SUM(D23:D25) -> 34264 | E26: =SUM(E23:E25) -> 12799 | F26: =SUM(F23:F25) -> 32434 | G26: =SUM(G23:G25) -> 11444 | H26: =SUM(H23:H25) -> 34340 | I26: =SUM(I23:I25) -> 12072 | J26: =SUM(J23:J25) -> 36525 | ... N26: =SUM(N23:N25) -> 10922

Sheet P&L Monthly Totals
B1: January | C1: Feb | D1: March | E1: April | F1: May | G1: June | H1: July | I1: August | J1: Sept | K1: Oct | L1: Nov | M1: Dec | N1: Totals
A2: Gross Sales
A3: Chapter event revenue | N3: =SUM(B3:M3) -> 0
A4: State event revenue | N4: =SUM(B4:M4) -> 0
A5: Membership revenue | N5: =SUM(B5:M5) -> 0
A6: Sponsor revenue | N6: =SUM(B6:M6) -> 0
A7: Restoration revenue | N7: =SUM(B7:M7) -> 0
A8: other grant revenue | N8: =SUM(B8:M8) -> 0
A9: Other | N9: =SUM(B9:M9) -> 0
N10: =SUM(B10:M10) -> 0
A11: Net Sales | N11: =SUM(B11:M11) -> 0
N12: =SUM(B12:M12) -> 0
A13: Standard Cost of Sales | N13: =SUM(B13:M13) -> 0
A14: COS-Chapter event revenue | N14: =SUM(B14:M14) -> 0
A15: COS-State event revenue | N15: =SUM(B15:M15) -> 0
A16: COS-Other | N16: =SUM(B16:M16) -> 0
N17: =SUM(B17:M17) -> 0
N18: =SUM(B18:M18) -> 0
N19: =SUM(B19:M19) -> 0
A20: Total Standard Cost of Sales | N20: =SUM(B20:M20) -> 0
N21: =SUM(B21:M21) -> 0
A22: Gross Profit | N22: =SUM(B22:M22) -> 0
N23: =SUM(B23:M23) -> 0
A24: Operating Expenses | N24: =SUM(B24:M24) -> 0
A25: Development: | N25: =SUM(B25:M25) -> 0
A26: Wages | N26: =SUM(B26:M26) -> 0
A27: Benefits | N27: =SUM(B27:M27) -> 0
A28: Travel | N28: =SUM(B28:M28) -> 0
A29: Phone | N29: =SUM(B29:M29) -> 0
A30: Event expenses | N30: =SUM(B30:M30) -> 0
A31: Postage & shipping | N31: =SUM(B31:M31) -> 0
A32: Shows & meetings | N32: =SUM(B32:M32) -> 0
A33: Marketing | N33: =SUM(B33:M33) -> 0
A34: Magazine | N34: =SUM(B34:M34) -> 0
A35: Advertising | N35: =SUM(B35:M35) -> 0
... A38: Total | N38: =SUM(B38:M38) -> 0
N39: =SUM(B39:M39) -> 0
A40: Program Services: | N40: =SUM(B40:M40) -> 0
A41: Wages | N41: =SUM(B41:M41) -> 0
A42: Travel | N42: =SUM(B42:M42) -> 0
...

Sheet 2011 VS 2012 by Class
B1: Chapters/Development | E1: Restoration/HRP | H1: Education
B3: 2011 | C3: 2012 | E3: 2011 | F3: 2012 | H3: 2011 | I3: 2012
A4: Revenue | B4: 681264 | C4: 508315 | E4: 69164 | F4: 63500 | H4: 30500 | I4: 0
A5: Expense | B5: 819790 | C5: 547675 | E5: 96398 | F5: 93050 | H5: 20000 | I5: 20000
A6: Profit (Loss) | B6: =SUM(B4-B5) -> -138526 | C6: =SUM(C4-C5) -> -39360 | E6: =SUM(E4-E5) -> -27234 | F6: =SUM(F4-F5) -> -29550 | H6: =SUM(H4-H5) -> 10500 | I6: =SUM(I4-I5) -> -20000
