Workbook
Name PRINT_AREA_MI: [1]CAP!#REF!
Name PRINT_TITLES_MI: [1]CAP!#REF!
Name PrintArea: BS!$E$3:$M$48
Name Report: BS!$A$3:$M$48
Name rptacctidend: " "
Name rptacctidstart: " "
Name rptcurr1: " "
Name rptcurr10: " "
Name rptcurr2: " "
Name rptcurr3: " "
Name rptcurr4: " "
Name rptcurr5: " "
Name rptcurr6: " "
Name rptcurr7: " "
Name rptcurr8: " "
Name rptcurr9: " "
Name rptgroupend: 16
Name rptgroupstart: 1
Name rptorderby: 2
Name rptorderbysegid: 1
Name rptperiod: 5
Name rptprovtype: 1
Name rptsegend1: "ZZZZZ"
Name rptsegend10: " "
Name rptsegend2: "ZZ"
Name rptsegend3: "ZZZ"
Name rptsegend4: " "
Name rptsegend5: " "
Name rptsegend6: " "
Name rptsegend7: " "
Name rptsegend8: " "
Name rptsegend9: " "
Name rptsegoption1: 1
Name rptsegoption10: 0
Name rptsegoption2: 1
Name rptsegoption3: 1
Name rptsegoption4: 0
Name rptsegoption5: 0
Name rptsegoption6: 0
Name rptsegoption7: 0
Name rptsegoption8: 0
Name rptsegoption9: 0
Name rptsegstart1: " "
Name rptsegstart10: " "
Name rptsegstart2: " "
Name rptsegstart3: " "
Name rptsegstart4: " "
Name rptsegstart5: " "
Name rptsegstart6: " "
Name rptsegstart7: " "
Name rptsegstart8: " "
Name rptsegstart9: " "
Name rptyear: 2009
Name Spec: BS!#REF!

Sheet Income Statement
A1: Wisconsin Waterfowl Association
A2: Income Statement
A3: 2023 Budget - Draft 1
A6: 2023 Budget | P6: 2022 Actuals
B7: January | C7: February | D7: March | E7: April | F7: May | G7: June | H7: July | I7: August | J7: September | K7: October | L7: November | M7: December | N7: Total | P7: 12.31.22
A8: Gross Sales
A9: Chapter event revenue | B9: 0 | C9: 1250 | D9: 3750 | E9: 130000 | F9: 70000 | G9: 52750 | H9: 13250 | I9: 54500 | J9: 10000 | K9: 39250 | L9: 3750 | M9: 110500 | N9: =SUM(B9:M9) -> 489000 | P9: 465993
A10: State event revenue | B10: 330 | C10: 330 | D10: 330 | E10: 480 | F10: 330 | G10: 330 | H10: 330 | I10: 11430 | J10: 3330 | K10: 8130 | L10: 14830 | M10: 43930 | N10: =SUM(B10:M10) -> 84110 | P10: 112759
A11: Membership revenue | B11: 960 | C11: 2000 | D11: 1000 | E11: 1000 | F11: 1200 | G11: 2000 | H11: 1000 | I11: 500 | J11: 1000 | K11: 700 | L11: 1500 | M11: 1000 | N11: =SUM(B11:M11) -> 13860 | P11: 19485
A12: Sponsor revenue | B12: 6200 | C12: 0 | D12: 0 | E12: 0 | F12: 0 | G12: 0 | H12: 0 | I12: 0 | J12: 0 | K12: 0 | L12: 0 | M12: 0 | N12: =SUM(B12:M12) -> 6200 | P12: 1000
A13: Restoration revenue | B13: 8335 | C13: 8335 | D13: 8335 | E13: 8335 | F13: 8335 | G13: 8335 | H13: 8335 | I13: 8335 | J13: 8335 | K13: 8335 | L13: 8335 | M13: 8335 | N13: =SUM(B13:M13) -> 100020 | P13: 46172
A14: other grant revenue | B14: 15726 | C14: 15826 | D14: 20326 | E14: 11156 | F14: 15606 | G14: 9606 | H14: 14136 | I14: 29191 | J14: 9581 | K14: 9741 | L14: 7831 | M14: 11276 | N14: =SUM(B14:M14) -> 170002 | P14: 168013
A15: EXPO revenue | B15: 500 | C15: 6500 | D15: 7075 | E15: 9500 | F15: 3750 | G15: 8050 | H15: 2750 | I15: 23850 | J15: 0 | K15: 0 | L15: 0 | M15: 0 | N15: =SUM(B15:M15) -> 61975 | P15: 53111
A16: Other | B16: 300 | C16: 500 | D16: 500 | E16: 500 | F16: 500 | G16: 1000 | H16: 500 | I16: 500 | J16: 500 | K16: 750 | L16: 1200 | M16: 1000 | N16: =SUM(B16:M16) -> 7750 | P16: 35044
A18: Net Sales | B18: =SUM(B9:B17) -> 32351 | C18: =SUM(C9:C17) -> 34741 | D18: =SUM(D9:D17) -> 41316 | E18: =SUM(E9:E17) -> 160971 | F18: =SUM(F9:F17) -> 99721 | G18: =SUM(G9:G17) -> 82071 | H18: =SUM(H9:H17) -> 40301 | I18: =SUM(I9:I17) -> 128306 | ... N18: =SUM(N9:N17) -> 932917 | P18: 901577
A20: Standard Cost of Sales
A21: COS-Chapter event revenue | B21: 0 | C21: 750 | D21: 2250 | E21: 78000 | F21: 42000 | G21: 31650 | H21: 7950 | I21: 32700 | J21: 6000 | K21: 23550 | L21: 2250 | M21: 66300 | N21: =SUM(B21:M21) -> 293400 | P21: 235582
A22: COS-State event revenue | B22: 100 | C22: 100 | D22: 100 | E22: 100 | F22: 100 | G22: 100 | H22: 100 | I22: 2100 | J22: 400 | K22: 6600 | L22: 4300 | M22: 37100 | N22: =SUM(B22:M22) -> 51200 | P22: 67240
A23: COS-Other | B23: 0 | C23: 0 | D23: 0 | E23: 0 | F23: 0 | G23: 0 | H23: 0 | I23: 0 | J23: 0 | K23: 0 | L23: 0 | M23: 0 | N23: =SUM(B23:M23) -> 0 | P23: 0
A27: Total Standard Cost of Sales | B27: =SUM(B21:B26) -> 100 | C27: =SUM(C21:C26) -> 850 | D27: =SUM(D21:D26) -> 2350 | E27: =SUM(E21:E26) -> 78100 | F27: =SUM(F21:F26) -> 42100 | G27: =SUM(G21:G26) -> 31750 | H27: =SUM(H21:H26) -> 8050 | I27: =SUM(I21:I26) -> 34800 | ... N27: =SUM(N21:N26) -> 344600 | P27: 302950
A29: Gross Profit | B29: =B18-B27 -> 32251 | C29: =C18-C27 -> 33891 | D29: =D18-D27 -> 38966 | E29: =E18-E27 -> 82871 | F29: =F18-F27 -> 57621 | G29: =G18-G27 -> 50321 | H29: =H18-H27 -> 32251 | I29: =I18-I27 -> 93506 | ... N29: =N18-N27 -> 588317 | P29: =P18-P27 -> 598627
A31: Operating Expenses
A32: Development:
A33: Wages | B33: 3605 | C33: 3605 | D33: 4005 | E33: 4405 | F33: 3605 | G33: 4405 | H33: 3605 | I33: 3605 | J33: 3605 | K33: 3605 | L33: 4605 | M33: 4605 | N33: =SUM(B33:M33) -> 47260 | P33: 51955
A34: Benefits | B34: 0 | C34: 0 | D34: 0 | E34: 0 | F34: 0 | G34: 0 | H34: 0 | I34: 0 | J34: 0 | K34: 0 | L34: 0 | M34: 0 | N34: =SUM(B34:M34) -> 0 | P34: 0
A35: Travel | B35: 0 | C35: 20 | D35: 475 | E35: 0 | F35: 270 | G35: 375 | H35: 250 | I35: 350 | J35: 0 | K35: 340 | L35: 0 | M35: 500 | N35: =SUM(B35:M35) -> 2580 | P35: 2327
A36: Phone | B36: 120 | C36: 120 | D36: 120 | E36: 120 | F36: 150 | G36: 133 | H36: 70 | I36: 140 | J36: 150 | K36: 70 | L36: 75 | M36: 75 | N36: =SUM(B36:M36) -> 1343 | P36: 1390
A37: Event expenses | B37: 4400 | C37: 2320 | D37: 1565 | E37: 550 | F37: 1230 | G37: 810 | H37: 390 | I37: 1300 | J37: 685 | K37: 550 | L37: 1150 | M37: 1200 | N37: =SUM(B37:M37) -> 16150 | P37: 17813
A38: Postage & shipping | B38: 35 | C38: 35 | D38: 150 | E38: 35 | F38: 0 | G38: 240 | H38: 320 | I38: 70 | J38: 50 | K38: 35 | L38: 35 | M38: 50 | N38: =SUM(B38:M38) -> 1055 | P38: 912
A39: Shows & meetings | B39: 0 | C39: 0 | D39: 0 | E39: 0 | F39: 0 | G39: 0 | H39: 0 | I39: 0 | J39: 0 | K39: 0 | L39: 0 | M39: 0 | N39: =SUM(B39:M39) -> 0 | P39: 0
A40: Marketing | B40: 0 | C40: 0 | D40: 0 | E40: 0 | F40: 0 | G40: 0 | H40: 0 | I40: 0 | J40: 0 | K40: 0 | L40: 0 | M40: 0 | N40: =SUM(B40:M40) -> 0 | P40: 0
A41: Magazine | B41: 0 | C41: 0 | D41: 0 | E41: 0 | F41: 0 | G41: 0 | H41: 0 | I41: 0 | J41: 0 | K41: 0 | L41: 0 | M41: 0 | N41: =SUM(B41:M41) -> 0 | P41: 0
A42: Advertising | B42: 0 | C42: 0 | D42: 0 | E42: 0 | F42: 0 | G42: 0 | H42: 0 | I42: 0 | J42: 0 | K42: 0 | L42: 0 | M42: 0 | N42: =SUM(B42:M42) -> 0 | P42: 0
A43: Rent | B43: 420 | C43: 375 | D43: 375 | E43: 420 | F43: 374 | G43: 374 | H43: 420 | I43: 375 | J43: 375 | K43: 420 | L43: 375 | M43: 375 | N43: =SUM(B43:M43) -> 4678 | P43: 4589
A44: Other | B44: 0 | C44: 0 | D44: 90 | E44: 0 | F44: 0 | G44: 0 | H44: 0 | I44: 0 | J44: 0 | K44: 0 | L44: 0 | M44: 0 | N44: =SUM(B44:M44) -> 90 | P44: 91
A45: Total | B45: =SUM(B33:B44) -> 8580 | C45: =SUM(C33:C44) -> 6475 | D45: =SUM(D33:D44) -> 6780 | E45: =SUM(E33:E44) -> 5530 | F45: =SUM(F33:F44) -> 5629 | G45: =SUM(G33:G44) -> 6337 | H45: =SUM(H33:H44) -> 5055 | I45: =SUM(I33:I44) -> 5840 | ... N45: =SUM(N33:N44) -> 73156 | P45: =SUM(P33:P44) -> 79077
A47: Program Services:
A48: Wages | B48: 11378 | C48: 11378 | D48: 11378 | E48: 11378 | F48: 11378 | G48: 11378 | H48: 11378 | I48: 11378 | J48: 11378 | K48: 11378 | L48: 11378 | M48: 11378 | N48: =SUM(B48:M48) -> 136536 | P48: 97480
A49: Travel | B49: 240 | C49: 187 | D49: 600 | E49: 40 | F49: 300 | G49: 350 | H49: 450 | I49: 700 | J49: 375 | K49: 150 | L49: 150 | M49: 200 | N49: =SUM(B49:M49) -> 3742 | P49: 3321
A50: Other | B50: 1700 | C50: 1373 | D50: 2898 | E50: 1298 | F50: 1598 | G50: 1138 | H50: 1598 | I50: 1598 | J50: 1598 | K50: 1748 | L50: 2448 | M50: 2098 | N50: =SUM(B50:M50) -> 21093 | P50: 21455
...

Sheet BS
E3: Wisconsin Waterfowl Association
E4: Balance Sheet
J6: 5 | K6: 2009 | L6: 39934 | M6: 39934
F9: Assets | J9: 12.31.22 | K9: January | L9: February | M9: March | N9: April | O9: May | P9: June | Q9: July | R9: August | S9: September | T9: October | U9: November | V9: December
G10: Current Assets
G11: Cash
H12: Chapters | J12: 17167 | K12: 13000 | L12: 40000 | M12: 28000 | N12: 25000 | O12: 19000 | P12: 13000 | Q12: 22000 | R12: 22000 | S12: 20000 | T12: 19000 | U12: 21000 | V12: 16000
H13: State restricted | J13: 70000 | K13: 70000 | L13: 70000 | M13: 70000 | N13: 70000 | O13: 70000 | P13: 70000 | Q13: 70000 | R13: 70000 | S13: 70000 | T13: 70000 | U13: 70000 | V13: 70000
H14: Raffle restricted | J14: 14699 | K14: 22000 | L14: 4000 | M14: 3800 | N14: 3500 | O14: 3200 | P14: 3000 | Q14: 7000 | R14: 10000 | S14: 14200 | T14: 15500 | U14: 19300 | V14: 54200
H15: Abrams restricted | J15: 4438 | K15: 4438 | L15: 4438 | M15: 4438 | N15: 4438 | O15: 4438 | P15: 4438 | Q15: 4438 | R15: 4438 | S15: 4438 | T15: 4438 | U15: 4438 | V15: 4438
H16: AWA restricted | J16: 1721 | K16: 1721 | L16: 1721 | M16: 1721 | N16: 1721 | O16: 1721 | P16: 1721 | Q16: 1721 | R16: 1721 | S16: 1721 | T16: 1721 | U16: 1721 | V16: 1721
H17: EXPO restricted | J17: 35501 | K17: =SUM(J17+'Income Statement'!B15-'Income Statement'!B53) -> 28689 | L17: =SUM(K17+'Income Statement'!C15-'Income Statement'!C53) -> 28827 | M17: =SUM(L17+'Income Statement'!D15-'Income Statement'!D53) -> 30540 | N17: =SUM(M17+'Income Statement'!E15-'Income Statement'!E53-5000) -> 31178 | O17: =SUM(N17+'Income Statement'!F15-'Income Statement'!F53) -> 29166 | P17: =SUM(O17+'Income Statement'!G15-'Income Statement'!G53) -> 32854 | Q17: =SUM(P17+'Income Statement'!H15-'Income Statement'!H53) -> 31842 | R17: =SUM(Q17+'Income Statement'!I15-'Income Statement'!I53) -> 45830 | S17: =SUM(R17+'Income Statement'!J15-'Income Statement'!J53) -> 39768 | T17: =SUM(S17+'Income Statement'!K15-'Income Statement'!K53) -> 39768 | U17: =SUM(T17+'Income Statement'!L15-'Income Statement'!L53) -> 39768 | V17: =SUM(U17+'Income Statement'!M15-'Income Statement'!M53) -> 39768
H18: Chapter Loan restricted | J18: 7417 | K18: 7417 | L18: 7417 | M18: 6417 | N18: 6417 | O18: 6417 | P18: 6417 | Q18: 6417 | R18: 6417 | S18: 6417 | T18: 6417 | U18: 6417 | V18: 6417
H19: State Unrestricted | J19: 238075 | K19: =SUM(K20-K12-K13-K14-K15-K16-K17-K18) -> 276178.53 | L19: =SUM(L20-L12-L13-L14-L15-L16-L17-L18) -> 282002.53 | M19: =SUM(M20-M12-M13-M14-M15-M16-M17-M18) -> 268441.53 | N19: =SUM(N20-N12-N13-N14-N15-N16-N17-N18) -> 295162.53 | O19: =SUM(O20-O12-O13-O14-O15-O16-O17-O18) -> 302428.53 | P19: =SUM(P20-P12-P13-P14-P15-P16-P17-P18) -> 283765.53 | Q19: =SUM(Q20-Q12-Q13-Q14-Q15-Q16-Q17-Q18) -> 288844.53 | R19: =SUM(R20-R12-R13-R14-R15-R16-R17-R18) -> 331275.53 | ... V19: =SUM(V20-V12-V13-V14-V15-V16-V17-V18) -> 307967.53
H20: Total Cash | J20: =SUM(J12:J19) -> 389018 | K20: =CF!G33 -> 423443.53 | L20: =CF!H33 -> 438405.53 | M20: =CF!I33 -> 413357.53 | N20: =CF!J33 -> 437416.53 | O20: =CF!K33 -> 436370.53 | P20: =CF!L33 -> 415195.53 | Q20: =CF!M33 -> 432262.53 | R20: =CF!N33 -> 491681.53 | ... V20: =CF!R33 -> 500511.53
G21: Accounts Receivable - Trade | J21: 746 | K21: =SUM('BS wrksht'!C17) -> 1000 | L21: =SUM('BS wrksht'!D17) -> 2000 | M21: =SUM('BS wrksht'!E17) -> 1000 | N21: =SUM('BS wrksht'!F17) -> 4000 | O21: =SUM('BS wrksht'!G17) -> 4000 | P21: =SUM('BS wrksht'!H17) -> 3000 | Q21: =SUM('BS wrksht'!I17) -> 3000 | R21: =SUM('BS wrksht'!J17) -> 6000 | ... V21: =SUM('BS wrksht'!N17) -> 0
G22: Accounts Receivable - Grants | J22: 43037 | K22: =SUM('BS wrksht'!C12) -> 48201.53 | L22: =SUM('BS wrksht'!D12) -> 54466.53 | M22: =SUM('BS wrksht'!E12) -> 27381.53 | N22: =SUM('BS wrksht'!F12) -> 29211.53 | O22: =SUM('BS wrksht'!G12) -> 30491.53 | P22: =SUM('BS wrksht'!H12) -> 30941.53 | Q22: =SUM('BS wrksht'!I12) -> 29471.53 | R22: =SUM('BS wrksht'!J12) -> 33056.53 | ... V22: =SUM('BS wrksht'!N12) -> 18836.53
G23: Inventory | J23: 35897 | K23: =SUM('BS wrksht'!C23) -> 36896.59 | L23: =SUM('BS wrksht'!D23) -> 37896.59 | M23: =SUM('BS wrksht'!E23) -> 36896.59 | N23: =SUM('BS wrksht'!F23) -> 39896.59 | O23: =SUM('BS wrksht'!G23) -> 39896.59 | P23: =SUM('BS wrksht'!H23) -> 38896.59 | Q23: =SUM('BS wrksht'!I23) -> 38896.59 | R23: =SUM('BS wrksht'!J23) -> 41896.59 | ... V23: =SUM('BS wrksht'!N23) -> 35896.59
G24: Prepaid Expenses | J24: 12194 | K24: 13000 | L24: 14600 | M24: 16200 | N24: 15800 | O24: 15400 | P24: 21400 | Q24: 20600 | R24: 19000 | S24: 17000 | T24: 15000 | U24: 14500 | V24: 13000
G25: Other Current Assets | J25: 24839 | K25: 0 | L25: 0 | M25: 0 | N25: 0 | O25: 0 | P25: 0 | Q25: 0 | R25: 0 | S25: 0 | T25: 0 | U25: 0 | V25: 0
G26: Total Current Assets | J26: =SUM(J20:J25) -> 505731 | K26: =SUM(K20:K25) -> 522541.65 | L26: =SUM(L20:L25) -> 547368.65 | M26: =SUM(M20:M25) -> 494835.65 | N26: =SUM(N20:N25) -> 526324.65 | O26: =SUM(O20:O25) -> 526158.65 | P26: =SUM(P20:P25) -> 509433.65 | Q26: =SUM(Q20:Q25) -> 524230.65 | ... V26: =SUM(V20:V25) -> 568244.65
G28: Fixed Assets
G29: Gross Fixed Assets | J29: 147759.45 | K29: 147759 | L29: 147759 | M29: 147759 | N29: 147759 | O29: 147759 | P29: 147759 | Q29: 147759 | R29: 147759 | S29: 147759 | T29: 147759 | U29: 147759 | V29: 147759
G30: Accum. Depreciation | J30: -15056.2 | K30: -15056 | L30: -15056 | M30: -15056 | N30: -15056 | O30: -15056 | P30: -15056 | Q30: -15056 | R30: -15056 | S30: -15056 | T30: -15056 | U30: -15056 | V30: -15056
G31: Net Fixed Assets | J31: =SUM(J29:J30) -> 132703.25 | K31: =SUM(K29:K30) -> 132703 | L31: =SUM(L29:L30) -> 132703 | M31: =SUM(M29:M30) -> 132703 | N31: =SUM(N29:N30) -> 132703 | O31: =SUM(O29:O30) -> 132703 | P31: =SUM(P29:P30) -> 132703 | Q31: =SUM(Q29:Q30) -> 132703 | ... V31: =SUM(V29:V30) -> 132703
G33: Other Assets | J33: 44580 | K33: 45000 | L33: 45000 | M33: 45000 | N33: 45000 | O33: 45000 | P33: 45000 | Q33: 45000 | R33: 45000 | S33: 45000 | T33: 45000 | U33: 45000 | V33: 45000
G34: Total Assets | J34: =J26+J31+J33 -> 683014.25 | K34: =K26+K31+K33 -> 700244.65 | L34: =L26+L31+L33 -> 725071.65 | M34: =M26+M31+M33 -> 672538.65 | N34: =N26+N31+N33 -> 704027.65 | O34: =O26+O31+O33 -> 703861.65 | P34: =P26+P31+P33 -> 687136.65 | Q34: =Q26+Q31+Q33 -> 701933.65 | ... V34: =V26+V31+V33 -> 745947.65
F36: Liabilities & Equity
G37: Current Liabilities
G38: Accounts Payable | J38: 5183 | K38: =SUM('BS wrksht'!C29) -> 38295 | L38: =SUM('BS wrksht'!D29) -> 36530 | M38: =SUM('BS wrksht'!E29) -> 39313 | N38: =SUM('BS wrksht'!F29) -> 27718 | O38: =SUM('BS wrksht'!G29) -> 32077 | P38: =SUM('BS wrksht'!H29) -> 29685 | Q38: =SUM('BS wrksht'!I29) -> 28333 | R38: =SUM('BS wrksht'!J29) -> 53628 | ... V38: =SUM('BS wrksht'!N29) -> 23111
G39: Accued Liabilities | J39: 14699 | K39: 22000 | L39: 4000 | M39: 3800 | N39: 3500 | O39: 3200 | P39: 3000 | Q39: 7000 | R39: 10000 | S39: 14200 | T39: 15500 | U39: 19300 | V39: 54200
G40: Deferred Chapter Bank Accounts | J40: 17167 | K40: 13000 | L40: 40000 | M40: 28000 | N40: 25000 | O40: 19000 | P40: 13000 | Q40: 22000 | R40: 22000 | S40: 20000 | T40: 19000 | U40: 21000 | V40: 16000
G41: Deferred Chapter Credit Cards | J41: -3069 | K41: 2000 | L41: 40000 | M41: 15000 | N41: 24000 | O41: 18000 | P41: 7000 | Q41: 24000 | R41: 41000 | S41: 29000 | T41: 23000 | U41: 7000 | V41: 100
G42: Other Liabilities | J42: 3072 | K42: 2800 | L42: 2800 | M42: 2800 | N42: 2800 | O42: 2800 | P42: 2800 | Q42: 2800 | R42: 2800 | S42: 2800 | T42: 2800 | U42: 2800 | V42: 2800
G43: Total Liabilities | J43: =SUM(J38:J42) -> 37052 | K43: =SUM(K38:K42) -> 78095 | L43: =SUM(L38:L42) -> 123330 | M43: =SUM(M38:M42) -> 88913 | N43: =SUM(N38:N42) -> 83018 | O43: =SUM(O38:O42) -> 75077 | P43: =SUM(P38:P42) -> 55485 | Q43: =SUM(Q38:Q42) -> 84133 | ... V43: =SUM(V38:V42) -> 96211
G44: Equity
G45: Net Equity at Beginning of Year | J45: 554500 | K45: 645962 | L45: 645962 | M45: 645965 | N45: 645962 | O45: 645962 | P45: 645962 | Q45: 645962 | R45: 645962 | S45: 645962 | T45: 645962 | U45: 645962 | V45: 645962
G46: Current Year P&L | J46: 91462 | K46: ='Income Statement'!B73 -> -23813 | L46: =K46+'Income Statement'!C73 -> -44221 | M46: =L46+'Income Statement'!D73 -> -62337 | N46: =M46+'Income Statement'!E73 -> -24953 | O46: =N46+'Income Statement'!F73 -> -17178 | P46: =O46+'Income Statement'!G73 -> -14311 | Q46: =P46+'Income Statement'!H73 -> -28162 | R46: =Q46+'Income Statement'!I73 -> -6053 | S46: =R46+'Income Statement'!J73 -> -22834 | ... V46: =U46+'Income Statement'!M73 -> 3774
G47: Total Equity | J47: =SUM(J45:J46) -> 645962 | K47: =SUM(K45:K46) -> 622149 | L47: =SUM(L45:L46) -> 601741 | M47: =SUM(M45:M46) -> 583628 | N47: =SUM(N45:N46) -> 621009 | O47: =SUM(O45:O46) -> 628784 | P47: =SUM(P45:P46) -> 631651 | Q47: =SUM(Q45:Q46) -> 617800 | ... V47: =SUM(V45:V46) -> 649736
G48: Total Liabilities & Equity | J48: =J43+J47 -> 683014 | K48: =K43+K47 -> 700244 | L48: =L43+L47 -> 725071 | M48: =M43+M47 -> 672541 | N48: =N43+N47 -> 704027 | O48: =O43+O47 -> 703861 | P48: =P43+P47 -> 687136 | Q48: =Q43+Q47 -> 701933 | ... V48: =V43+V47 -> 745947
...

Sheet CF
A3: Wisconsin Waterfowl Association
A4: Cash Flow
G5: January | H5: February | I5: March | J5: April | K5: May | L5: June | M5: July | N5: August | O5: September | P5: October | Q5: November | R5: December
A6: Operating Activities
A7: Net Income | G7: =SUM('Income Statement'!B73) -> -23813 | H7: ='Income Statement'!C73 -> -20408 | I7: ='Income Statement'!D73 -> -18116 | J7: ='Income Statement'!E73 -> 37384 | K7: ='Income Statement'!F73 -> 7775 | L7: ='Income Statement'!G73 -> 2867 | M7: ='Income Statement'!H73 -> -13851 | N7: ='Income Statement'!I73 -> 22109 | O7: ='Income Statement'!J73 -> -16781 | ... R7: ='Income Statement'!M73 -> 31761 | S7: =SUM(G7:R7) -> 3774
A8: Items to Reconcile to Cash Basis:
A9: Depreciation/Amortization | G9: =BS!K30-BS!J30 -> 0.2 | H9: =BS!L30-BS!K30 -> 0 | I9: =BS!M30-BS!L30 -> 0 | J9: =BS!N30-BS!M30 -> 0 | K9: =BS!O30-BS!N30 -> 0 | L9: =BS!P30-BS!O30 -> 0 | M9: =BS!Q30-BS!P30 -> 0 | N9: =BS!R30-BS!Q30 -> 0 | ... R9: =BS!V30-BS!U30 -> 0 | S9: =SUM(G9:R9) -> 0.2
A11: Changes in Components of Working Capital
A12: Accounts Receivable | G12: =(BS!J21+BS!J22)-(BS!K21+BS!K22) -> -5418.53 | H12: =(BS!K21+BS!K22)-(BS!L21+BS!L22) -> -7265 | I12: =(BS!L21+BS!L22)-(BS!M21+BS!M22) -> 28085 | J12: =(BS!M21+BS!M22)-(BS!N21+BS!N22) -> -4830 | K12: =(BS!N21+BS!N22)-(BS!O21+BS!O22) -> -1280 | L12: =(BS!O21+BS!O22)-(BS!P21+BS!P22) -> 550 | M12: =(BS!P21+BS!P22)-(BS!Q21+BS!Q22) -> 1470 | N12: =(BS!Q21+BS!Q22)-(BS!R21+BS!R22) -> -6585 | ... R12: =(BS!U21+BS!U22)-(BS!V21+BS!V22) -> 3760 | S12: =SUM(G12:R12) -> 24946.47
A13: Inventory | G13: =BS!J23-BS!K23 -> -999.59 | H13: =BS!K23-BS!L23 -> -1000 | I13: =BS!L23-BS!M23 -> 1000 | J13: =BS!M23-BS!N23 -> -3000 | K13: =BS!N23-BS!O23 -> 0 | L13: =BS!O23-BS!P23 -> 1000 | M13: =BS!P23-BS!Q23 -> 0 | N13: =BS!Q23-BS!R23 -> -3000 | ... R13: =BS!U23-BS!V23 -> 1000 | S13: =SUM(G13:R13) -> 0.41
A14: Prepaid Expenses | G14: =BS!J24-BS!K24 -> -806 | H14: =BS!K24-BS!L24 -> -1600 | I14: =BS!L24-BS!M24 -> -1600 | J14: =BS!M24-BS!N24 -> 400 | K14: =BS!N24-BS!O24 -> 400 | L14: =BS!O24-BS!P24 -> -6000 | M14: =BS!P24-BS!Q24 -> 800 | N14: =BS!Q24-BS!R24 -> 1600 | ... R14: =BS!U24-BS!V24 -> 1500 | S14: =SUM(G14:R14) -> -806
A15: Other Current Assets | G15: =BS!J25-BS!K25 -> 24839 | H15: =BS!K25-BS!L25 -> 0 | I15: =BS!L25-BS!M25 -> 0 | J15: =BS!M25-BS!N25 -> 0 | K15: =BS!N25-BS!O25 -> 0 | L15: =BS!O25-BS!P25 -> 0 | M15: =BS!P25-BS!Q25 -> 0 | N15: =BS!Q25-BS!R25 -> 0 | ... R15: =BS!U25-BS!V25 -> 0 | S15: =SUM(G15:R15) -> 24839
A16: Other Assets | G16: =BS!J33-BS!K33 -> -420 | H16: =BS!K33-BS!L33 -> 0 | I16: =BS!L33-BS!M33 -> 0 | J16: =BS!M33-BS!N33 -> 0 | K16: =BS!N33-BS!O33 -> 0 | L16: =BS!O33-BS!P33 -> 0 | M16: =BS!P33-BS!Q33 -> 0 | N16: =BS!Q33-BS!R33 -> 0 | ... R16: =BS!U33-BS!V33 -> 0 | S16: =SUM(G16:R16) -> -420
A17: Accounts Payable | G17: =BS!K38-BS!J38 -> 33112 | H17: =BS!L38-BS!K38 -> -1765 | I17: =BS!M38-BS!L38 -> 2783 | J17: =BS!N38-BS!M38 -> -11595 | K17: =BS!O38-BS!N38 -> 4359 | L17: =BS!P38-BS!O38 -> -2392 | M17: =BS!Q38-BS!P38 -> -1352 | N17: =BS!R38-BS!Q38 -> 25295 | ... R17: =BS!V38-BS!U38 -> 4935 | S17: =SUM(G17:R17) -> 17928
A18: Deferred Income | G18: =(BS!K40-BS!J40)+(BS!K41-BS!J41) -> 902 | H18: =(BS!L40-BS!K40)+(BS!L41-BS!K41) -> 65000 | I18: =(BS!M40-BS!L40)+(BS!M41-BS!L41) -> -37000 | J18: =(BS!N40-BS!M40)+(BS!N41-BS!M41) -> 6000 | K18: =(BS!O40-BS!N40)+(BS!O41-BS!N41) -> -12000 | L18: =(BS!P40-BS!O40)+(BS!P41-BS!O41) -> -17000 | M18: =(BS!Q40-BS!P40)+(BS!Q41-BS!P41) -> 26000 | N18: =(BS!R40-BS!Q40)+(BS!R41-BS!Q41) -> 17000 | ... R18: =(BS!V40-BS!U40)+(BS!V41-BS!U41) -> -11900 | S18: =SUM(G18:R18) -> 2002
A19: Accruals | G19: =BS!K39-BS!J39 -> 7301 | H19: =BS!L39-BS!K39 -> -18000 | I19: =BS!M39-BS!L39 -> -200 | J19: =BS!N39-BS!M39 -> -300 | K19: =BS!O39-BS!N39 -> -300 | L19: =BS!P39-BS!O39 -> -200 | M19: =BS!Q39-BS!P39 -> 4000 | N19: =BS!R39-BS!Q39 -> 3000 | ... R19: =BS!V39-BS!U39 -> 34900 | S19: =SUM(G19:R19) -> 39501
A20: Other Liabilities | G20: =BS!K42-BS!J42 -> -272 | H20: =BS!L42-BS!K42 -> 0 | I20: =BS!M42-BS!L42 -> 0 | J20: =BS!N42-BS!M42 -> 0 | K20: =BS!O42-BS!N42 -> 0 | L20: =BS!P42-BS!O42 -> 0 | M20: =BS!Q42-BS!P42 -> 0 | N20: =BS!R42-BS!Q42 -> 0 | ... R20: =BS!V42-BS!U42 -> 0 | S20: =SUM(G20:R20) -> -272
A21: Total Increase/(Decrease) due to Operating Activities | G21: =SUM(G7:G20) -> 34425.08 | H21: =SUM(H7:H20) -> 14962 | I21: =SUM(I7:I20) -> -25048 | J21: =SUM(J7:J20) -> 24059 | K21: =SUM(K7:K20) -> -1046 | L21: =SUM(L7:L20) -> -21175 | M21: =SUM(M7:M20) -> 17067 | N21: =SUM(N7:N20) -> 59419 | ... R21: =SUM(R7:R20) -> 65956 | S21: =SUM(G21:R21) -> 111493.08
A23: Investing Activities
A24: Capital Expenditures | G24: =BS!J29-BS!K29 -> 0.45 | H24: =BS!K29-BS!L29 -> 0 | I24: =BS!L29-BS!M29 -> 0 | J24: =BS!M29-BS!N29 -> 0 | K24: =BS!N29-BS!O29 -> 0 | L24: =BS!O29-BS!P29 -> 0 | M24: =BS!P29-BS!Q29 -> 0 | N24: =BS!Q29-BS!R29 -> 0 | ... R24: =BS!U29-BS!V29 -> 0 | S24: =SUM(G24:R24) -> 0.45
A26: Financing Activities
A27: Loans | G27: 0 | H27: 0 | I27: 0 | J27: 0 | K27: 0 | L27: 0 | M27: 0 | N27: 0 | O27: 0 | P27: 0 | Q27: 0 | R27: 0 | S27: =SUM(G27:R27) -> 0
A29: Total Increase/(decrease) in Cash | G29: =G21+G24+G27 -> 34425.53 | H29: =H21+H24+H27 -> 14962 | I29: =I21+I24+I27 -> -25048 | J29: =J21+J24+J27 -> 24059 | K29: =K21+K24+K27 -> -1046 | L29: =L21+L24+L27 -> -21175 | M29: =M21+M24+M27 -> 17067 | N29: =N21+N24+N27 -> 59419 | ... R29: =R21+R24+R27 -> 65956 | S29: =SUM(G29:R29) -> 111493.53
A31: Beginning Cash Balance | G31: =BS!J20 -> 389018 | H31: =BS!K20 -> 423443.53 | I31: =BS!L20 -> 438405.53 | J31: =BS!M20 -> 413357.53 | K31: =BS!N20 -> 437416.53 | L31: =BS!O20 -> 436370.53 | M31: =BS!P20 -> 415195.53 | N31: =BS!Q20 -> 432262.53 | ... R31: =BS!U20 -> 434555.53
A33: Ending Cash Balance | G33: =G29+G31 -> 423443.53 | H33: =H29+H31 -> 438405.53 | I33: =I29+I31 -> 413357.53 | J33: =J29+J31 -> 437416.53 | K33: =K29+K31 -> 436370.53 | L33: =L29+L31 -> 415195.53 | M33: =M29+M31 -> 432262.53 | N33: =N29+N31 -> 491681.53 | ... R33: =R29+R31 -> 500511.53
A35: (check) | G35: =G33-BS!K20 -> 0 | H35: =H33-BS!L20 -> 0 | I35: =I33-BS!M20 -> 0 | J35: =J33-BS!N20 -> 0 | K35: =K33-BS!O20 -> 0 | L35: =L33-BS!P20 -> 0 | M35: =M33-BS!Q20 -> 0 | N35: =N33-BS!R20 -> 0 | ... R35: =R33-BS!V20 -> 0

Sheet BS wrksht
B1: 12.31.22 | C1: January | D1: February | E1: March | F1: April | G1: May | H1: June | I1: July | J1: August | K1: September | L1: October | M1: November | N1: December
A2: AR Grants
A4: Duck Stamp 2019-2021 | B4: 22730 | C4: 0 | D4: 0 | E4: 0 | F4: 0 | G4: 0 | H4: 0 | I4: 0 | J4: 0 | K4: 0 | L4: 0 | M4: 0 | N4: 0
A5: Duck Stamp 2022 | B5: 11926.53 | C5: 1000 | D5: 1000 | E5: 1000 | F5: 1500 | G5: 1500 | H5: 1000 | I5: 1000 | J5: 1000 | K5: 1500 | L5: 1500 | M5: 2000 | N5: 1500
A6: Duck Stamp 2022 Wild Rice | B6: 6455 | C6: 0 | D6: 0 | E6: 0 | F6: 0 | G6: 0 | H6: 0 | I6: 0 | J6: 0 | K6: 0 | L6: 3545 | M6: 0 | N6: 0
A7: DNR Dane County Mitigation | B7: 1925 | C7: 500 | D7: 500 | E7: 500 | F7: 500 | G7: 1075
A8: R3 Learn to Hunt | B8: 0 | C8: 726 | D8: 1826 | E8: 1826 | F8: 2156 | G8: 1606 | H8: 1606 | I8: 4136 | J8: 4191 | K8: 1881 | L8: 1991 | M8: 1331 | N8: 1276
A9: USFWS | B9: 0 | C9: 15000 | D9: 14000 | E9: 18500 | F9: 9000 | G9: 14000 | H9: 8000 | I9: 10000 | J9: 25000 | K9: 7700 | L9: 7750 | M9: 6500 | N9: 10000
A10: Public Lands Biologist | B10: 0 | C10: 3439 | D10: 3439 | E10: 3439 | F10: 3439 | G10: 3439 | H10: 3439 | I10: 3439 | J10: 3439 | K10: 3439 | L10: 3439 | M10: 3439 | N10: 3439
A11: AR Grant Payments | C11: -15000 | D11: -14000 | E11: -51850 | F11: -14265 | G11: -19265 | H11: -13595 | I11: -20045 | J11: -30045 | K11: -30275 | L11: -15380 | M11: -11820 | N11: -18975
A12: Totals | B12: =SUM(B3:B11) -> 43036.53 | C12: =SUM(B12+C3+C4+C5+C6+C8+C9+C10+C11) -> 48201.53 | D12: =SUM(C12+D3+D4+D5+D6+D8+D9+D10+D11) -> 54466.53 | E12: =SUM(D12+E3+E4+E5+E6+E8+E9+E10+E11) -> 27381.53 | F12: =SUM(E12+F3+F4+F5+F6+F8+F9+F10+F11) -> 29211.53 | G12: =SUM(F12+G3+G4+G5+G6+G8+G9+G10+G11) -> 30491.53 | H12: =SUM(G12+H3+H4+H5+H6+H8+H9+H10+H11) -> 30941.53 | I12: =SUM(H12+I3+I4+I5+I6+I8+I9+I10+I11) -> 29471.53 | J12: =SUM(I12+J3+J4+J5+J6+J8+J9+J10+J11) -> 33056.53 | ... N12: =SUM(M12+N3+N4+N5+N6+N8+N9+N10+N11) -> 18836.53
A14: AR Trade
A15: Banquets - $1000 ea. | C15: 1000 | D15: 2000 | E15: 1000 | F15: 4000 | G15: 4000 | H15: 3000 | I15: 3000 | J15: 6000 | K15: 1000 | L15: 1000 | M15: 1000 | N15: 4000
A16: Chapter Payments | D16: -1000 | E16: -2000 | F16: -1000 | G16: -4000 | H16: -4000 | I16: -3000 | J16: -3000 | K16: -6000 | L16: -1000 | M16: -1000 | N16: -5000
A17: Ending Balance | B17: 0 | C17: =SUM(B15+C15+C16) -> 1000 | D17: =SUM(C17+D15+D16) -> 2000 | E17: =SUM(D17+E15+E16) -> 1000 | F17: =SUM(E17+F15+F16) -> 4000 | G17: =SUM(F17+G15+G16) -> 4000 | H17: =SUM(G17+H15+H16) -> 3000 | I17: =SUM(H17+I15+I16) -> 3000 | J17: =SUM(I17+J15+J16) -> 6000 | K17: =SUM(J17+K15+K16) -> 1000 | ... N17: =SUM(M17+N15+N16) -> 0
A19: Inventory
B20: 35896.59
A21: Plus Banquets - $1000 ea. | C21: 1000 | D21: 2000 | E21: 1000 | F21: 4000 | G21: 4000 | H21: 3000 | I21: 3000 | J21: 6000 | K21: 1000 | L21: 1000 | M21: 1000 | N21: 4000
A22: Minus Inventory used - $1000 ea. | D22: -1000 | E22: -2000 | F22: -1000 | G22: -4000 | H22: -4000 | I22: -3000 | J22: -3000 | K22: -6000 | L22: -1000 | M22: -1000 | N22: -5000
A23: Total | C23: =SUM(B20+C21+C22) -> 36896.59 | D23: =SUM(C23+D21+D22) -> 37896.59 | E23: =SUM(D23+E21+E22) -> 36896.59 | F23: =SUM(E23+F21+F22) -> 39896.59 | G23: =SUM(F23+G21+G22) -> 39896.59 | H23: =SUM(G23+H21+H22) -> 38896.59 | I23: =SUM(H23+I21+I22) -> 38896.59 | J23: =SUM(I23+J21+J22) -> 41896.59 | K23: =SUM(J23+K21+K22) -> 36896.59 | ... N23: =SUM(M23+N21+N22) -> 35896.59
A25: AP
A26: Beginning Balance | B26: 5183 | C26: 5183 | D26: =C29 -> 38295 | E26: =D29 -> 36530 | F26: =E29 -> 39313 | G26: =F29 -> 27718 | H26: =G29 -> 32077 | I26: =H29 -> 29685 | J26: =I29 -> 28333 | K26: =J29 -> 53628 | ... N26: =M29 -> 18176
A27: Budget Exp minus Salaries | C27: =SUM('Income Statement'!B70)-11914 -> 44150 | D27: =SUM('Income Statement'!C70)-11914 -> 42385 | E27: =SUM('Income Statement'!D70)-11914 -> 45168 | F27: =SUM('Income Statement'!E70)-11914 -> 33573 | G27: =SUM('Income Statement'!F70)-11914 -> 37932 | H27: =SUM('Income Statement'!G70)-11914 -> 35540 | I27: =SUM('Income Statement'!H70)-11914 -> 34188 | J27: =SUM('Income Statement'!I70)-11914 -> 59483 | ... N27: =SUM('Income Statement'!M70)-11914 -> 28966
A28: Payments | C28: -11038 | D28: =-(SUM('Income Statement'!B70)-11914) -> -44150 | E28: =-(SUM('Income Statement'!C70)-11914) -> -42385 | F28: =-(SUM('Income Statement'!D70)-11914) -> -45168 | G28: =-(SUM('Income Statement'!E70)-11914) -> -33573 | H28: =-(SUM('Income Statement'!F70)-11914) -> -37932 | I28: =-(SUM('Income Statement'!G70)-11914) -> -35540 | J28: =-(SUM('Income Statement'!H70)-11914) -> -34188 | K28: =-(SUM('Income Statement'!I70)-11914) -> -59483 | ... N28: =-(SUM('Income Statement'!L70)-11914) -> -24031
A29: Balance | B29: 5183 | C29: =SUM(C26:C28) -> 38295 | D29: =SUM(D26:D28) -> 36530 | E29: =SUM(E26:E28) -> 39313 | F29: =SUM(F26:F28) -> 27718 | G29: =SUM(G26:G28) -> 32077 | H29: =SUM(H26:H28) -> 29685 | I29: =SUM(I26:I28) -> 28333 | J29: =SUM(J26:J28) -> 53628 | ... N29: =SUM(N26:N28) -> 23111

Sheet P&L Monthly Totals
B1: January | C1: Feb | D1: March | E1: April | F1: May | G1: June | H1: July | I1: August | J1: Sept | K1: Oct | L1: Nov | M1: Dec | N1: Totals
A2: Gross Sales
A3: Chapter event revenue | N3: =SUM(B3:M3) -> 0
A4: State event revenue | N4: =SUM(B4:M4) -> 0
A5: Membership revenue | N5: =SUM(B5:M5) -> 0
A6: Sponsor revenue | N6: =SUM(B6:M6) -> 0
A7: Restoration revenue | N7: =SUM(B7:M7) -> 0
A8: other grant revenue | N8: =SUM(B8:M8) -> 0
A9: EXPO revenue | N9: =SUM(B9:M9) -> 0
A10: Other
N11: =SUM(B10:M10) -> 0
A12: Net Sales | N12: =SUM(B11:M11) -> 0
N13: =SUM(B12:M12) -> 0
A14: Standard Cost of Sales | N14: =SUM(B13:M13) -> 0
A15: COS-Chapter event revenue | N15: =SUM(B14:M14) -> 0
A16: COS-State event revenue | N16: =SUM(B15:M15) -> 0
A17: COS-Other | N17: =SUM(B16:M16) -> 0
N18: =SUM(B17:M17) -> 0
N19: =SUM(B18:M18) -> 0
N20: =SUM(B19:M19) -> 0
A21: Total Standard Cost of Sales | N21: =SUM(B20:M20) -> 0
N22: =SUM(B21:M21) -> 0
A23: Gross Profit | N23: =SUM(B22:M22) -> 0
N24: =SUM(B23:M23) -> 0
A25: Operating Expenses | N25: =SUM(B24:M24) -> 0
A26: Development: | N26: =SUM(B25:M25) -> 0
A27: Wages | N27: =SUM(B26:M26) -> 0
A28: Benefits | N28: =SUM(B27:M27) -> 0
A29: Travel | N29: =SUM(B28:M28) -> 0
A30: Phone | N30: =SUM(B29:M29) -> 0
A31: Event expenses | N31: =SUM(B30:M30) -> 0
A32: Postage & shipping | N32: =SUM(B31:M31) -> 0
A33: Shows & meetings | N33: =SUM(B32:M32) -> 0
A34: Marketing | N34: =SUM(B33:M33) -> 0
A35: Magazine | N35: =SUM(B34:M34) -> 0
A36: Advertising | N36: =SUM(B35:M35) -> 0
... A39: Total | N39: =SUM(B38:M38) -> 0
N40: =SUM(B39:M39) -> 0
A41: Program Services: | N41: =SUM(B40:M40) -> 0
A42: Wages | N42: =SUM(B41:M41) -> 0
...

Sheet BR Calculations
A2: PLE Calculations
A3: Expected salary PLE | B3: =23*2080 -> 47840
A4: other expenses | B4: =B3*0.15 -> 7176
A5: Total expenses | B5: =B3+B4 -> 55016
A6: DNR piece | B6: =B5*3/4 -> 41262
A7: monthly payment from DNR | B7: =B6/12 -> 3438.5 | C7: total | D7: =3400*12 -> 40800
A8: monthly wage expense for WWA | B8: =(B3+B3*0.085)/12 -> 4325.5333 | D8: =12*B8 -> 51906.4
A14: LTH calculations | B14: TOTAL | C14: ONE YEAR | D14: Jan | E14: Feb | F14: Mar | G14: Apr | H14: May | I14: Jun | J14: Jul | K14: Aug | L14: Sep | M14: Oct | N14: Nov | O14: Dec | P14: Total
A15: PM | B15: 9214.38 | C15: =B15/2 -> 4607.19 | D15: 400 | E15: 400 | F15: 400 | G15: 400 | H15: 400 | I15: 400 | J15: 400 | K15: 400 | L15: 400 | M15: 400 | N15: 400 | O15: 400 | P15: =SUM(D15:O15) -> 4800
A16: Volunteer coordinator | B16: 3633.84 | C16: =B16/2 -> 1816.92 | P16: =SUM(D16:O16) -> 0
A17: Grant Admin | B17: 5261.76 | C17: =B17/2 -> 2630.88 | D17: 200 | E17: 200 | F17: 200 | G17: 200 | H17: 200 | I17: 200 | J17: 200 | K17: 200 | L17: 200 | M17: 200 | N17: 200 | O17: 200 | P17: =SUM(D17:O17) -> 2400
A18: Fringe | B18: 1789.37 | C18: =B18/2 -> 894.685 | D18: =SUM(D15:D17)*0.1 -> 60 | E18: =SUM(E15:E17)*0.1 -> 60 | F18: =SUM(F15:F17)*0.1 -> 60 | G18: =SUM(G15:G17)*0.1 -> 60 | H18: =SUM(H15:H17)*0.1 -> 60 | I18: =SUM(I15:I17)*0.1 -> 60 | J18: =SUM(J15:J17)*0.1 -> 60 | K18: =SUM(K15:K17)*0.1 -> 60 | ... O18: =SUM(O15:O17)*0.1 -> 60 | P18: =SUM(D18:O18) -> 720
A19: EXPO Entrance Fees | B19: 1100 | C19: =B19/2 -> 550 | J19: =900 -> 900 | P19: =SUM(D19:O19) -> 900
A20: Staff travel | B20: 480 | C20: =B20/2 -> 240 | J20: 50 | K20: 50 | L20: 50 | M20: 50 | N20: 50 | P20: =SUM(D20:O20) -> 250
A21: Mentor/mentee travel | B21: 5250 | C21: =B21/2 -> 2625 | K21: 1400 | L21: 500 | M21: 600 | P21: =SUM(D21:O21) -> 2500
A22: Consulting Services | B22: 3000 | C22: =B22/2 -> 1500 | G22: 300 | H22: 300 | I22: 300 | J22: 300 | K22: 300 | P22: =SUM(D22:O22) -> 1500
A23: Digital mktg | B23: 12000 | C23: =B23/2 -> 6000 | E23: 500 | F23: 500 | G23: 500 | H23: 500 | I23: 500 | J23: 500 | K23: 500 | L23: 500 | M23: 500 | N23: 500 | O23: 500 | P23: =SUM(D23:O23) -> 5500
A24: Printing | B24: 500 | C24: =B24/2 -> 250 | J24: 250 | P24: =SUM(D24:O24) -> 250
A25: Videographer | B25: 800 | C25: =B25/2 -> 400 | K25: 400 | P25: =SUM(D25:O25) -> 400
A26: Gear | B26: 4375 | C26: =B26/2 -> 2187.5 | E26: 500 | F26: 500 | G26: 500 | K26: 500 | P26: =SUM(D26:O26) -> 2000
A27: Shooting range | B27: 825 | C27: =B27/2 -> 412.5 | J27: 400 | P27: =SUM(D27:O27) -> 400
A28: ammo | B28: 1400 | C28: =B28/2 -> 700 | J28: 700 | P28: =SUM(D28:O28) -> 700
A29: indirect cost | B29: 4125.81 | C29: =B29/2 -> 2062.905 | D29: =SUM(D15:D28)*0.1 -> 66 | E29: =SUM(E15:E28)*0.1 -> 166 | F29: =SUM(F15:F28)*0.1 -> 166 | G29: =SUM(G15:G28)*0.1 -> 196 | H29: =SUM(H15:H28)*0.1 -> 146 | I29: =SUM(I15:I28)*0.1 -> 146 | J29: =SUM(J15:J28)*0.1 -> 376 | K29: =SUM(K15:K28)*0.1 -> 381 | ... O29: =SUM(O15:O28)*0.1 -> 116 | P29: =SUM(D29:O29) -> 2232
B30: =SUM(B15:B29) -> 53755.16 | C30: =SUM(C15:C29) -> 26877.58 | P30: =SUM(D30:O30) -> 0
P31: =SUM(D31:O31) -> 0
C32: TOTAL LTH Expenses | D32: =SUM(D15:D29) -> 726 | E32: =SUM(E15:E29) -> 1826 | F32: =SUM(F15:F29) -> 1826 | G32: =SUM(G15:G29) -> 2156 | H32: =SUM(H15:H29) -> 1606 | I32: =SUM(I15:I29) -> 1606 | J32: =SUM(J15:J29) -> 4136 | K32: =SUM(K15:K29) -> 4191 | ... O32: =SUM(O15:O29) -> 1276 | P32: =SUM(D32:O32) -> 24552
C34: TOTAL LTH Income | F34: =D32 -> 726 | G34: =E32 -> 1826 | H34: =F32 -> 1826 | I34: =G32 -> 2156 | J34: =H32 -> 1606 | K34: =I32 -> 1606 | L34: =J32 -> 4136 | M34: =K32 -> 4191 | ... Q34: =O32 -> 1276

Sheet Sheet1

Sheet 2011 VS 2012 by Class
B1: Chapters/Development | E1: Restoration/HRP | H1: Education
B3: 2011 | C3: 2012 | E3: 2011 | F3: 2012 | H3: 2011 | I3: 2012
A4: Revenue | B4: 681264 | C4: 508315 | E4: 69164 | F4: 63500 | H4: 30500 | I4: 0
A5: Expense | B5: 819790 | C5: 547675 | E5: 96398 | F5: 93050 | H5: 20000 | I5: 20000
A6: Profit (Loss) | B6: =SUM(B4-B5) -> -138526 | C6: =SUM(C4-C5) -> -39360 | E6: =SUM(E4-E5) -> -27234 | F6: =SUM(F4-F5) -> -29550 | H6: =SUM(H4-H5) -> 10500 | I6: =SUM(I4-I5) -> -20000
