Workbook

Sheet BBB standards
A1: BBB Standard
A2: #8 "Program Expenses - spend at least 65% of its total expenses on program activities" | B2: FY | C2: Program exp | D2: Total Expenses | E2: % | F2: GOAL %
B3: 2017 | C3: ='2021 FinResults in compile form'!J17 -> 233125 | D3: ='2021 FinResults in compile form'!J20 -> 381185 | E3: =C3/D3 -> 0.61157968 | F3: >65%
B4: 2018 | C4: ='2021 FinResults in compile form'!I17 -> 258692 | D4: ='2021 FinResults in compile form'!I20 -> 432289 | E4: =C4/D4 -> 0.59842374 | F4: >65%
B5: 2019 (est) | C5: ='2021 FinResults in compile form'!H17 -> 241021 | D5: ='2021 FinResults in compile form'!H20 -> 379324 | E5: =C5/D5 -> 0.63539613 | F5: >65%
B6: 2020 | C6: 231146 | D6: 349284 | E6: =C6/D6 -> 0.66177094 | F6: >65%
B7: 2021 compiled | C7: 377620 | D7: 484663 | E7: =C7/D7 -> 0.77913932 | F7: >65%
B8: 2022 compiled | C8: ='2022 FinResults in compile '!E17 -> 402325 | D8: ='2022 FinResults in compile '!E20 -> 509339 | E8: =C8/D8 -> 0.78989632 | F8: >65%
A11: #9 "Fundraising - spend no more than 35% of related contributions on fundraising [related contributions included donations, legacies, and other gifts received as a result of fundraising efforts]" | C11: Total f/r expenses | D11: Total Related Contributions | E11: % | F11: GOAL %
C12: 139785 | E12: 224063 | F12: 0.35
B13: 2017 | C13: ='2021 FinResults in compile form'!J19 -> 116091 | D13: ='2021 FinResults in compile form'!J14-'2021 FinResults in compile form'!J12-'2021 FinResults in compile form'!J6 -> 284884 | E13: =C13/D13 -> 0.4075027 | F13: < 35%
B14: 2018 | C14: ='2021 FinResults in compile form'!I19 -> 139785 | D14: ='2021 FinResults in compile form'!I14-'2021 FinResults in compile form'!I12-'2021 FinResults in compile form'!I6 -> 325139 | E14: =C14/D14 -> 0.42992382 | F14: < 35%
A15: Related contributions for WWA: | B15: 2019 | C15: ='2021 FinResults in compile form'!H19 -> 105613 | D15: ='2021 FinResults in compile form'!H14-'2021 FinResults in compile form'!H12-'2021 FinResults in compile form'!H6 -> 263785 | E15: =C15/D15 -> 0.40037531 | F15: < 35%
A16: - | B16: 2020 | C16: 95628 | D16: 349284 | E16: =C16/D16 -> 0.27378294 | F16: < 35%
B17: =B7 -> 2021 compiled | C17: 81359 | D17: ='2021 FinResults in compile form'!F14-'2021 FinResults in compile form'!F12-'2021 FinResults in compile form'!F6-'2021 FinResults in compile form'!F5 -> 379496 | E17: =C17/D17 -> 0.21438698 | F17: < 35%
B18: 2022 compiled | C18: ='2022 FinResults in compile '!E19 -> 79091 | D18: ='2022 FinResults in compile '!E14-'2022 FinResults in compile '!E12-'2022 FinResults in compile '!E6-'2022 FinResults in compile '!E5 -> 390136 | E18: =C18/D18 -> 0.20272674 | F18: < 35%
A19: Alternatives #1 | B19: 2018 | E19: =224063+62547 -> 286610 | F19: < 35%
A20: Alternatives #2 | B20: 2108 | E20: 625403 | F20: < 35%
A31: Graphic
A32: Expenditure

Sheet 2022 FinResults in compile 
A1: WWA Statement of Activities | E1: 2022 | F1: 2021 | G1: 2020 | H1: 2019 | I1: 2018 | J1: 2017
G2: Year-end Resuts | H2: Year-end Resuts | I2: Compiled | J2: Compiled
B3: Revenue, Support, and Gains (Losses) | E3: prelim | F3: compiled | G3: compiled | H3: per IRS Form 990 | I3: compiled, per 990 | J3: compiled, per 990 | L3: From 2019 990
C4: Contributions | E4: 55091 | F4: 30719 | G4: 65408 | H4: =M4 -> 52238 | I4: 62547 | J4: 62943 | L4: All other cont | M4: 52238
C5: Gain on extinguishment of PPP debt | E5: 0 | F5: 50385 | G5: 0
C6: Grants and other Program Service Fees | E6: 209557 | F6: 245239 | G6: 102254 | H6: =M15 -> 112207 | I6: 123225 | J6: 88477 | L6: Events | M6: 197941
C7: EXPO Revenue | E7: 59046 | F7: 34735 | G7: 0
C8: Event Revenue (Net) | E8: =E9+E10 -> 243665 | F8: =F9+F10 -> 284578 | G8: =G9+G10 -> 219055 | H8: =M6 -> 197941 | I8: =I9+I10 -> 224063 | J8: =J9+J10 -> 190148 | L8: Sales | M8: 3201
D9: Gross Event Revenue | E9: 547966 | F9: 538675 | G9: 527754 | H9: 600560 | I9: 625403 | J9: 565696
D10: Less cost of Direct benefits to Donors | E10: -304301 | F10: -254097 | G10: -308699 | H10: =-('2019 P&L'!E20+'2019 P&L'!E21+'2019 P&L'!E22) -> -397119 | I10: -401340 | J10: -375548
C11: Other Revenue | E11: 32334 | F11: 29464 | G11: 25030 | H11: =M11+M12+M14+M8 -> 13606 | I11: 38529 | J11: 31793 | L11: Investment | M11: 64
C12: Endowment growth - interest | E12: 1402 | F12: 10104 | G12: 3040 | H12: 3987 | I12: -2467 | J12: 2695 | L12: Mbrship | M12: 10070
D13: Held by Community Foundation
C14: Total Revenues, Support, and Gains (losses) | E14: =E4+E5+E6+E7+E8+E11+E12 -> 601095 | F14: =F4+F5+F6+F7+F8+F11+F12 -> 685224 | G14: =G4+G6+G8+G11+G12 -> 414787 | H14: =H4+H6+H8+H11+H12 -> 379979 | I14: =I4+I6+I8+I11+I12 -> 445897 | J14: =J4+J6+J8+J11+J12 -> 376056 | L14: Misc | M14: 271
L15: Habitat | M15: 112207
B16: Expenses | L16: total rev | M16: =SUM(M4:M15) -> 375992
C17: Program Services: | D17: Habitat Restoration, Education, Advocacy and Member Benefits | E17: 402325 | F17: 377620 | G17: 230591 | H17: =M18 -> 241021 | I17: 258692 | J17: 233125
C18: Management, General Admin | E18: 27923 | F18: 25684 | G18: 24945 | H18: =M20 -> 32690 | I18: 33812 | J18: 31969 | L18: Restorations | M18: 241021
C19: Fundraising | E19: 79091 | F19: 81359 | G19: 72535 | H19: =M19 -> 105613 | I19: 139785 | J19: 116091 | L19: Fundraising | M19: 105613
C20: Total Expenses | E20: =E17+E18+E19 -> 509339 | F20: =F17+F18+F19 -> 484663 | G20: =G17+G18+G19 -> 328071 | H20: =H17+H18+H19 -> 379324 | I20: =I17+I18+I19 -> 432289 | J20: =J17+J18+J19 -> 381185 | L20: Admin | M20: 32690
M21: =SUM(M18:M20) -> 379324
B22: Change in Net Assets | E22: =E14-E20 -> 91756 | F22: =F14-F20 -> 200561 | G22: =G14-G20 -> 86716 | H22: =H14-H20 -> 655 | I22: =I14-I20 -> 13608 | J22: =J14-J20 -> -5129
B24: Net Assets - Beginning of Year | F24: =G26 -> 353927 | G24: 267211 | H24: 267211 | I24: =J26 -> 256934 | J24: 262063
B26: NET ASSETS, END OF YEAR | F26: =F22+F24 -> 554488 | G26: =G22+G24 -> 353927 | H26: =H22+H24 -> 267866 | I26: =I22+I24 -> 270542 | J26: =J22+J24 -> 256934
D31: a | G31: ﬁ
D32: b
D33: c
A53: DOLLAR BILL GRAPHIC
B54: Expenditure | C54: % | D54: $
B55: Program services | C55: =D55/D58 -> 0.78989632 | D55: =E17 -> 402325
B56: Fundraising | C56: =D56/D58 -> 0.15528165 | D56: =E19 -> 79091
B57: Management & Administration | C57: =D57/D58 -> 0.054822034 | D57: =E18 -> 27923
B58: total | C58: =SUM(C55:C57) -> 1 | D58: =SUM(D55:D57) -> 509339
B62: Name | C62: Value
B63: Dollar | C63: 1

Sheet 2021 FinResults in compile form
A1: WWA Statement of Activities | E1: 2022 | F1: 2021 | G1: 2020 | H1: 2019 | I1: 2018 | J1: 2017
G2: Year-end Resuts | H2: Year-end Resuts | I2: Compiled | J2: Compiled
B3: Revenue, Support, and Gains (Losses) | E3: prelim | F3: compiled | G3: compiled | H3: per IRS Form 990 | I3: compiled, per 990 | J3: compiled, per 990 | L3: From 2019 990
C4: Contributions | E4: 55091 | F4: 30719 | G4: 65408 | H4: =M4 -> 52238 | I4: 62547 | J4: 62943 | L4: All other cont | M4: 52238
C5: Gain on extinguishment of PPP debt | E5: 0 | F5: 50385 | G5: 0
C6: Grants and other Program Service Fees | E6: 209557 | F6: 245239 | G6: 102254 | H6: =M15 -> 112207 | I6: 123225 | J6: 88477 | L6: Events | M6: 197941
C7: EXPO Revenue | E7: 59046 | F7: 34735 | G7: 0
C8: Event Revenue (Net) | E8: =E9+E10 -> 243665 | F8: =F9+F10 -> 284578 | G8: =G9+G10 -> 219055 | H8: =M6 -> 197941 | I8: =I9+I10 -> 224063 | J8: =J9+J10 -> 190148 | L8: Sales | M8: 3201
D9: Gross Event Revenue | E9: 547966 | F9: 538675 | G9: 527754 | H9: 600560 | I9: 625403 | J9: 565696
D10: Less cost of Direct benefits to Donors | E10: -304301 | F10: -254097 | G10: -308699 | H10: =-('2019 P&L'!E20+'2019 P&L'!E21+'2019 P&L'!E22) -> -397119 | I10: -401340 | J10: -375548
C11: Other Revenue | E11: 32334 | F11: 29464 | G11: 25030 | H11: =M11+M12+M14+M8 -> 13606 | I11: 38529 | J11: 31793 | L11: Investment | M11: 64
C12: Endowment growth - interest | E12: 1402 | F12: 10104 | G12: 3040 | H12: 3987 | I12: -2467 | J12: 2695 | L12: Mbrship | M12: 10070
D13: Held by Community Foundation
C14: Total Revenues, Support, and Gains (losses) | E14: =E4+E5+E6+E7+E8+E11+E12 -> 601095 | F14: =F4+F5+F6+F7+F8+F11+F12 -> 685224 | G14: =G4+G6+G8+G11+G12 -> 414787 | H14: =H4+H6+H8+H11+H12 -> 379979 | I14: =I4+I6+I8+I11+I12 -> 445897 | J14: =J4+J6+J8+J11+J12 -> 376056 | L14: Misc | M14: 271
L15: Habitat | M15: 112207
B16: Expenses | L16: total rev | M16: =SUM(M4:M15) -> 375992
C17: Program Services: | D17: Habitat Restoration, Education, Advocacy and Member Benefits | E17: 402325 | F17: 377620 | G17: 230591 | H17: =M18 -> 241021 | I17: 258692 | J17: 233125
C18: Management, General Admin | E18: 27923 | F18: 25684 | G18: 24945 | H18: =M20 -> 32690 | I18: 33812 | J18: 31969 | L18: Restorations | M18: 241021
C19: Fundraising | E19: 79091 | F19: 81359 | G19: 72535 | H19: =M19 -> 105613 | I19: 139785 | J19: 116091 | L19: Fundraising | M19: 105613
C20: Total Expenses | E20: =E17+E18+E19 -> 509339 | F20: =F17+F18+F19 -> 484663 | G20: =G17+G18+G19 -> 328071 | H20: =H17+H18+H19 -> 379324 | I20: =I17+I18+I19 -> 432289 | J20: =J17+J18+J19 -> 381185 | L20: Admin | M20: 32690
M21: =SUM(M18:M20) -> 379324
B22: Change in Net Assets | E22: =E14-E20 -> 91756 | F22: =F14-F20 -> 200561 | G22: =G14-G20 -> 86716 | H22: =H14-H20 -> 655 | I22: =I14-I20 -> 13608 | J22: =J14-J20 -> -5129
B24: Net Assets - Beginning of Year | F24: =G26 -> 353927 | G24: 267211 | H24: 267211 | I24: =J26 -> 256934 | J24: 262063
B26: NET ASSETS, END OF YEAR | F26: =F22+F24 -> 554488 | G26: =G22+G24 -> 353927 | H26: =H22+H24 -> 267866 | I26: =I22+I24 -> 270542 | J26: =J22+J24 -> 256934
D31: a | G31: ﬁ
D32: b
D33: c
A53: DOLLAR BILL GRAPHIC
B54: Expenditure | C54: % | D54: $
B55: Program services | C55: =D55/D58 -> 0.77913932 | D55: =F17 -> 377620
B56: Fundraising | C56: =D56/D58 -> 0.16786716 | D56: =F19 -> 81359
B57: Management & Administration | C57: =D57/D58 -> 0.052993523 | D57: =F18 -> 25684
B58: total | C58: =SUM(C55:C57) -> 1 | D58: =SUM(D55:D57) -> 484663
B62: Name | C62: Value
B63: Dollar | C63: 1

Sheet 2020 P&L
A1: The Wisconsin Waterfowl Association
A2: Income Statement
A3: 44196
A6: Current Month | D6: 44196 | E6: Year-To-Date
A7: Actual | B7: Budget | C7: Variance | E7: Actual | F7: Budget | G7: Variance
D8: Gross Sales
A9: 80280.07 | B9: 23000 | C9: =A9-B9 -> 57280.07 | D9: Chapter event revenue | E9: 445594 | F9: 330000 | G9: =E9-F9 -> 115594
A10: 71932.21 | B10: 57000 | C10: =A10-B10 -> 14932.21 | D10: State event revenue | E10: 102876 | F10: 113435 | G10: =E10-F10 -> -10559
A11: 1255 | B11: 490 | C11: =A11-B11 -> 765 | D11: Membership revenue | E11: 12850 | F11: 9680 | G11: =E11-F11 -> 3170
A12: 0 | B12: 0 | C12: =A12-B12 -> 0 | D12: Sponsor revenue | E12: 0 | F12: 0 | G12: =E12-F12 -> 0
A13: 3338.33 | B13: 4896 | C13: =A13-B13 -> -1557.67 | D13: Restoration revenue | E13: 27799 | F13: 58752 | G13: =E13-F13 -> -30953
A14: 7060.88 | B14: 5000 | C14: =A14-B14 -> 2060.88 | D14: other grant revenue | E14: 103760 | F14: 92900 | G14: =E14-F14 -> 10860
A15: 3278.08 | B15: 0 | C15: =A15-B15 -> 3278.08 | D15: Other | E15: 21544 | F15: 0 | G15: =E15-F15 -> 21544
A17: =SUM(A9:A16) -> 167144.57 | B17: =SUM(B9:B16) -> 90386 | C17: =SUM(C9:C16) -> 76758.57 | D17: Net Sales | E17: =SUM(E9:E16) -> 714423 | F17: =SUM(F9:F16) -> 604767 | G17: =SUM(G9:G16) -> 109656
J18: Total Contributions
D19: Standard Cost of Sales | J19: =E26-E14-E13 -> 171351
A20: 38772.07 | B20: 13800 | C20: =SUM(A20-B20) -> 24972.07 | D20: COS-Chapter event revenue | E20: 236270 | F20: 198000 | G20: =SUM(E20-F20) -> 38270
A21: 51454.4 | B21: 37500 | C21: =SUM(A21-B21) -> 13954.4 | D21: COS-State event revenue | E21: 66640 | F21: 65325 | G21: =SUM(E21-F21) -> 1315
B22: 0 | C22: =SUM(A22-B22) -> 0 | D22: COS-Other | E22: 0 | F22: 0 | G22: =SUM(E22-F22) -> 0
A26: =SUM(A19:A25) -> 90226.47 | B26: =SUM(B19:B25) -> 51300 | C26: =SUM(C20:C25) -> 38926.47 | D26: Total Standard Cost of Sales | E26: =SUM(E20:E25) -> 302910 | F26: =SUM(F20:F25) -> 263325 | G26: =SUM(G20:G25) -> 39585
A28: =A17-A26 -> 76918.1 | B28: =B17-B26 -> 39086 | C28: =C17-C26 -> 37832.1 | D28: Gross Profit | E28: =E17-E26 -> 411513 | F28: =F17-F26 -> 341442 | G28: =G17-G26 -> 70071
D30: Operating Expenses
D31: Development:
A32: 3386.61 | B32: 4249 | C32: =SUM(A32-B32) -> -862.39 | D32: Wages | E32: 42239 | F32: 44324 | G32: =SUM(E32-F32) -> -2085
A33: 0 | B33: 0 | C33: =SUM(A33-B33) -> 0 | D33: Benefits | E33: 0 | F33: 0 | G33: =SUM(E33-F33) -> 0
A34: 0 | B34: 500 | C34: =SUM(A34-B34) -> -500 | D34: Travel | E34: 4539 | F34: 11965 | G34: =SUM(E34-F34) -> -7426
A35: 159.29 | B35: 225 | C35: =SUM(A35-B35) -> -65.71 | D35: Phone | E35: 2026 | F35: 2700 | G35: =SUM(E35-F35) -> -674
A36: 1480.06 | B36: 725 | C36: =SUM(A36-B36) -> 755.06 | D36: Event expenses | E36: 17534 | F36: 18275 | G36: =SUM(E36-F36) -> -741
A37: 121.5 | B37: 45 | C37: =SUM(A37-B37) -> 76.5 | D37: Postage & shipping | E37: 925 | F37: 540 | G37: =SUM(E37-F37) -> 385
A38: 0 | B38: 0 | C38: =SUM(A38-B38) -> 0 | D38: Shows & meetings | E38: 0 | F38: 0 | G38: =SUM(E38-F38) -> 0
A39: 0 | B39: 0 | C39: =SUM(A39-B39) -> 0 | D39: Marketing | E39: 0 | F39: 0 | G39: =SUM(E39-F39) -> 0
A40: 0 | B40: 0 | C40: =SUM(A40-B40) -> 0 | D40: Magazine | E40: 0 | F40: 0 | G40: =SUM(E40-F40) -> 0
A41: 0 | B41: 50 | C41: =SUM(A41-B41) -> -50 | D41: Advertising | E41: 54 | F41: 600 | G41: =SUM(E41-F41) -> -546
A42: 346 | B42: 456 | C42: =SUM(A42-B42) -> -110 | D42: Rent | E42: 4512 | F42: 5472 | G42: =SUM(E42-F42) -> -960
A43: 0 | B43: 0 | C43: =SUM(A43-B43) -> 0 | D43: Other | E43: 1425 | F43: 1185 | G43: =SUM(E43-F43) -> 240
A44: =SUM(A32:A43) -> 5493.46 | B44: =SUM(B32:B43) -> 6250 | C44: =SUM(C32:C43) -> -756.54 | D44: Total | E44: =SUM(E32:E43) -> 73254 | F44: =SUM(F32:F43) -> 85061 | G44: =SUM(G32:G43) -> -11807
D46: Program Services:
A47: 4856 | B47: 3804 | C47: =SUM(A47-B47) -> 1052 | D47: Wages | E47: 57176 | F47: 44432 | G47: =SUM(E47-F47) -> 12744
A48: 313 | B48: 275 | C48: =SUM(A48-B48) -> 38 | D48: Travel | E48: 3189 | F48: 5010 | G48: =SUM(E48-F48) -> -1821
A49: 1127.66 | B49: 375 | C49: =SUM(A49-B49) -> 752.66 | D49: Other | E49: 13646 | F49: 6530 | G49: =SUM(E49-F49) -> 7116
...

Sheet 2019 P&L
A1: The Wisconsin Waterfowl Association
A2: Income Statement
A3: 43830
A6: Current Month | D6: 43830 | E6: Year-To-Date
A7: Actual | B7: Budget | C7: Variance | E7: Actual | F7: Budget | G7: Variance
D8: Gross Sales
A9: 47942.34 | B9: 27500 | C9: =A9-B9 -> 20442.34 | D9: Chapter event revenue | E9: 518166 | F9: 458750 | G9: =E9-F9 -> 59416
A10: 61945.84 | B10: 57000 | C10: =A10-B10 -> 4945.84 | D10: State event revenue | E10: 82394 | F10: 82435 | G10: =E10-F10 -> -41
A11: 1615 | B11: 250 | C11: =A11-B11 -> 1365 | D11: Membership revenue | E11: 10320 | F11: 6295 | G11: =E11-F11 -> 4025
A12: 0 | B12: 0 | C12: =A12-B12 -> 0 | D12: Sponsor revenue | E12: 0 | F12: 0 | G12: =E12-F12 -> 0
A13: 19737.49 | B13: 4896 | C13: =A13-B13 -> 14841.49 | D13: Restoration revenue | E13: 47957 | F13: 58752 | G13: =E13-F13 -> -10795
A14: 3150.34 | B14: 6000 | C14: =A14-B14 -> -2849.66 | D14: other grant revenue | E14: 95071 | F14: 60500 | G14: =E14-F14 -> 34571
A15: 4360.77 | B15: 1000 | C15: =A15-B15 -> 3360.77 | D15: Other | E15: 16377 | F15: 10475 | G15: =E15-F15 -> 5902
A17: =SUM(A9:A16) -> 138751.78 | B17: =SUM(B9:B16) -> 96646 | C17: =SUM(C9:C16) -> 42105.78 | D17: Net Sales | E17: =SUM(E9:E16) -> 770285 | F17: =SUM(F9:F16) -> 677207 | G17: =SUM(G9:G16) -> 93078
D19: Standard Cost of Sales
A20: 37301.51 | B20: 16500 | C20: =SUM(A20-B20) -> 20801.51 | D20: COS-Chapter event revenue | E20: 341781 | F20: 275250 | G20: =SUM(E20-F20) -> 66531
A21: 44649.5 | B21: 37500 | C21: =SUM(A21-B21) -> 7149.5 | D21: COS-State event revenue | E21: 54703 | F21: 50825 | G21: =SUM(E21-F21) -> 3878
A22: 0 | B22: 0 | C22: =SUM(A22-B22) -> 0 | D22: COS-Other | E22: 635 | F22: 0 | G22: =SUM(E22-F22) -> 635
A26: =SUM(A19:A25) -> 81951.01 | B26: =SUM(B19:B25) -> 54000 | C26: =SUM(C20:C25) -> 27951.01 | D26: Total Standard Cost of Sales | E26: =SUM(E20:E25) -> 397119 | F26: =SUM(F20:F25) -> 326075 | G26: =SUM(G20:G25) -> 71044
A28: =A17-A26 -> 56800.77 | B28: =B17-B26 -> 42646 | C28: =C17-C26 -> 14154.77 | D28: Gross Profit | E28: =E17-E26 -> 373166 | F28: =F17-F26 -> 351132 | G28: =G17-G26 -> 22034
D30: Operating Expenses
D31: Development:
A32: 3321.3 | B32: 4968 | C32: =SUM(A32-B32) -> -1646.7 | D32: Wages | E32: 64800 | F32: 57806 | G32: =SUM(E32-F32) -> 6994
A33: 0 | B33: 0 | C33: =SUM(A33-B33) -> 0 | D33: Benefits | E33: 0 | F33: 0 | G33: =SUM(E33-F33) -> 0
A34: 70.5 | B34: 750 | C34: =SUM(A34-B34) -> -679.5 | D34: Travel | E34: 12124 | F34: 12350 | G34: =SUM(E34-F34) -> -226
A35: 166.95 | B35: 200 | C35: =SUM(A35-B35) -> -33.05 | D35: Phone | E35: 2633 | F35: 2400 | G35: =SUM(E35-F35) -> 233
A36: 2709.17 | B36: 450 | C36: =SUM(A36-B36) -> 2259.17 | D36: Event expenses | E36: 18526 | F36: 19005 | G36: =SUM(E36-F36) -> -479
A37: 79.6 | B37: 50 | C37: =SUM(A37-B37) -> 29.6 | D37: Postage & shipping | E37: 539 | F37: 600 | G37: =SUM(E37-F37) -> -61
A38: 0 | B38: 0 | C38: =SUM(A38-B38) -> 0 | D38: Shows & meetings | E38: 0 | F38: 0 | G38: =SUM(E38-F38) -> 0
A39: 0 | B39: 0 | C39: =SUM(A39-B39) -> 0 | D39: Marketing | E39: 0 | F39: 0 | G39: =SUM(E39-F39) -> 0
A40: 0 | B40: 0 | C40: =SUM(A40-B40) -> 0 | D40: Magazine | E40: 0 | F40: 0 | G40: =SUM(E40-F40) -> 0
A41: 0 | B41: 100 | C41: =SUM(A41-B41) -> -100 | D41: Advertising | E41: 233 | F41: 3110 | G41: =SUM(E41-F41) -> -2877
A42: 437 | B42: 425 | C42: =SUM(A42-B42) -> 12 | D42: Rent | E42: 5433 | F42: 5125 | G42: =SUM(E42-F42) -> 308
A43: 0 | B43: 25 | C43: =SUM(A43-B43) -> -25 | D43: Other | E43: 1239 | F43: 300 | G43: =SUM(E43-F43) -> 939
A44: =SUM(A32:A43) -> 6784.52 | B44: =SUM(B32:B43) -> 6968 | C44: =SUM(C32:C43) -> -183.48 | D44: Total | E44: =SUM(E32:E43) -> 105527 | F44: =SUM(F32:F43) -> 100696 | G44: =SUM(G32:G43) -> 4831
D46: Program Services:
A47: 4625.96 | B47: 2937 | C47: =SUM(A47-B47) -> 1688.96 | D47: Wages | E47: 43901 | F47: 56719 | G47: =SUM(E47-F47) -> -12818
A48: 192.71 | B48: 200 | C48: =SUM(A48-B48) -> -7.29 | D48: Travel | E48: 4768 | F48: 7340 | G48: =SUM(E48-F48) -> -2572
A49: 957.23 | B49: 100 | C49: =SUM(A49-B49) -> 857.23 | D49: Other | E49: 7622 | F49: 4325 | G49: =SUM(E49-F49) -> 3297
A50: 19444.15 | B50: 6066 | C50: =SUM(A50-B50) -> 13378.15 | D50: HRP | E50: 75829 | F50: 72792 | G50: =SUM(E50-F50) -> 3037
...

Sheet 2018 P&L
B1: Jan | C1: Feb | D1: March | E1: April | F1: May | G1: June | H1: July | I1: Aug | J1: Sept | K1: Oct | L1: Nov | M1: Dec | N1: Total
A2: Chapter event revenue | B2: 0 | C2: 2978.43 | D2: 52138.17 | E2: 116496.59 | F2: 58401.29 | G2: 53126.3 | H2: 33571.37 | I2: 68126.99 | J2: 49300.59 | K2: 35864.34 | L2: 29998.8 | M2: 63144.51 | N2: =SUM(B2:M2) -> 563147.38
A3: State event revenue | B3: 387.93 | C3: 1420 | D3: 2010 | E3: 1142 | F3: 150 | G3: 4.92 | H3: 205 | I3: 3615.98 | J3: 525 | K3: 9470.56 | L3: 6596.98 | M3: 72036.35 | N3: =SUM(B3:M3) -> 97564.72
A4: Membership revenue | B4: 250 | C4: 650 | D4: 1635 | E4: 325 | F4: 375 | G4: 175 | H4: 400 | I4: 485 | J4: 175 | K4: 875 | L4: 735 | M4: 2275 | N4: =SUM(B4:M4) -> 8355
A5: Sponsor revenue | B5: 0 | C5: 0 | D5: 0 | E5: 0 | F5: 0 | G5: 0 | H5: 0 | I5: 0 | J5: 0 | K5: 0 | L5: 0 | M5: 0 | N5: =SUM(B5:M5) -> 0
A6: Restoration revenue | B6: 5106.42 | C6: 3685 | D6: 11135 | E6: 1020 | F6: 2722 | G6: 2722 | H6: 5662.07 | I6: 3897 | J6: 3710 | K6: 2395 | L6: 765 | M6: 3380 | N6: =SUM(B6:M6) -> 46199.49
A7: other grant revenue | B7: 1829.56 | C7: 1800 | D7: 0 | E7: 7020 | F7: 0 | G7: 1600 | H7: 3427.93 | I7: 17821.69 | J7: 328.77 | K7: 63804.96 | L7: 8710 | M7: 8455.1 | N7: =SUM(B7:M7) -> 114798.01
A8: Other | B8: 315.72 | C8: 684.92 | D8: 902.82 | E8: 757.05 | F8: 795.62 | G8: 174.75 | H8: 813.35 | I8: 182.95 | J8: 129.13 | K8: 5389.29 | L8: 749.87 | M8: 677.59 | N8: =SUM(B8:M8) -> 11573.06
N9: =SUM(B9:M9) -> 0
A10: Net Sales | B10: =SUM(B2:B9) -> 7889.63 | C10: =SUM(C2:C9) -> 11218.35 | D10: =SUM(D2:D9) -> 67820.99 | E10: =SUM(E2:E9) -> 126760.64 | F10: =SUM(F2:F9) -> 62443.91 | G10: =SUM(G2:G9) -> 57802.97 | H10: =SUM(H2:H9) -> 44079.72 | I10: =SUM(I2:I9) -> 94129.61 | ... M10: =SUM(M2:M9) -> 149968.55 | N10: =SUM(B10:M10) -> 841637.66
N11: =SUM(B11:M11) -> 0
A12: Standard Cost of Sales | N12: =SUM(B12:M12) -> 0
A13: COS-Chapter event revenue | B13: 9.53 | C13: 3139.89 | D13: 26310.52 | E13: 74180.54 | F13: 35728.09 | G13: 40305.49 | H13: 19941.28 | I13: 44335.11 | J13: 34386.81 | K13: 32805.07 | L13: 23095.42 | M13: 54723.41 | N13: =SUM(B13:M13) -> 388961.16
A14: COS-State event revenue | B14: 92.18 | C14: 0 | D14: 0 | E14: 135 | F14: 0 | G14: 0 | H14: 0 | I14: 0 | J14: 0 | K14: 0 | L14: 4485.98 | M14: 44260.76 | N14: =SUM(B14:M14) -> 48973.92
A15: COS-Other | B15: 0 | C15: 0 | D15: 0 | F15: 0 | G15: 0 | H15: 0 | I15: 0 | J15: 0 | K15: 0 | L15: 0 | M15: 0 | N15: =SUM(B15:M15) -> 0
N16: =SUM(B16:M16) -> 0
N17: =SUM(B17:M17) -> 0
N18: =SUM(B18:M18) -> 0
A19: Total Standard Cost of Sales | B19: =SUM(B13:B18) -> 101.71 | C19: =SUM(C13:C18) -> 3139.89 | D19: =SUM(D13:D18) -> 26310.52 | E19: =SUM(E13:E18) -> 74315.54 | F19: =SUM(F13:F18) -> 35728.09 | G19: =SUM(G13:G18) -> 40305.49 | H19: =SUM(H13:H18) -> 19941.28 | I19: =SUM(I13:I18) -> 44335.11 | ... M19: =SUM(M13:M18) -> 98984.17 | N19: =SUM(B19:M19) -> 437935.08
N20: =SUM(B20:M20) -> 0
A21: Gross Profit | B21: =B10-B19 -> 7787.92 | C21: =C10-C19 -> 8078.46 | D21: =D10-D19 -> 41510.47 | E21: =E10-E19 -> 52445.1 | F21: =F10-F19 -> 26715.82 | G21: =G10-G19 -> 17497.48 | H21: =H10-H19 -> 24138.44 | I21: =I10-I19 -> 49794.5 | ... M21: =M10-M19 -> 50984.38 | N21: =SUM(B21:M21) -> 403702.58
N22: =SUM(B22:M22) -> 0
A23: Operating Expenses | N23: =SUM(B23:M23) -> 0
A24: Development: | N24: =SUM(B24:M24) -> 0
A25: Wages | B25: 4458.62 | C25: 3703.22 | D25: 4257.42 | E25: 4510.76 | F25: 5569.87 | G25: 4775.81 | H25: 5120.95 | I25: 4495.91 | J25: 4523.8 | K25: 4817.76 | L25: 4324.14 | M25: 4419.14 | N25: =SUM(B25:M25) -> 54977.4
A26: Benefits | B26: 0 | C26: 0 | D26: 0 | E26: 0 | F26: 0 | G26: 0 | H26: 0 | I26: 0 | J26: 0 | K26: 0 | L26: 0 | M26: 0 | N26: =SUM(B26:M26) -> 0
A27: Travel | B27: 996.5 | C27: 1093.5 | D27: 1531.58 | E27: 1383.25 | F27: 1213.91 | G27: 731.5 | H27: 1343 | I27: 1225.45 | J27: 670 | K27: 759.85 | L27: 703 | M27: 580.75 | N27: =SUM(B27:M27) -> 12232.29
A28: Phone | B28: 208.24 | C28: 207.99 | D28: 207.81 | E28: 209.02 | F28: 135.17 | G28: 208.23 | H28: 208.01 | I28: 261.09 | J28: 199.2 | K28: 199.14 | L28: 167.29 | M28: 312.68 | N28: =SUM(B28:M28) -> 2523.87
A29: Event expenses | B29: 269.35 | C29: 784.7 | D29: 9658.11 | E29: 2146.62 | F29: 1698.47 | G29: 278.57 | H29: 524.88 | I29: 1462.21 | J29: 466.87 | K29: 249.5 | L29: 393.61 | M29: 1525.58 | N29: =SUM(B29:M29) -> 19458.47
A30: Postage & shipping | B30: 6.55 | C30: 245.38 | D30: 69.27 | E30: 658.52 | F30: 16.67 | G30: 23.45 | H30: 43.22 | I30: 30.87 | J30: 58.04 | K30: 191.03 | L30: 50 | M30: 58.21 | N30: =SUM(B30:M30) -> 1451.21
A31: Shows & meetings | B31: 0 | C31: 0 | D31: 0 | E31: 0 | F31: 0 | G31: 0 | H31: 0 | I31: 0 | J31: 0 | K31: 0 | L31: 0 | M31: 0 | N31: =SUM(B31:M31) -> 0
A32: Marketing | B32: 0 | C32: 0 | D32: 0 | E32: 0 | F32: 0 | G32: 0 | H32: 0 | I32: 0 | J32: 0 | K32: 0 | L32: 0 | M32: 0 | N32: =SUM(B32:M32) -> 0
A33: Magazine | B33: 0 | C33: 0 | D33: 0 | E33: 0 | F33: 0 | G33: 0 | H33: 0 | I33: 0 | J33: 0 | K33: 0 | L33: 0 | M33: 0 | N33: =SUM(B33:M33) -> 0
A34: Advertising | B34: 0 | C34: 126 | D34: 421.18 | E34: 500 | F34: 469.16 | G34: 411.98 | H34: 384.5 | I34: 664.49 | J34: 0 | K34: 102.37 | L34: 0 | M34: 0 | N34: =SUM(B34:M34) -> 3079.68
A35: Rent | B35: 397 | C35: 397 | D35: 427.67 | E35: 478.13 | F35: 397 | G35: 430 | H35: 397 | I35: 455.8 | J35: 427 | K35: 470 | L35: 427 | M35: 427 | N35: =SUM(B35:M35) -> 5130.6
A36: Other | B36: 0 | C36: 0 | D36: 25.19 | E36: 4 | F36: 71.99 | G36: 8.36 | H36: 0 | I36: 0 | J36: 69.48 | K36: 319 | L36: 0 | M36: 0 | N36: =SUM(B36:M36) -> 498.02
A37: Total | B37: =SUM(B25:B36) -> 6336.26 | C37: =SUM(C25:C36) -> 6557.79 | D37: =SUM(D25:D36) -> 16598.23 | E37: =SUM(E25:E36) -> 9890.3 | F37: =SUM(F25:F36) -> 9572.24 | G37: =SUM(G25:G36) -> 6867.9 | H37: =SUM(H25:H36) -> 8021.56 | I37: =SUM(I25:I36) -> 8595.82 | ... M37: =SUM(M25:M36) -> 7323.36 | N37: =SUM(B37:M37) -> 99351.54
N38: =SUM(B38:M38) -> 0
A39: Program Services: | N39: =SUM(B39:M39) -> 0
A40: Wages | B40: 5188.53 | C40: 5973.46 | D40: 5470.87 | E40: 4881.82 | F40: 3793.35 | G40: 4764.93 | H40: 4547.87 | I40: 5555.05 | J40: 4605.98 | K40: 2611.95 | L40: 1747.64 | M40: 1676.11 | N40: =SUM(B40:M40) -> 50817.56
...

Sheet 2017 P&L
A1: The Wisconsin Waterfowl Association
A2: Income Statement
A3: 43100
A6: Current Month | D6: 43100 | E6: Year-To-Date
A7: Actual | B7: Budget | C7: Variance | E7: Actual | F7: Budget | G7: Variance
D8: Gross Sales
A9: 76098.2 | B9: 32500 | C9: =A9-B9 -> 43598.2 | D9: Chapter event revenue | E9: 492603 | F9: 442500 | G9: =E9-F9 -> 50103
A10: 21471.25 | B10: 3000 | C10: =A10-B10 -> 18471.25 | D10: State event revenue | E10: 30908 | F10: 21040 | G10: =E10-F10 -> 9868
A11: 1025 | B11: 250 | C11: =A11-B11 -> 775 | D11: Membership revenue | E11: 8495 | F11: 5485 | G11: =E11-F11 -> 3010
A12: 0 | B12: 0 | C12: =A12-B12 -> 0 | D12: Sponsor revenue | E12: 6000 | F12: 6000 | G12: =E12-F12 -> 0
A13: 2860 | B13: 3900 | C13: =A13-B13 -> -1040 | D13: Restoration revenue | E13: 35791 | F13: 53200 | G13: =E13-F13 -> -17409
A14: 2500 | B14: 5700 | C14: =A14-B14 -> -3200 | D14: other grant revenue | E14: 82205 | F14: 83925 | G14: =E14-F14 -> -1720
A15: 500 | B15: 200 | C15: =A15-B15 -> 300 | D15: Other | E15: 9997 | F15: 2400 | G15: =E15-F15 -> 7597
A17: =SUM(A9:A16) -> 104454.45 | B17: =SUM(B9:B16) -> 45550 | C17: =SUM(C9:C16) -> 58904.45 | D17: Net Sales | E17: =SUM(E9:E16) -> 665999 | F17: =SUM(F9:F16) -> 614550 | G17: =SUM(G9:G16) -> 51449
D19: Standard Cost of Sales | J19: Total Contributions
A20: 59582.17 | B20: 19500 | C20: =SUM(A20-B20) -> 40082.17 | D20: COS-Chapter event revenue | E20: 328025 | F20: 265500 | G20: =SUM(E20-F20) -> 62525 | J20: =E28-E13-E14 -> 218866
A21: 0 | B21: 25 | C21: =SUM(A21-B21) -> -25 | D21: COS-State event revenue | E21: 1112 | F21: 300 | G21: =SUM(E21-F21) -> 812
A22: 0 | B22: 0 | C22: =SUM(A22-B22) -> 0 | D22: COS-Other | E22: 0 | F22: 0 | G22: =SUM(E22-F22) -> 0
A26: =SUM(A20:A25) -> 59582.17 | B26: =SUM(B20:B25) -> 19525 | C26: =SUM(C20:C25) -> 40057.17 | D26: Total Standard Cost of Sales | E26: =SUM(E20:E25) -> 329137 | F26: =SUM(F20:F25) -> 265800 | G26: =SUM(G20:G25) -> 63337
A28: =A17-A26 -> 44872.28 | B28: =B17-B26 -> 26025 | C28: =C17-C26 -> 18847.28 | D28: Gross Profit | E28: =E17-E26 -> 336862 | F28: =F17-F26 -> 348750 | G28: =G17-G26 -> -11888
D30: Operating Expenses
D31: Development:
A32: 4885.23 | B32: 4604 | C32: =SUM(A32-B32) -> 281.23 | D32: Wages | E32: 58580 | F32: 58565 | G32: =SUM(E32-F32) -> 15
A33: 0 | B33: 0 | C33: =SUM(A33-B33) -> 0 | D33: Benefits | E33: 0 | F33: 0 | G33: =SUM(E33-F33) -> 0
A34: 493.5 | B34: 1100 | C34: =SUM(A34-B34) -> -606.5 | D34: Travel | E34: 10733 | F34: 12683 | G34: =SUM(E34-F34) -> -1950
A35: 282.8 | B35: 225 | C35: =SUM(A35-B35) -> 57.8 | D35: Phone | E35: 2528 | F35: 2700 | G35: =SUM(E35-F35) -> -172
A36: 812.89 | B36: 450 | C36: =SUM(A36-B36) -> 362.89 | D36: Event expenses | E36: 17062 | F36: 17766 | G36: =SUM(E36-F36) -> -704
A37: 118.32 | B37: 50 | C37: =SUM(A37-B37) -> 68.32 | D37: Postage & shipping | E37: 548 | F37: 926 | G37: =SUM(E37-F37) -> -378
A38: 0 | B38: 0 | C38: =SUM(A38-B38) -> 0 | D38: Shows & meetings | E38: 62 | F38: 1030 | G38: =SUM(E38-F38) -> -968
A39: 0 | B39: 0 | C39: =SUM(A39-B39) -> 0 | D39: Marketing | E39: 0 | F39: 0 | G39: =SUM(E39-F39) -> 0
A40: 0 | B40: 0 | C40: =SUM(A40-B40) -> 0 | D40: Magazine | E40: 0 | F40: 0 | G40: =SUM(E40-F40) -> 0
A41: 49.92 | B41: 0 | C41: =SUM(A41-B41) -> 49.92 | D41: Advertising | E41: 1406 | F41: 0 | G41: =SUM(E41-F41) -> 1406
A42: 428.87 | B42: 400 | C42: =SUM(A42-B42) -> 28.87 | D42: Rent | E42: 4746 | F42: 4665 | G42: =SUM(E42-F42) -> 81
A43: 0 | B43: 0 | C43: =SUM(A43-B43) -> 0 | D43: Other | E43: 1096 | F43: 0 | G43: =SUM(E43-F43) -> 1096
A44: =SUM(A32:A43) -> 7071.53 | B44: =SUM(B32:B43) -> 6829 | C44: =SUM(C32:C43) -> 242.53 | D44: Total | E44: =SUM(E32:E43) -> 96761 | F44: =SUM(F32:F43) -> 98335 | G44: =SUM(G32:G43) -> -1574
D46: Program Services:
A47: 4769.08 | B47: 5100 | C47: =SUM(A47-B47) -> -330.92 | D47: Wages | E47: 63585 | F47: 61811 | G47: =SUM(E47-F47) -> 1774
A48: 696.77 | B48: 600 | C48: =SUM(A48-B48) -> 96.77 | D48: Travel | E48: 10055 | F48: 7858 | G48: =SUM(E48-F48) -> 2197
A49: 595.15 | B49: 450 | C49: =SUM(A49-B49) -> 145.15 | D49: Other | E49: 9178 | F49: 9478 | G49: =SUM(E49-F49) -> -300
A50: 5400 | B50: 3900 | C50: =SUM(A50-B50) -> 1500 | D50: HRP | E50: 56389 | F50: 53200 | G50: =SUM(E50-F50) -> 3189
...
