Workbook
Name PRINT_AREA_MI: [1]CAP!#REF!
Name PRINT_TITLES_MI: [1]CAP!#REF!
Name PrintArea: BS!$E$3:$L$50
Name Report: BS!$A$3:$L$50
Name rptacctidend: " "
Name rptacctidstart: " "
Name rptcurr1: " "
Name rptcurr10: " "
Name rptcurr2: " "
Name rptcurr3: " "
Name rptcurr4: " "
Name rptcurr5: " "
Name rptcurr6: " "
Name rptcurr7: " "
Name rptcurr8: " "
Name rptcurr9: " "
Name rptgroupend: 16
Name rptgroupstart: 1
Name rptorderby: 2
Name rptorderbysegid: 1
Name rptperiod: 5
Name rptprovtype: 1
Name rptsegend1: "ZZZZZ"
Name rptsegend10: " "
Name rptsegend2: "ZZ"
Name rptsegend3: "ZZZ"
Name rptsegend4: " "
Name rptsegend5: " "
Name rptsegend6: " "
Name rptsegend7: " "
Name rptsegend8: " "
Name rptsegend9: " "
Name rptsegoption1: 1
Name rptsegoption10: 0
Name rptsegoption2: 1
Name rptsegoption3: 1
Name rptsegoption4: 0
Name rptsegoption5: 0
Name rptsegoption6: 0
Name rptsegoption7: 0
Name rptsegoption8: 0
Name rptsegoption9: 0
Name rptsegstart1: " "
Name rptsegstart10: " "
Name rptsegstart2: " "
Name rptsegstart3: " "
Name rptsegstart4: " "
Name rptsegstart5: " "
Name rptsegstart6: " "
Name rptsegstart7: " "
Name rptsegstart8: " "
Name rptsegstart9: " "
Name rptyear: 2009
Name Spec: BS!#REF!

Sheet BS
E3: Wisconsin Waterfowl Association
E4: Balance Sheet
I6: 5 | J6: 2009 | K6: 39934 | L6: 39934
I8: 45382
F9: Assets | I9: Actual | J9: Budget | K9: Prior Month | L9: Prior Year | M9: Prior YE
G10: Current Assets
G11: Cash
H12: Chapters | I12: 47606.82 | J12: 18000 | K12: 38169.46 | L12: 17149.9 | M12: 10012.65
H13: State restricted | I13: 100000 | J13: 100000 | K13: 100000 | L13: 100000 | M13: 100000
H14: Raffle restricted | I14: 8006.68 | J14: 8900 | K14: 8201.18 | L14: 8937.86 | M14: 13681.66
H15: Abrams restricted | I15: 4437.77 | J15: 4438 | K15: 4437.77 | L15: 4438 | M15: 4438
H16: AWA restricted | I16: 1720.5 | J16: 1721 | K16: 1721 | L16: 1721 | M16: 1721
H17: EXPO restricted | I17: 39334.53 | J17: 47422 | K17: 39290.55 | L17: 33817.98 | M17: 43426.4
H18: Chapter Loan restricted | I18: 6103.87 | J18: 6104 | K18: 6103.87 | L18: 8000 | M18: 6103.87
H19: PLE restricted | I19: 24000 | J19: 24000 | K19: 25500 | M19: 28500
H20: State Unrestricted | I20: 217557.26 | J20: 208696 | K20: 196473.25 | L20: 255482.24 | M20: 169527.44
H21: Total Cash | I21: =SUM(I12:I20) -> 448767.43 | J21: 419281 | K21: =SUM(K12:K20) -> 419897.08 | L21: =SUM(L12:L20) -> 429546.98 | M21: =SUM(M12:M20) -> 377411.02
G22: Accounts Receivable - Trade | I22: 3351.45 | J22: 0 | K22: 3494.2 | L22: 1663 | M22: 0
G23: Accounts Receivable - Grants | I23: 85525.16 | J23: 56857 | K23: 82302.73 | L23: 35297.79 | M23: 73929.91
G24: Inventory | I24: 24431.88 | J24: 25169 | K24: 24458.33 | L24: 40505.91 | M24: 25169
G25: Prepaid Expenses | I25: 6638.74 | J25: 16200 | K25: 7108.62 | L25: 13700.04 | M25: 6566.62
G26: Other Current Assets | I26: 5520.47 | J26: 0 | K26: 3326.74 | M26: 29381.63
G27: Total Current Assets | I27: =SUM(I21:I26) -> 574235.13 | J27: =SUM(J21:J26) -> 517507 | K27: =SUM(K21:K26) -> 540587.7 | L27: =SUM(L21:L26) -> 520713.72 | M27: =SUM(M21:M26) -> 512458.18
G29: Fixed Assets
G30: Gross Fixed Assets | I30: 151382.21 | J30: 148607 | K30: 148607.04 | L30: 147759.45 | M30: 148607.04
G31: Accum. Depreciation | I31: -15236.2 | J31: -15236 | K31: -15236.2 | L31: -15236.2 | M31: -15236.2
G32: Net Fixed Assets | I32: =SUM(I30:I31) -> 136146.01 | J32: =SUM(J30:J31) -> 133371 | K32: =SUM(K30:K31) -> 133370.84 | L32: =SUM(L30:L31) -> 132523.25 | M32: =SUM(M30:M31) -> 133370.84
G34: Other Assets | I34: 64257.55 | J34: 54000 | K34: 62714.31 | L34: 46509.24 | M34: 55914.32
G35: Total Assets | I35: =I27+I32+I34 -> 774638.69 | J35: =J27+J32+J34 -> 704878 | K35: =K27+K32+K34 -> 736672.85 | L35: =L27+L32+L34 -> 699746.21 | M35: =M27+M32+M34 -> 701743.34
F37: Liabilities & Equity
G38: Current Liabilities
G39: Accounts Payable | I39: 7902.19 | J39: 35271 | K39: 7354 | L39: 4459.89 | M39: 5898.54
G40: Accued Liabilities | I40: 8006.68 | J40: 8900 | K40: 8201.18 | L40: 8937.86 | M40: 13681.66
G41: Deferred Chapter Bank Accounts | I41: 47606.82 | J41: 18000 | K41: 38169.46 | L41: 17149.9 | M41: 10012.65
G42: Deferred Chapter Credit Cards | I42: 60508.07 | J42: 42000 | K42: 57269.22 | L42: 40055 | M42: -984.94
G43: Other Liabilities/LT Notes Payable | I43: 5647.34 | J43: 4000 | K43: 7029.79 | L43: 4830.6 | M43: 4464
G44: Total Liabilities | I44: =SUM(I39:I43) -> 129671.1 | J44: =SUM(J39:J43) -> 108171 | K44: =SUM(K39:K43) -> 118023.65 | L44: =SUM(L39:L43) -> 75433.25 | M44: =SUM(M39:M43) -> 33071.91
G45: Equity
G46: Net Equity at Beginning of Year | I46: 668671.6 | J46: 668672 | K46: 668671.6 | L46: 646755.95 | M46: 646155.95
G47: Current Year P&L | I47: -23704.63 | J47: -71964 | K47: -50022.23 | L47: -22441.73 | M47: 22515.65
...

Sheet CF
A3: Wisconsin Waterfowl Association
A4: Cash Flow
A5: 45351
H6: Actual | K6: Budget
H7: Month | I7: YTD | K7: Month | L7: YTD
A8: Operating Activities
A9: Net Income | H9: =BS!I48-BS!K48 -> 26317.6 | I9: =BS!I47+(BS!I46-BS!M48) -> -23704.63 | K9: -17854 | L9: -54110
A10: Items to Reconcile to Cash Basis:
A11: Depreciation/Amortization | H11: =BS!K31-BS!I31 -> 0 | I11: =BS!M31-BS!I31 -> 0 | K11: 0 | L11: 0
A13: Changes in Components of Working Capital
A14: Accounts Receivable | H14: =(BS!K22+BS!K23)-(BS!I22+BS!I23) -> -3079.68 | I14: =(BS!M22+BS!M23)-(BS!I22+BS!I23) -> -14946.7 | K14: 2900 | L14: 14173
A15: Inventory | H15: =BS!K24-BS!I24 -> 26.45 | I15: =BS!M24-BS!I24 -> 737.12 | K15: 2000 | L15: -2000
A16: Prepaid Expenses | H16: =BS!K25-BS!I25 -> 469.88 | I16: =BS!M25-BS!I25 -> -72.12 | K16: -1600 | L16: -8033
A17: Other Current Assets | H17: =BS!K26-BS!I26 -> -2193.73 | I17: =BS!M26-BS!I26 -> 23861.16 | K17: 0 | L17: 29382
A18: Other Assets | H18: =SUM(BS!K34-BS!I34) -> -1543.24 | I18: =SUM(BS!M34-BS!I34) -> -8343.23 | K18: 0 | L18: 1914
A19: Accounts Payable | H19: =BS!I39-BS!K39 -> 548.19 | I19: =BS!I39-BS!M39 -> 2003.65 | K19: 2215 | L19: 27157
A20: Deferred Income | H20: =(BS!I41+ BS!I42)-(BS!K41+BS!K42) -> 12676.21 | I20: =(BS!I41+BS!I42)-(BS!M41+BS!M42) -> 99087.18 | K20: 0 | L20: 50972
A21: Accruals | H21: =BS!I40-BS!K40 -> -194.5 | I21: =BS!I40-BS!M40 -> -5674.98 | K21: -2100 | L21: -2682
A22: Other Liabilities | H22: =BS!I43-BS!K43 -> -1382.45 | I22: =BS!I43-BS!M43 -> 1183.34 | K22: 0 | L22: -464
A23: Total Increase/(Decrease) due to Operating Activities | H23: =SUM(H9:H22) -> 31644.73 | I23: =SUM(I9:I22) -> 74130.79 | K23: -14439 | L23: 56309
A25: Investing Activities
A26: Capital Expenditures | H26: =BS!K30-BS!I30 -> -2775.17 | I26: =BS!M30-BS!I30 -> -2775.17 | K26: 0 | L26: 0
A28: Financing Activities
A29: Loans | H29: 0 | I29: 0 | K29: 0 | L29: 0
A31: Total Increase/(decrease) in Cash | H31: =H23+H26+H29 -> 28869.56 | I31: =I23+I26+I29 -> 71355.62 | K31: -14439 | L31: 56309
A33: Beginning Cash Balance | H33: =BS!K21 -> 419897.08 | I33: =BS!$M$21 -> 377411.02 | K33: 433720 | L33: 383891
A35: Ending Cash Balance | H35: =H31+H33 -> 448766.64 | I35: =I31+I33 -> 448766.64 | K35: 419281 | L35: =L31+L33 -> 440200
A37: (check) | H37: =H35-BS!I21 -> -0.79 | I37: =I35-BS!I21 -> -0.79
