Workbook
Name PRINT_AREA_MI: [1]CAP!#REF!
Name PRINT_TITLES_MI: [1]CAP!#REF!
Name PrintArea: BS!$E$3:$M$50
Name Report: BS!$A$3:$M$50
Name rptacctidend: " "
Name rptacctidstart: " "
Name rptcurr1: " "
Name rptcurr10: " "
Name rptcurr2: " "
Name rptcurr3: " "
Name rptcurr4: " "
Name rptcurr5: " "
Name rptcurr6: " "
Name rptcurr7: " "
Name rptcurr8: " "
Name rptcurr9: " "
Name rptgroupend: 16
Name rptgroupstart: 1
Name rptorderby: 2
Name rptorderbysegid: 1
Name rptperiod: 5
Name rptprovtype: 1
Name rptsegend1: "ZZZZZ"
Name rptsegend10: " "
Name rptsegend2: "ZZ"
Name rptsegend3: "ZZZ"
Name rptsegend4: " "
Name rptsegend5: " "
Name rptsegend6: " "
Name rptsegend7: " "
Name rptsegend8: " "
Name rptsegend9: " "
Name rptsegoption1: 1
Name rptsegoption10: 0
Name rptsegoption2: 1
Name rptsegoption3: 1
Name rptsegoption4: 0
Name rptsegoption5: 0
Name rptsegoption6: 0
Name rptsegoption7: 0
Name rptsegoption8: 0
Name rptsegoption9: 0
Name rptsegstart1: " "
Name rptsegstart10: " "
Name rptsegstart2: " "
Name rptsegstart3: " "
Name rptsegstart4: " "
Name rptsegstart5: " "
Name rptsegstart6: " "
Name rptsegstart7: " "
Name rptsegstart8: " "
Name rptsegstart9: " "
Name rptyear: 2009
Name Spec: BS!#REF!

Sheet Income Statement
A1: Wisconsin Waterfowl Association
A2: Income Statement
A3: 2025 Budget - Draft 2
A6: 2025 Budget | P6: 2024 Actuals
B7: January | C7: February | D7: March | E7: April | F7: May | G7: June | H7: July | I7: August | J7: September | K7: October | L7: November | M7: December | N7: Total | P7: 12.31.24
A8: Gross Sales
A9: Chapter event revenue | B9: 0 | C9: 1750 | D9: 5000 | E9: 158000 | F9: 52500 | G9: 34500 | H9: 15750 | I9: 49250 | J9: 56750 | K9: 17500 | L9: 19250 | M9: 48750 | N9: =SUM(B9:M9) -> 459000 | P9: 425172
A10: State event revenue | B10: 1400 | C10: 1400 | D10: 1400 | E10: 1400 | F10: 1400 | G10: 1400 | H10: 2150 | I10: 8800 | J10: 5700 | K10: 22400 | L10: 16400 | M10: 45500 | N10: =SUM(B10:M10) -> 109350 | P10: 147966
A11: Membership revenue | B11: 1200 | C11: 950 | D11: 2000 | E11: 2000 | F11: 1100 | G11: 750 | H11: 1300 | I11: 4500 | J11: 835 | K11: 1100 | L11: 900 | M11: 900 | N11: =SUM(B11:M11) -> 17535 | P11: 32436
A12: Sponsor revenue | B12: 0 | C12: 0 | D12: 0 | E12: 0 | F12: 0 | G12: 0 | H12: 0 | I12: 0 | J12: 0 | K12: 0 | L12: 0 | M12: 0 | N12: =SUM(B12:M12) -> 0 | P12: 0
A13: Private Lands revenue | B13: 7100 | C13: 3600 | D13: 3600 | E13: 22760 | F13: 3600 | G13: 3600 | H13: 26100 | I13: 3600 | J13: 3600 | K13: 26100 | L13: 3600 | M13: 3600 | N13: =SUM(B13:M13) -> 110860 | P13: 60475
A14: Public Lands revenue | B14: 5250 | C14: 89840 | D14: 94055 | E14: 90870 | F14: 6920 | G14: 5600 | H14: 5425 | I14: 8125 | J14: 5380 | K14: 8000 | L14: 94010 | M14: 93640 | N14: =SUM(B14:M14) -> 507115 | P14: 77197
A15: Other Program Grant revenue | B15: 0 | C15: 0 | D15: 0 | E15: 0 | F15: 0 | G15: 0 | H15: 0 | I15: 0 | J15: 0 | K15: 0 | L15: 0 | M15: 13000 | N15: =SUM(B15:M15) -> 13000 | P15: 17690
A16: USFWS revenue | B16: 2300 | C16: 8000 | D16: 3000 | E16: 6000 | F16: 30000 | G16: 9000 | H16: 5000 | I16: 9000 | J16: 37000 | K16: 6500 | L16: 9500 | M16: 7000 | N16: =SUM(B16:M16) -> 132300 | P16: 139322
A17: EXPO revenue | B17: 2000 | C17: 7500 | D17: 20675 | E17: 29500 | F17: 22500 | G17: 13500 | H17: 12000 | I17: 35000 | J17: 7000 | K17: 2000 | L17: 0 | M17: 0 | N17: =SUM(B17:M17) -> 151675 | P17: 121792
A18: Other | B18: 1000 | C18: 1000 | D18: 1250 | E18: 1250 | F18: 1000 | G18: 1000 | H18: 1000 | I18: 1000 | J18: 1000 | K18: 1000 | L18: 2250 | M18: 2750 | N18: =SUM(B18:M18) -> 15500 | P18: 35771
A20: Net Sales | B20: =SUM(B9:B19) -> 20250 | C20: =SUM(C9:C19) -> 114040 | D20: =SUM(D9:D19) -> 130980 | E20: =SUM(E9:E19) -> 311780 | F20: =SUM(F9:F19) -> 119020 | G20: =SUM(G9:G19) -> 69350 | H20: =SUM(H9:H19) -> 68725 | I20: =SUM(I9:I19) -> 119275 | ... N20: =SUM(N9:N19) -> 1516335 | P20: 1057821
A22: Standard Cost of Sales
A23: COS-Chapter event revenue | B23: 0 | C23: 1020 | D23: 3000 | E23: 94800 | F23: 31500 | G23: 20700 | H23: 9450 | I23: 29550 | J23: 34050 | K23: 10500 | L23: 11550 | M23: 29250 | N23: =SUM(B23:M23) -> 275370 | P23: 219075
A24: COS-State event revenue | B24: 0 | C24: 0 | D24: 0 | E24: 0 | F24: 0 | G24: 0 | H24: 550 | I24: 5000 | J24: 2800 | K24: 14400 | L24: 9800 | M24: 25000 | N24: =SUM(B24:M24) -> 57550 | P24: 90525
A25: COS-Other | B25: 0 | C25: 0 | D25: 0 | E25: 0 | F25: 0 | G25: 0 | H25: 0 | I25: 0 | J25: 0 | K25: 0 | L25: 0 | M25: 0 | N25: =SUM(B25:M25) -> 0 | P25: 0
A29: Total Standard Cost of Sales | B29: =SUM(B23:B28) -> 0 | C29: =SUM(C23:C28) -> 1020 | D29: =SUM(D23:D28) -> 3000 | E29: =SUM(E23:E28) -> 94800 | F29: =SUM(F23:F28) -> 31500 | G29: =SUM(G23:G28) -> 20700 | H29: =SUM(H23:H28) -> 10000 | I29: =SUM(I23:I28) -> 34550 | ... N29: =SUM(N23:N28) -> 332920 | P29: 309600
A31: Gross Profit | B31: =B20-B29 -> 20250 | C31: =C20-C29 -> 113020 | D31: =D20-D29 -> 127980 | E31: =E20-E29 -> 216980 | F31: =F20-F29 -> 87520 | G31: =G20-G29 -> 48650 | H31: =H20-H29 -> 58725 | I31: =I20-I29 -> 84725 | ... N31: =N20-N29 -> 1183415 | P31: =P20-P29 -> 748221
A33: Operating Expenses
A34: Development:
A35: Wages | B35: 5000 | C35: 6200 | D35: 5000 | E35: 5000 | F35: 5000 | G35: 5000 | H35: 5000 | I35: 5000 | J35: 5000 | K35: 5000 | L35: 5000 | M35: 5000 | N35: =SUM(B35:M35) -> 61200 | P35: 53983
A36: Benefits | B36: 0 | C36: 0 | D36: 0 | E36: 0 | F36: 0 | G36: 0 | H36: 0 | I36: 0 | J36: 0 | K36: 0 | L36: 0 | M36: 0 | N36: =SUM(B36:M36) -> 0 | P36: 0
A37: Travel | B37: 260 | C37: 260 | D37: 260 | E37: 260 | F37: 260 | G37: 260 | H37: 260 | I37: 260 | J37: 260 | K37: 260 | L37: 260 | M37: 260 | N37: =SUM(B37:M37) -> 3120 | P37: 3472
A38: Phone | B38: 130 | C38: 130 | D38: 130 | E38: 130 | F38: 130 | G38: 130 | H38: 130 | I38: 130 | J38: 130 | K38: 130 | L38: 130 | M38: 130 | N38: =SUM(B38:M38) -> 1560 | P38: 1553
A39: Event expenses | B39: 3700 | C39: 700 | D39: 700 | E39: 700 | F39: 700 | G39: 700 | H39: 700 | I39: 700 | J39: 700 | K39: 700 | L39: 700 | M39: 700 | N39: =SUM(B39:M39) -> 11400 | P39: 14406
A40: Postage & shipping | B40: 25 | C40: 25 | D40: 25 | E40: 25 | F40: 25 | G40: 25 | H40: 25 | I40: 25 | J40: 25 | K40: 25 | L40: 25 | M40: 25 | N40: =SUM(B40:M40) -> 300 | P40: 253
A41: Shows & meetings | B41: 0 | C41: 0 | D41: 0 | E41: 0 | F41: 0 | G41: 0 | H41: 0 | I41: 0 | J41: 0 | K41: 0 | L41: 0 | M41: 0 | N41: =SUM(B41:M41) -> 0 | P41: 0
A42: Marketing | B42: 0 | C42: 0 | D42: 0 | E42: 0 | F42: 0 | G42: 0 | H42: 0 | I42: 0 | J42: 0 | K42: 0 | L42: 0 | M42: 0 | N42: =SUM(B42:M42) -> 0 | P42: 0
A43: Magazine | B43: 0 | C43: 0 | D43: 0 | E43: 0 | F43: 0 | G43: 0 | H43: 0 | I43: 0 | J43: 0 | K43: 0 | L43: 0 | M43: 0 | N43: =SUM(B43:M43) -> 0 | P43: 0
A44: Advertising | B44: 0 | C44: 0 | D44: 0 | E44: 0 | F44: 0 | G44: 0 | H44: 0 | I44: 0 | J44: 0 | K44: 0 | L44: 0 | M44: 0 | N44: =SUM(B44:M44) -> 0 | P44: 366
A45: Rent | B45: 426 | C45: 391 | D45: 391 | E45: 426 | F45: 391 | G45: 391 | H45: 426 | I45: 391 | J45: 391 | K45: 426 | L45: 391 | M45: 391 | N45: =SUM(B45:M45) -> 4832 | P45: 4662
A46: Other | B46: 0 | C46: 500 | D46: 0 | E46: 0 | F46: 0 | G46: 0 | H46: 0 | I46: 0 | J46: 0 | K46: 0 | L46: 0 | M46: 250 | N46: =SUM(B46:M46) -> 750 | P46: 255
A47: Total | B47: =SUM(B35:B46) -> 9541 | C47: =SUM(C35:C46) -> 8206 | D47: =SUM(D35:D46) -> 6506 | E47: =SUM(E35:E46) -> 6541 | F47: =SUM(F35:F46) -> 6506 | G47: =SUM(G35:G46) -> 6506 | H47: =SUM(H35:H46) -> 6541 | I47: =SUM(I35:I46) -> 6506 | ... N47: =SUM(N35:N46) -> 83162 | P47: =SUM(P35:P46) -> 78950
A49: Program Services:
A50: Wages | B50: 8600 | C50: 16000 | D50: 8600 | E50: 8600 | F50: 8600 | G50: 8600 | H50: 8600 | I50: 8600 | J50: 8600 | K50: 8600 | L50: 8600 | M50: 8600 | N50: =SUM(B50:M50) -> 110600 | P50: 96458
...

Sheet BS
E3: Wisconsin Waterfowl Association
E4: Balance Sheet
J6: 5 | K6: 2009 | L6: 39934 | M6: 39934
F9: Assets | J9: 12.31.24 | K9: January | L9: February | M9: March | N9: April | O9: May | P9: June | Q9: July | R9: August | S9: September | T9: October | U9: November | V9: December
G10: Current Assets
G11: Cash
H12: Chapters | J12: 16584 | K12: 6000 | L12: 30000 | M12: 18000 | N12: 15000 | O12: 12000 | P12: 7000 | Q12: 7000 | R12: 36000 | S12: 27000 | T12: 12500 | U12: 6900 | V12: 6000
H13: Money Market | J13: 100000 | K13: 110200 | L13: 110700 | M13: 111200 | N13: 111700 | O13: 112200 | P13: 112700 | Q13: 113200 | R13: 113700 | S13: 114200 | T13: 114700 | U13: 115200 | V13: 115700
H14: Raffle restricted | J14: 40343 | K14: 8000 | L14: 7500 | M14: 7400 | N14: 6500 | O14: 5200 | P14: 4800 | Q14: 5000 | R14: 8850 | S14: 10000 | T14: 21000 | U14: 28000 | V14: 40000
H15: Abrams restricted | J15: 4438 | K15: 4438 | L15: 4438 | M15: 4438 | N15: 4438 | O15: 4438 | P15: 4438 | Q15: 4438 | R15: 4438 | S15: 4438 | T15: 4438 | U15: 4438 | V15: 4438
H16: AWA restricted | J16: 1721 | K16: 1721 | L16: 1721 | M16: 1721 | N16: 1721 | O16: 1721 | P16: 1721 | Q16: 1721 | R16: 1721 | S16: 1721 | T16: 1721 | U16: 1721 | V16: 1721
H17: EXPO restricted | J17: 45327 | K17: 46000 | L17: 44900 | M17: 51475 | N17: 64375 | O17: 73525 | P17: 71175 | Q17: 61675 | R17: 72175 | S17: 69175 | T17: 66875 | U17: 64175 | V17: 61475
H18: Chapter Loan restricted | J18: 6104 | K18: 6104 | L18: 6104 | M18: 6104 | N18: 6104 | O18: 6104 | P18: 6104 | Q18: 6104 | R18: 6104 | S18: 6104 | T18: 6104 | U18: 6104 | V18: 6104
H19: PLE restricted | J19: 10500 | K19: 9000 | L19: 7500 | M19: 6000 | N19: 4500 | O19: 3000 | P19: 1500 | Q19: 0 | R19: 0 | S19: 0 | T19: 0 | U19: 0 | V19: 0
H20: State Unrestricted | J20: 245576 | K20: =SUM(K21-K12-K13-K14-K15-K16-K17-K18-K19) -> 281259.44 | L20: =SUM(L21-L12-L13-L14-L15-L16-L17-L18-L19) -> 385270.04 | M20: =SUM(M21-M12-M13-M14-M15-M16-M17-M18-M19) -> 362498.54 | N20: =SUM(N21-N12-N13-N14-N15-N16-N17-N18-N19) -> 414232.54 | O20: =SUM(O21-O12-O13-O14-O15-O16-O17-O18-O19) -> 309548.54 | P20: =SUM(P21-P12-P13-P14-P15-P16-P17-P18-P19) -> 247387.54 | Q20: =SUM(Q21-Q12-Q13-Q14-Q15-Q16-Q17-Q18-Q19) -> 282681.54 | R20: =SUM(R21-R12-R13-R14-R15-R16-R17-R18-R19) -> 270382.54 | ... V20: =SUM(V21-V12-V13-V14-V15-V16-V17-V18-V19) -> 332839.54
H21: Total Cash | J21: =SUM(J12:J20) -> 470593 | K21: =CF!G33 -> 472722.44 | L21: =CF!H33 -> 598133.04 | M21: =CF!I33 -> 568836.54 | N21: =CF!J33 -> 628570.54 | O21: =CF!K33 -> 527736.54 | P21: =CF!L33 -> 456825.54 | Q21: =CF!M33 -> 481819.54 | R21: =CF!N33 -> 513370.54 | ... V21: =CF!R33 -> 568277.54
G22: Accounts Receivable - Trade | J22: 0 | K22: =SUM('BS wrksht'!C17) -> 0 | L22: =SUM('BS wrksht'!D17) -> 1000 | M22: =SUM('BS wrksht'!E17) -> -1000 | N22: =SUM('BS wrksht'!F17) -> 2000 | O22: =SUM('BS wrksht'!G17) -> 0 | P22: =SUM('BS wrksht'!H17) -> 1000 | Q22: =SUM('BS wrksht'!I17) -> 0 | R22: =SUM('BS wrksht'!J17) -> 4000 | ... V22: =SUM('BS wrksht'!N17) -> 0
G23: Accounts Receivable - Grants | J23: 58840 | K23: =SUM('BS wrksht'!C12) -> 46152.56 | L23: =SUM('BS wrksht'!D12) -> 35382.96 | M23: =SUM('BS wrksht'!E12) -> 34363.46 | N23: =SUM('BS wrksht'!F12) -> 17018.46 | O23: =SUM('BS wrksht'!G12) -> 20738.46 | P23: =SUM('BS wrksht'!H12) -> 42918.46 | Q23: =SUM('BS wrksht'!I12) -> 22243.46 | R23: =SUM('BS wrksht'!J12) -> 26943.46 | ... V23: =SUM('BS wrksht'!N12) -> 42894.46
G24: Inventory | J24: 37143 | K24: =SUM('BS wrksht'!C23) -> 26169 | L24: =SUM('BS wrksht'!D23) -> 27169 | M24: =SUM('BS wrksht'!E23) -> 25169 | N24: =SUM('BS wrksht'!F23) -> 28169 | O24: =SUM('BS wrksht'!G23) -> 26169 | P24: =SUM('BS wrksht'!H23) -> 27169 | Q24: =SUM('BS wrksht'!I23) -> 26169 | R24: =SUM('BS wrksht'!J23) -> 30169 | ... V24: =SUM('BS wrksht'!N23) -> 25169
G25: Prepaid Expenses | J25: 1996 | K25: 4000 | L25: 7000 | M25: 8000 | N25: 9000 | O25: 8400 | P25: 13000 | Q25: 12400 | R25: 11400 | S25: 9000 | T25: 5000 | U25: 3000 | V25: 2000
G26: Other Current Assets | J26: 34857 | K26: 0 | L26: 0 | M26: 0 | N26: 0 | O26: 0 | P26: 0 | Q26: 0 | R26: 0 | S26: 0 | T26: 0 | U26: 0 | V26: 0
G27: Total Current Assets | J27: =SUM(J21:J26) -> 603429 | K27: =SUM(K21:K26) -> 549044 | L27: =SUM(L21:L26) -> 668685 | M27: =SUM(M21:M26) -> 635369 | N27: =SUM(N21:N26) -> 684758 | O27: =SUM(O21:O26) -> 583044 | P27: =SUM(P21:P26) -> 540913 | Q27: =SUM(Q21:Q26) -> 542632 | ... V27: =SUM(V21:V26) -> 638341
G29: Fixed Assets
G30: Gross Fixed Assets | J30: 153901 | K30: 153901 | L30: 153901 | M30: 153901 | N30: 153901 | O30: 153901 | P30: 153901 | Q30: 153901 | R30: 153901 | S30: 153901 | T30: 153901 | U30: 153901 | V30: 153901
G31: Accum. Depreciation | J31: -15458 | K31: -15458 | L31: -15458 | M31: -15458 | N31: -15458 | O31: -15458 | P31: -15458 | Q31: -15458 | R31: -15458 | S31: -15458 | T31: -15458 | U31: -15458 | V31: -15458
G32: Net Fixed Assets | J32: =SUM(J30:J31) -> 138443 | K32: =SUM(K30:K31) -> 138443 | L32: =SUM(L30:L31) -> 138443 | M32: =SUM(M30:M31) -> 138443 | N32: =SUM(N30:N31) -> 138443 | O32: =SUM(O30:O31) -> 138443 | P32: =SUM(P30:P31) -> 138443 | Q32: =SUM(Q30:Q31) -> 138443 | ... V32: =SUM(V30:V31) -> 138443
G34: Other Assets - Rent deposit | J34: 280 | K34: 280 | L34: 280 | M34: 280 | N34: 280 | O34: 280 | P34: 280 | Q34: 280 | R34: 280 | S34: 280 | T34: 280 | U34: 280 | V34: 280
G35: Other Assets - Endowment Fund | J35: 68236 | K35: 69000 | L35: 69750 | M35: 70500 | N35: 71250 | O35: 72000 | P35: 72750 | Q35: 73500 | R35: 74250 | S35: 75000 | T35: 75750 | U35: 76500 | V35: 77250
G36: Total Assets | J36: =J27+J32+J34+J35 -> 810388 | K36: =K27+K32+K34+K35 -> 756767 | L36: =L27+L32+L34+L35 -> 877158 | M36: =M27+M32+M34+M35 -> 844592 | N36: =N27+N32+N34+N35 -> 894731 | O36: =O27+O32+O34+O35 -> 793767 | P36: =P27+P32+P34+P35 -> 752386 | Q36: =Q27+Q32+Q34+Q35 -> 754855 | ... V36: =V27+V32+V34+V35 -> 854314
F38: Liabilities & Equity
G39: Current Liabilities
G40: Accounts Payable | J40: 8282 | K40: =SUM('BS wrksht'!C29) -> 24338 | L40: =SUM('BS wrksht'!D29) -> 131655 | M40: =SUM('BS wrksht'!E29) -> 121150 | N40: =SUM('BS wrksht'!F29) -> 124393 | O40: =SUM('BS wrksht'!G29) -> 58340 | P40: =SUM('BS wrksht'!H29) -> 38165 | Q40: =SUM('BS wrksht'!I29) -> 44283 | R40: =SUM('BS wrksht'!J29) -> 47030 | ... V40: =SUM('BS wrksht'!N29) -> 101645
G41: Accued Liabilities | J41: 40343 | K41: 8000 | L41: 7500 | M41: 7400 | N41: 6500 | O41: 5200 | P41: 4800 | Q41: 5000 | R41: 8850 | S41: 10000 | T41: 21000 | U41: 28000 | V41: 40000
G42: Deferred Chapter Bank Accounts | J42: 16584 | K42: 6000 | L42: 30000 | M42: 18000 | N42: 15000 | O42: 12000 | P42: 7000 | Q42: 7000 | R42: 36000 | S42: 27000 | T42: 12500 | U42: 6900 | V42: 6000
G43: Deferred Chapter Credit Cards | J43: -222 | K43: 5000 | L43: 40000 | M43: 50000 | N43: 35000 | O43: 2000 | P43: 2500 | Q43: 11000 | R43: 8500 | S43: 13000 | T43: 5100 | U43: 15300 | V43: 100
G44: Other Liabilities | J44: 5093 | K44: 4000 | L44: 4000 | M44: 4000 | N44: 4000 | O44: 4000 | P44: 4000 | Q44: 4000 | R44: 4000 | S44: 4000 | T44: 4000 | U44: 4000 | V44: 4000
G45: Total Liabilities | J45: =SUM(J40:J44) -> 70080 | K45: =SUM(K40:K44) -> 47338 | L45: =SUM(L40:L44) -> 213155 | M45: =SUM(M40:M44) -> 200550 | N45: =SUM(N40:N44) -> 184893 | O45: =SUM(O40:O44) -> 81540 | P45: =SUM(P40:P44) -> 56465 | Q45: =SUM(Q40:Q44) -> 71283 | ... V45: =SUM(V40:V44) -> 151745
G46: Equity
G47: Net Equity at Beginning of Year | J47: 668428 | K47: 740306 | L47: 740306 | M47: 740306 | N47: 740306 | O47: 740306 | P47: 740306 | Q47: 740306 | R47: 740306 | S47: 740306 | T47: 740306 | U47: 740306 | V47: 740306
G48: Current Year P&L | J48: 71878 | K48: ='Income Statement'!B77 -> -30879 | L48: =K48+'Income Statement'!C77 -> -76305 | M48: =L48+'Income Statement'!D77 -> -96266 | N48: =M48+'Income Statement'!E77 -> -30470 | O48: =N48+'Income Statement'!F77 -> -28081 | P48: =O48+'Income Statement'!G77 -> -44387 | Q48: =P48+'Income Statement'!H77 -> -56736 | R48: =Q48+'Income Statement'!I77 -> -45832 | S48: =R48+'Income Statement'!J77 -> -53393 | ... V48: =U48+'Income Statement'!M77 -> -37739
...

Sheet CF
A3: Wisconsin Waterfowl Association
A4: Cash Flow
G5: January | H5: February | I5: March | J5: April | K5: May | L5: June | M5: July | N5: August | O5: September | P5: October | Q5: November | R5: December
A6: Operating Activities
A7: Net Income | G7: =SUM('Income Statement'!B77) -> -30879 | H7: ='Income Statement'!C77 -> -45426 | I7: ='Income Statement'!D77 -> -19961 | J7: ='Income Statement'!E77 -> 65796 | K7: ='Income Statement'!F77 -> 2389 | L7: ='Income Statement'!G77 -> -16306 | M7: ='Income Statement'!H77 -> -12349 | N7: ='Income Statement'!I77 -> 10904 | O7: ='Income Statement'!J77 -> -7561 | ... R7: ='Income Statement'!M77 -> 32454 | S7: =SUM(G7:R7) -> -37739
A8: Items to Reconcile to Cash Basis:
A9: Depreciation/Amortization | G9: =BS!K31-BS!J31 -> 0 | H9: =BS!L31-BS!K31 -> 0 | I9: =BS!M31-BS!L31 -> 0 | J9: =BS!N31-BS!M31 -> 0 | K9: =BS!O31-BS!N31 -> 0 | L9: =BS!P31-BS!O31 -> 0 | M9: =BS!Q31-BS!P31 -> 0 | N9: =BS!R31-BS!Q31 -> 0 | ... R9: =BS!V31-BS!U31 -> 0 | S9: =SUM(G9:R9) -> 0
A11: Changes in Components of Working Capital
A12: Accounts Receivable | G12: =(BS!J22+BS!J23)-(BS!K22+BS!K23) -> 12687.44 | H12: =(BS!K22+BS!K23)-(BS!L22+BS!L23) -> 9769.6 | I12: =(BS!L22+BS!L23)-(BS!M22+BS!M23) -> 3019.5 | J12: =(BS!M22+BS!M23)-(BS!N22+BS!N23) -> 14345 | K12: =(BS!N22+BS!N23)-(BS!O22+BS!O23) -> -1720 | L12: =(BS!O22+BS!O23)-(BS!P22+BS!P23) -> -23180 | M12: =(BS!P22+BS!P23)-(BS!Q22+BS!Q23) -> 21675 | N12: =(BS!Q22+BS!Q23)-(BS!R22+BS!R23) -> -8700 | ... R12: =(BS!U22+BS!U23)-(BS!V22+BS!V23) -> 7594 | S12: =SUM(G12:R12) -> 15945.54
A13: Inventory | G13: =BS!J24-BS!K24 -> 10974 | H13: =BS!K24-BS!L24 -> -1000 | I13: =BS!L24-BS!M24 -> 2000 | J13: =BS!M24-BS!N24 -> -3000 | K13: =BS!N24-BS!O24 -> 2000 | L13: =BS!O24-BS!P24 -> -1000 | M13: =BS!P24-BS!Q24 -> 1000 | N13: =BS!Q24-BS!R24 -> -4000 | ... R13: =BS!U24-BS!V24 -> 3000 | S13: =SUM(G13:R13) -> 11974
A14: Prepaid Expenses | G14: =BS!J25-BS!K25 -> -2004 | H14: =BS!K25-BS!L25 -> -3000 | I14: =BS!L25-BS!M25 -> -1000 | J14: =BS!M25-BS!N25 -> -1000 | K14: =BS!N25-BS!O25 -> 600 | L14: =BS!O25-BS!P25 -> -4600 | M14: =BS!P25-BS!Q25 -> 600 | N14: =BS!Q25-BS!R25 -> 1000 | ... R14: =BS!U25-BS!V25 -> 1000 | S14: =SUM(G14:R14) -> -4
A15: Other Current Assets | G15: =BS!J26-BS!K26 -> 34857 | H15: =BS!K26-BS!L26 -> 0 | I15: =BS!L26-BS!M26 -> 0 | J15: =BS!M26-BS!N26 -> 0 | K15: =BS!N26-BS!O26 -> 0 | L15: =BS!O26-BS!P26 -> 0 | M15: =BS!P26-BS!Q26 -> 0 | N15: =BS!Q26-BS!R26 -> 0 | ... R15: =BS!U26-BS!V26 -> 0 | S15: =SUM(G15:R15) -> 34857
A16: Other Assets | G16: =BS!J35-BS!K35 -> -764 | H16: =BS!K35-BS!L35 -> -750 | I16: =BS!L35-BS!M35 -> -750 | J16: =BS!M35-BS!N35 -> -750 | K16: =BS!N35-BS!O35 -> -750 | L16: =BS!O35-BS!P35 -> -750 | M16: =BS!P35-BS!Q35 -> -750 | N16: =BS!Q35-BS!R35 -> -750 | ... R16: =BS!U35-BS!V35 -> -750 | S16: =SUM(G16:R16) -> -9014
A17: Accounts Payable | G17: =BS!K40-BS!J40 -> 16056 | H17: =BS!L40-BS!K40 -> 107317 | I17: =BS!M40-BS!L40 -> -10505 | J17: =BS!N40-BS!M40 -> 3243 | K17: =BS!O40-BS!N40 -> -66053 | L17: =BS!P40-BS!O40 -> -20175 | M17: =BS!Q40-BS!P40 -> 6118 | N17: =BS!R40-BS!Q40 -> 2747 | ... R17: =BS!V40-BS!U40 -> -16215 | S17: =SUM(G17:R17) -> 93363
A18: Deferred Income | G18: =(BS!K42-BS!J42)+(BS!K43-BS!J43) -> -5362 | H18: =(BS!L42-BS!K42)+(BS!L43-BS!K43) -> 59000 | I18: =(BS!M42-BS!L42)+(BS!M43-BS!L43) -> -2000 | J18: =(BS!N42-BS!M42)+(BS!N43-BS!M43) -> -18000 | K18: =(BS!O42-BS!N42)+(BS!O43-BS!N43) -> -36000 | L18: =(BS!P42-BS!O42)+(BS!P43-BS!O43) -> -4500 | M18: =(BS!Q42-BS!P42)+(BS!Q43-BS!P43) -> 8500 | N18: =(BS!R42-BS!Q42)+(BS!R43-BS!Q43) -> 26500 | ... R18: =(BS!V42-BS!U42)+(BS!V43-BS!U43) -> -16100 | S18: =SUM(G18:R18) -> -10262
A19: Accruals | G19: =BS!K41-BS!J41 -> -32343 | H19: =BS!L41-BS!K41 -> -500 | I19: =BS!M41-BS!L41 -> -100 | J19: =BS!N41-BS!M41 -> -900 | K19: =BS!O41-BS!N41 -> -1300 | L19: =BS!P41-BS!O41 -> -400 | M19: =BS!Q41-BS!P41 -> 200 | N19: =BS!R41-BS!Q41 -> 3850 | ... R19: =BS!V41-BS!U41 -> 12000 | S19: =SUM(G19:R19) -> -343
A20: Other Liabilities | G20: =BS!K44-BS!J44 -> -1093 | H20: =BS!L44-BS!K44 -> 0 | I20: =BS!M44-BS!L44 -> 0 | J20: =BS!N44-BS!M44 -> 0 | K20: =BS!O44-BS!N44 -> 0 | L20: =BS!P44-BS!O44 -> 0 | M20: =BS!Q44-BS!P44 -> 0 | N20: =BS!R44-BS!Q44 -> 0 | ... R20: =BS!V44-BS!U44 -> 0 | S20: =SUM(G20:R20) -> -1093
A21: Total Increase/(Decrease) due to Operating Activities | G21: =SUM(G7:G20) -> 2129.44 | H21: =SUM(H7:H20) -> 125410.6 | I21: =SUM(I7:I20) -> -29296.5 | J21: =SUM(J7:J20) -> 59734 | K21: =SUM(K7:K20) -> -100834 | L21: =SUM(L7:L20) -> -70911 | M21: =SUM(M7:M20) -> 24994 | N21: =SUM(N7:N20) -> 31551 | ... R21: =SUM(R7:R20) -> 22983 | S21: =SUM(G21:R21) -> 97684.54
A23: Investing Activities
A24: Capital Expenditures | G24: =BS!J30-BS!K30 -> 0 | H24: =BS!K30-BS!L30 -> 0 | I24: =BS!L30-BS!M30 -> 0 | J24: =BS!M30-BS!N30 -> 0 | K24: =BS!N30-BS!O30 -> 0 | L24: =BS!O30-BS!P30 -> 0 | M24: =BS!P30-BS!Q30 -> 0 | N24: =BS!Q30-BS!R30 -> 0 | ... R24: =BS!U30-BS!V30 -> 0 | S24: =SUM(G24:R24) -> 0
A26: Financing Activities
A27: Loans | G27: 0 | H27: 0 | I27: 0 | J27: 0 | K27: 0 | L27: 0 | M27: 0 | N27: 0 | O27: 0 | P27: 0 | Q27: 0 | R27: 0 | S27: =SUM(G27:R27) -> 0
A29: Total Increase/(decrease) in Cash | G29: =G21+G24+G27 -> 2129.44 | H29: =H21+H24+H27 -> 125410.6 | I29: =I21+I24+I27 -> -29296.5 | J29: =J21+J24+J27 -> 59734 | K29: =K21+K24+K27 -> -100834 | L29: =L21+L24+L27 -> -70911 | M29: =M21+M24+M27 -> 24994 | N29: =N21+N24+N27 -> 31551 | ... R29: =R21+R24+R27 -> 22983 | S29: =SUM(G29:R29) -> 97684.54
A31: Beginning Cash Balance | G31: =BS!J21 -> 470593 | H31: =BS!K21 -> 472722.44 | I31: =BS!L21 -> 598133.04 | J31: =BS!M21 -> 568836.54 | K31: =BS!N21 -> 628570.54 | L31: =BS!O21 -> 527736.54 | M31: =BS!P21 -> 456825.54 | N31: =BS!Q21 -> 481819.54 | ... R31: =BS!U21 -> 545294.54
A33: Ending Cash Balance | G33: =G29+G31 -> 472722.44 | H33: =H29+H31 -> 598133.04 | I33: =I29+I31 -> 568836.54 | J33: =J29+J31 -> 628570.54 | K33: =K29+K31 -> 527736.54 | L33: =L29+L31 -> 456825.54 | M33: =M29+M31 -> 481819.54 | N33: =N29+N31 -> 513370.54 | ... R33: =R29+R31 -> 568277.54
A35: (check) | G35: =G33-BS!K21 -> 0 | H35: =H33-BS!L21 -> 0 | I35: =I33-BS!M21 -> 0 | J35: =J33-BS!N21 -> 0 | K35: =K33-BS!O21 -> 0 | L35: =L33-BS!P21 -> 0 | M35: =M33-BS!Q21 -> 0 | N35: =N33-BS!R21 -> 0 | ... R35: =R33-BS!V21 -> 0

Sheet BS wrksht
B1: 12.30.24 | C1: January | D1: February | E1: March | F1: April | G1: May | H1: June | I1: July | J1: August | K1: September | L1: October | M1: November | N1: December
A2: AR Grants
A4: Duck Stamp 2022 | B4: 23427.5 | G4: 0 | H4: 0 | I4: 0 | J4: 0 | K4: 0 | L4: 0 | M4: 0 | N4: 0
A5: Duck Stamp 2025 | B5: 0 | C5: 0 | D5: 1000 | E5: 1000 | F5: 5000 | G5: 5000 | H5: 1000 | I5: 1000 | J5: 1000 | K5: 1000 | L5: 5000 | M5: 5000 | N5: 5000
A6: Little Yellow River | B6: 4752.4 | C6: 3000 | D6: 88670 | E6: 87670 | F6: 85670 | G6: 3000 | H6: 3000 | I6: 5000 | J6: 3000 | K6: 3000 | L6: 3000 | M6: 89340 | N6: 89340
A7: R3 Learn to Hunt | B7: 16689.6 | I7: 1000 | J7: 3000 | K7: 2000 | L7: 4000 | M7: 3000
A8: Public Lands Biologist | B8: 1699.04 | C8: 2250 | D8: 4170 | E8: 6385 | F8: 5200 | G8: 3920 | H8: 2600 | I8: 2425 | J8: 3125 | K8: 2380 | L8: 5000 | M8: 4670 | N8: 4300
A9: NRCS | B9: 3724.51 | E9: 19160 | H9: 22500 | K9: 22500 | L9: 0 | N9: 22500
A10: NAWCA | B10: 4274
A11: AR Grant Payments | C11: =SUM('Duck Stamp 2022'!C5+'Duck Stamp 2025'!C5+'R3 2025'!C5+'LYR 2024'!C5+NRCS!C5+'PLE 2024'!C5+NAWCA!C5) -> -13664.49 | D11: =SUM('Duck Stamp 2022'!D5+'Duck Stamp 2025'!D5+'R3 2025'!D5+'LYR 2024'!D5+NRCS!D5+'PLE 2024'!D5+NAWCA!D5) -> -104609.6 | E11: =SUM('Duck Stamp 2022'!E5+'Duck Stamp 2025'!E5+'R3 2025'!E5+'LYR 2024'!E5+NRCS!E5+'PLE 2024'!E5+NAWCA!E5) -> -115234.5 | F11: =SUM('Duck Stamp 2022'!F5+'Duck Stamp 2025'!F5+'R3 2025'!F5+'LYR 2024'!F5+NRCS!F5+'PLE 2024'!F5+NAWCA!F5) -> -113215 | G11: =SUM('Duck Stamp 2022'!G5+'Duck Stamp 2025'!G5+'R3 2025'!G5+'LYR 2024'!G5+NRCS!G5+'PLE 2024'!G5+NAWCA!G5) -> -8200 | H11: =SUM('Duck Stamp 2022'!H5+'Duck Stamp 2025'!H5+'R3 2025'!H5+'LYR 2024'!H5+NRCS!H5+'PLE 2024'!H5+NAWCA!H5) -> -6920 | I11: =SUM('Duck Stamp 2022'!I5+'Duck Stamp 2025'!I5+'R3 2025'!I5+'LYR 2024'!I5+NRCS!I5+'PLE 2024'!I5+NAWCA!I5) -> -30100 | J11: =SUM('Duck Stamp 2022'!J5+'Duck Stamp 2025'!J5+'R3 2025'!J5+'LYR 2024'!J5+NRCS!J5+'PLE 2024'!J5+NAWCA!J5) -> -5425 | ... N11: =SUM('Duck Stamp 2022'!N5+'Duck Stamp 2025'!N5+'R3 2025'!N5+'LYR 2024'!N5+NRCS!N5+'PLE 2024'!N5+NAWCA!N5) -> -126734
A12: Totals | B12: =SUM(B4:B11) -> 54567.05 | C12: =SUM(B12+C3+C4+C5+C6+C7+C8+C9+C10+C11) -> 46152.56 | D12: =SUM(C12+D3+D4+D5+D6+D7+D8+D9+D10+D11) -> 35382.96 | E12: =SUM(D12+E3+E4+E5+E6+E7+E8+E9+E10+E11) -> 34363.46 | F12: =SUM(E12+F3+F4+F5+F6+F7+F8+F9+F10+F11) -> 17018.46 | G12: =SUM(F12+G3+G4+G5+G6+G7+G8+G9+G10+G11) -> 20738.46 | H12: =SUM(G12+H3+H4+H5+H6+H7+H8+H9+H10+H11) -> 42918.46 | I12: =SUM(H12+I3+I4+I5+I6+I7+I8+I9+I10+I11) -> 22243.46 | J12: =SUM(I12+J3+J4+J5+J6+J7+J8+J9+J10+J11) -> 26943.46 | ... N12: =SUM(M12+N3+N4+N5+N6+N7+N8+N9+N10+N11) -> 42894.46
A14: AR Trade
A15: Banquets - $1000 ea. | D15: 2000 | E15: 0 | F15: 3000 | G15: 1000 | H15: 2000 | I15: 1000 | J15: 5000 | K15: 1000 | L15: 2000 | M15: 3000 | N15: 5000
A16: Chapter Payments | D16: -1000 | E16: -2000 | F16: 0 | G16: -3000 | H16: -1000 | I16: -2000 | J16: -1000 | K16: -5000 | L16: -1000 | M16: -2000 | N16: -7000
A17: Ending Balance | B17: 0 | C17: =SUM(B15+C15+C16) -> 0 | D17: =SUM(C17+D15+D16) -> 1000 | E17: =SUM(D17+E15+E16) -> -1000 | F17: =SUM(E17+F15+F16) -> 2000 | G17: =SUM(F17+G15+G16) -> 0 | H17: =SUM(G17+H15+H16) -> 1000 | I17: =SUM(H17+I15+I16) -> 0 | J17: =SUM(I17+J15+J16) -> 4000 | K17: =SUM(J17+K15+K16) -> 0 | ... N17: =SUM(M17+N15+N16) -> 0
A19: Inventory
B20: 25169
A21: Plus Banquets - $1000 ea. | C21: 1000 | D21: 2000 | E21: 0 | F21: 3000 | G21: 1000 | H21: 2000 | I21: 1000 | J21: 5000 | K21: 1000 | L21: 2000 | M21: 3000 | N21: 5000
A22: Minus Inventory used - $1000 ea. | D22: -1000 | E22: -2000 | F22: 0 | G22: -3000 | H22: -1000 | I22: -2000 | J22: -1000 | K22: -5000 | L22: -1000 | M22: -2000 | N22: -8000
A23: Total | C23: =SUM(B20+C21+C22) -> 26169 | D23: =SUM(C23+D21+D22) -> 27169 | E23: =SUM(D23+E21+E22) -> 25169 | F23: =SUM(E23+F21+F22) -> 28169 | G23: =SUM(F23+G21+G22) -> 26169 | H23: =SUM(G23+H21+H22) -> 27169 | I23: =SUM(H23+I21+I22) -> 26169 | J23: =SUM(I23+J21+J22) -> 30169 | K23: =SUM(J23+K21+K22) -> 26169 | ... N23: =SUM(M23+N21+N22) -> 25169
A25: AP
A26: Beginning Balance | B26: 5899 | C26: 5899 | D26: =C29 -> 24338 | E26: =D29 -> 131655 | F26: =E29 -> 121150 | G26: =F29 -> 124393 | H26: =G29 -> 58340 | I26: =H29 -> 38165 | J26: =I29 -> 44283 | K26: =J29 -> 47030 | ... N26: =M29 -> 117860
A27: Budget Exp minus Salaries | C27: =SUM('Income Statement'!B74)-17690 -> 33439 | D27: =SUM('Income Statement'!C74)-15000 -> 143446 | E27: =SUM('Income Statement'!D74)-15000 -> 132941 | F27: =SUM('Income Statement'!E74)-15000 -> 136184 | G27: =SUM('Income Statement'!F74)-15000 -> 70131 | H27: =SUM('Income Statement'!G74)-15000 -> 49956 | I27: =SUM('Income Statement'!H74)-15000 -> 56074 | J27: =SUM('Income Statement'!I74)-15000 -> 58821 | K27: =SUM('Income Statement'!J74)-15000 -> 72976 | ... N27: =SUM('Income Statement'!M74)-15000 -> 113436
A28: Payments | C28: -15000 | D28: =-(SUM('Income Statement'!B74)-15000) -> -36129 | E28: =-(SUM('Income Statement'!C74)-15000) -> -143446 | F28: =-(SUM('Income Statement'!D74)-15000) -> -132941 | G28: =-(SUM('Income Statement'!E74)-15000) -> -136184 | H28: =-(SUM('Income Statement'!F74)-15000) -> -70131 | I28: =-(SUM('Income Statement'!G74)-15000) -> -49956 | J28: =-(SUM('Income Statement'!H74)-15000) -> -56074 | K28: =-(SUM('Income Statement'!I74)-15000) -> -58821 | ... N28: =-(SUM('Income Statement'!L74)-15000) -> -129651
A29: Balance | B29: 5899 | C29: =SUM(C26:C28) -> 24338 | D29: =SUM(D26:D28) -> 131655 | E29: =SUM(E26:E28) -> 121150 | F29: =SUM(F26:F28) -> 124393 | G29: =SUM(G26:G28) -> 58340 | H29: =SUM(H26:H28) -> 38165 | I29: =SUM(I26:I28) -> 44283 | J29: =SUM(J26:J28) -> 47030 | ... N29: =SUM(N26:N28) -> 101645

Sheet P&L Monthly Totals
B1: January | C1: Feb | D1: March | E1: April | F1: May | G1: June | H1: July | I1: August | J1: Sept | K1: Oct | L1: Nov | M1: Dec | N1: Totals
A2: Gross Sales
A3: Chapter event revenue | B3: 0 | N3: =SUM(B3:M3) -> 0
A4: State event revenue | B4: 1400 | N4: =SUM(B4:M4) -> 1400
A5: Membership revenue | B5: 1200 | N5: =SUM(B5:M5) -> 1200
A6: Sponsor revenue | B6: 0 | N6: =SUM(B6:M6) -> 0
A7: Private Lands revenue | B7: 7100 | N7: =SUM(B7:M7) -> 7100
A8: Public Lands revenue | B8: 5250 | N8: =SUM(B8:M8) -> 5250
A9: Other Program Grant revenue | B9: 0 | N9: =SUM(B9:M9) -> 0
A10: USFWS revenue | B10: 2300 | N10: =SUM(B10:M10) -> 2300
A11: EXPO revenue | B11: 2000 | N11: =SUM(B11:M11) -> 2000
A12: Other | B12: 1000 | N12: =SUM(B12:M12) -> 1000
N13: =SUM(B13:M13) -> 0
A14: Net Sales | B14: =SUM(B3:B13) -> 20250 | N14: =SUM(B14:M14) -> 20250
N15: =SUM(B15:M15) -> 0
A16: Standard Cost of Sales | N16: =SUM(B16:M16) -> 0
A17: COS-Chapter event revenue | B17: 0 | N17: =SUM(B17:M17) -> 0
A18: COS-State event revenue | B18: 0 | N18: =SUM(B18:M18) -> 0
A19: COS-Other | B19: 0 | N19: =SUM(B19:M19) -> 0
N20: =SUM(B20:M20) -> 0
N21: =SUM(B21:M21) -> 0
N22: =SUM(B22:M22) -> 0
A23: Total Standard Cost of Sales | B23: =SUM(B17:B22) -> 0 | N23: =SUM(B23:M23) -> 0
N24: =SUM(B24:M24) -> 0
A25: Gross Profit | B25: =B14-B23 -> 20250 | N25: =SUM(B25:M25) -> 20250
N26: =SUM(B26:M26) -> 0
A27: Operating Expenses | N27: =SUM(B27:M27) -> 0
A28: Development: | N28: =SUM(B28:M28) -> 0
A29: Wages | B29: 5000 | N29: =SUM(B29:M29) -> 5000
A30: Benefits | B30: 0 | N30: =SUM(B30:M30) -> 0
A31: Travel | B31: 260 | N31: =SUM(B31:M31) -> 260
A32: Phone | B32: 130 | N32: =SUM(B32:M32) -> 130
A33: Event expenses | B33: 3700 | N33: =SUM(B33:M33) -> 3700
A34: Postage & shipping | B34: 25 | N34: =SUM(B34:M34) -> 25
A35: Shows & meetings | B35: 0 | N35: =SUM(B35:M35) -> 0
A36: Marketing | B36: 0 | N36: =SUM(B36:M36) -> 0
A37: Magazine | B37: 0 | N37: =SUM(B37:M37) -> 0
A38: Advertising | B38: 0 | N38: =SUM(B38:M38) -> 0
A39: Rent | B39: 426 | N39: =SUM(B39:M39) -> 426
A40: Other | B40: 0 | N40: =SUM(B40:M40) -> 0
...

Sheet Duck Stamp 2022
B1: 12.31.24 | C1: January | D1: February | E1: March | F1: April | G1: May | H1: June | I1: July | J1: August | K1: September | L1: October | M1: November | N1: December
A2: AR Grants | B2: 22394.5
A4: Duck Stamp 2022 | C4: 0 | D4: 0 | E4: 0 | F4: 0 | G4: 0 | H4: 0 | I4: 0 | J4: 0 | K4: 0 | L4: 0 | M4: 0 | N4: 0
A5: AR Grants Payments | E5: -22394.5

Sheet Duck Stamp 2025
B1: 12.31.24 | C1: January | D1: February | E1: March | F1: April | G1: May | H1: June | I1: July | J1: August | K1: September | L1: October | M1: November | N1: December
A2: AR Grants | B2: 0
A4: Duck Stamp 2023 | C4: 0 | D4: 1000 | E4: 1000 | F4: 5000 | G4: 5000 | H4: 1000 | I4: 1000 | J4: 1000 | K4: 1000 | L4: 5000 | M4: 5000 | N4: 5000
A5: AR Grants Payments | C5: 0 | D5: 0 | E5: 0 | F5: 0 | G5: 0 | H5: 0 | I5: 0 | J5: 0 | K5: 0 | L5: 0 | M5: 0 | N5: 0

Sheet R3 2025
B1: 12.31.24 | C1: January | D1: February | E1: March | F1: April | G1: May | H1: June | I1: July | J1: August | K1: September | L1: October | M1: November | N1: December
A2: AR Grants | B2: 16689.6
A4: R3 2024 | C4: 0 | D4: 0 | E4: 0 | F4: 0 | G4: 0 | H4: 0 | I4: 0 | J4: 0 | K4: 0 | L4: 0 | M4: 0 | N4: 13000 | O4: Use 2024 #s on P&L
A5: AR Grants Payments | D5: -16689.6

Sheet LYR 2024
B1: 12.31.24 | C1: January | D1: February | E1: March | F1: April | G1: May | H1: June | I1: July | J1: August | K1: September | L1: October | M1: November | N1: December
A2: AR Grants
A4: LYR | B4: 4752.4 | C4: 3000 | D4: 88670 | E4: 87670 | F4: 85670 | G4: 3000 | H4: 3000 | I4: 5000 | J4: 3000 | K4: 3000 | L4: 3000 | M4: 89340 | N4: 89340 | O4: Pfost 2024 time increased to $28.85/hr
A5: AR Grants Payments | C5: -4752.4 | D5: -85670 | E5: -88670 | F5: -87670 | G5: -3000 | H5: -3000 | I5: -5000 | J5: -3000 | K5: -3000 | L5: -3000 | M5: -89340 | N5: -89340
C6: =SUM(B4+C4+C5) -> 3000 | D6: =SUM(C6+D4+D5) -> 6000 | E6: =SUM(D6+E4+E5) -> 5000 | F6: =SUM(E6+F4+F5) -> 3000 | G6: =SUM(F6+G4+G5) -> 3000 | H6: =SUM(G6+H4+H5) -> 3000 | I6: =SUM(H6+I4+I5) -> 3000 | J6: =SUM(I6+J4+J5) -> 3000 | K6: =SUM(J6+K4+K5) -> 3000 | ... N6: =SUM(M6+N4+N5) -> 3000

Sheet NRCS
B1: 12.31.24 | C1: January | D1: February | E1: March | F1: April | G1: May | H1: June | I1: July | J1: August | K1: September | L1: October | M1: November | N1: December
A2: AR Grants
A4: NRCS | B4: 3724.51 | C4: 5830 | D4: 5830 | E4: 7500 | F4: 7500 | G4: 7500 | H4: 7500 | I4: 7500 | J4: 7500 | K4: 7500 | L4: 7500 | M4: 7500 | N4: 7500
A5: AR Grants Payments | C5: -3724.51 | D5: 0 | E5: 0 | F5: -19160 | G5: 0 | H5: 0 | I5: -22500 | J5: 0 | K5: 0 | L5: -22500 | M5: 0 | N5: -22500
C6: =SUM(B4+C4+C5) -> 5830 | D6: =SUM(C6+D4+D5) -> 11660 | E6: =SUM(D6+E4+E5) -> 19160 | F6: =SUM(E6+F4+F5) -> 7500 | G6: =SUM(F6+G4+G5) -> 15000 | H6: =SUM(G6+H4+H5) -> 22500 | I6: =SUM(H6+I4+I5) -> 7500 | J6: =SUM(I6+J4+J5) -> 15000 | K6: =SUM(J6+K4+K5) -> 22500 | ... N6: =SUM(M6+N4+N5) -> 0

Sheet PLE 2024
B1: 12.31.24 | C1: January | D1: February | E1: March | F1: April | G1: May | H1: June | I1: July | J1: August | K1: September | L1: October | M1: November | N1: December
A2: AR Grants
A4: PLE | B4: 1699.04 | C4: 2250 | D4: 4170 | E4: 6385 | F4: 5200 | G4: 3920 | H4: 2600 | I4: 2425 | J4: 3125 | K4: 2380 | L4: 5000 | M4: 4670 | N4: 4300 | O4: Use 2024 #s on P&L but remove Pfost
A5: AR Grants Payments | C5: -5187.58 | D5: -2250 | E5: -4170 | F5: -6385 | G5: -5200 | H5: -3920 | I5: -2600 | J5: -2425 | K5: -3125 | L5: -2380 | M5: -5000 | N5: -4670
C6: =SUM(B4+C4+C5) -> -1238.54 | D6: =SUM(C6+D4+D5) -> 681.46 | E6: =SUM(D6+E4+E5) -> 2896.46 | F6: =SUM(E6+F4+F5) -> 1711.46 | G6: =SUM(F6+G4+G5) -> 431.46 | H6: =SUM(G6+H4+H5) -> -888.54 | I6: =SUM(H6+I4+I5) -> -1063.54 | J6: =SUM(I6+J4+J5) -> -363.54 | K6: =SUM(J6+K4+K5) -> -1108.54 | ... N6: =SUM(M6+N4+N5) -> 811.46

Sheet NAWCA
B1: 12.31.24 | C1: January | D1: February | E1: March | F1: April | G1: May | H1: June | I1: July | J1: August | K1: September | L1: October | M1: November | N1: December
A2: AR Grants
A4: NAWCA | B4: 4724 | C4: 500 | D4: 500 | E4: 500 | F4: 500 | G4: 500 | H4: 500 | I4: 500 | J4: 500 | K4: 500 | L4: 500 | M4: 500 | N4: 0
A5: AR Grants Payments | N5: -10224
C6: =SUM(B4+C4+C5) -> 5224 | D6: =SUM(C6+D4+D5) -> 5724 | E6: =SUM(D6+E4+E5) -> 6224 | F6: =SUM(E6+F4+F5) -> 6724 | G6: =SUM(F6+G4+G5) -> 7224 | H6: =SUM(G6+H4+H5) -> 7724 | I6: =SUM(H6+I4+I5) -> 8224 | J6: =SUM(I6+J4+J5) -> 8724 | K6: =SUM(J6+K4+K5) -> 9224 | ... N6: =SUM(M6+N4+N5) -> 0

Sheet 2011 VS 2012 by Class
B1: Chapters/Development | E1: Restoration/HRP | H1: Education
B3: 2011 | C3: 2012 | E3: 2011 | F3: 2012 | H3: 2011 | I3: 2012
A4: Revenue | B4: 681264 | C4: 508315 | E4: 69164 | F4: 63500 | H4: 30500 | I4: 0
A5: Expense | B5: 819790 | C5: 547675 | E5: 96398 | F5: 93050 | H5: 20000 | I5: 20000
A6: Profit (Loss) | B6: =SUM(B4-B5) -> -138526 | C6: =SUM(C4-C5) -> -39360 | E6: =SUM(E4-E5) -> -27234 | F6: =SUM(F4-F5) -> -29550 | H6: =SUM(H4-H5) -> 10500 | I6: =SUM(I4-I5) -> -20000
