Workbook
Name PRINT_AREA_MI: [1]CAP!#REF!
Name PRINT_TITLES_MI: [1]CAP!#REF!
Name PrintArea: BS!$E$3:$L$52
Name Report: BS!$A$3:$L$52
Name rptacctidend: " "
Name rptacctidstart: " "
Name rptcurr1: " "
Name rptcurr10: " "
Name rptcurr2: " "
Name rptcurr3: " "
Name rptcurr4: " "
Name rptcurr5: " "
Name rptcurr6: " "
Name rptcurr7: " "
Name rptcurr8: " "
Name rptcurr9: " "
Name rptgroupend: 16
Name rptgroupstart: 1
Name rptorderby: 2
Name rptorderbysegid: 1
Name rptperiod: 5
Name rptprovtype: 1
Name rptsegend1: "ZZZZZ"
Name rptsegend10: " "
Name rptsegend2: "ZZ"
Name rptsegend3: "ZZZ"
Name rptsegend4: " "
Name rptsegend5: " "
Name rptsegend6: " "
Name rptsegend7: " "
Name rptsegend8: " "
Name rptsegend9: " "
Name rptsegoption1: 1
Name rptsegoption10: 0
Name rptsegoption2: 1
Name rptsegoption3: 1
Name rptsegoption4: 0
Name rptsegoption5: 0
Name rptsegoption6: 0
Name rptsegoption7: 0
Name rptsegoption8: 0
Name rptsegoption9: 0
Name rptsegstart1: " "
Name rptsegstart10: " "
Name rptsegstart2: " "
Name rptsegstart3: " "
Name rptsegstart4: " "
Name rptsegstart5: " "
Name rptsegstart6: " "
Name rptsegstart7: " "
Name rptsegstart8: " "
Name rptsegstart9: " "
Name rptyear: 2009
Name Spec: BS!#REF!

Sheet BS
E3: Wisconsin Waterfowl Association
E4: Balance Sheet
I6: 5 | J6: 2009 | K6: 39934 | L6: 39934
I8: 45991
F9: Assets | I9: Actual | J9: Budget | K9: Prior Month | L9: Prior Year | M9: Prior YE
G10: Current Assets
G11: Cash
H12: Chapters | I12: 5766.93 | J12: 6900 | K12: 16846.04 | L12: 6944.91 | M12: 16583.59
H13: Money Market | I13: 214965.27 | J13: 115200 | K13: 214311.13 | L13: 100000 | M13: 100000
H14: Raffle restricted | I14: 22337 | J14: 28000 | K14: 13134.93 | L14: 28658.54 | M14: 40343.4
H15: Abrams restricted | I15: 1510.04 | J15: 4438 | K15: 1510.04 | L15: 4438 | M15: 4437.77
H16: AWA restricted | I16: 1720.5 | J16: 1721 | K16: 1720.5 | L16: 1721 | M16: 1720.5
H17: EXPO restricted | I17: 98682.79 | J17: 64175 | K17: 100769.29 | L17: 45269.77 | M17: 45327.32
H18: Chapter Loan restricted | I18: 6103.87 | J18: 6104 | K18: 6103.87 | L18: 6103.87 | M18: 6103.87
H19: PLE restricted | I19: 0 | J19: 0 | K19: 1500 | L19: 12000 | M19: 10500
H20: State Unrestricted | I20: 211980.3 | J20: 318757 | K20: 211845 | L20: 237663 | M20: 245575.63
H21: Total Cash | I21: =SUM(I12:I20) -> 563066.7 | J21: 545295 | K21: =SUM(K12:K20) -> 567740.8 | L21: =SUM(L12:L20) -> 442799.09 | M21: =SUM(M12:M20) -> 470592.08
G22: Accounts Receivable - Trade | I22: 4459 | J22: 2000 | K22: 4459 | L22: 0 | M22: 0
G23: Accounts Receivable - Grants | I23: 66304.4 | J23: 48488 | K23: 100061.78 | L23: 36872.14 | M23: 58840.12
G24: Inventory | I24: 45286.67 | J24: 28169 | K24: 44627.99 | L24: 36982.96 | M24: 37143.13
G25: Prepaid Expenses | I25: 5024.11 | J25: 3000 | K25: 7430.11 | L25: 3757.51 | M25: 1995.74
G26: Other Current Assets | I26: 3146.5 | J26: 0 | K26: 3030 | L26: 9231.6 | M26: 34856.67
G27: Total Current Assets | I27: =SUM(I21:I26) -> 687287.38 | J27: =SUM(J21:J26) -> 626952 | K27: =SUM(K21:K26) -> 727349.68 | L27: =SUM(L21:L26) -> 529643.3 | M27: =SUM(M21:M26) -> 603427.74
G29: Fixed Assets
G30: Gross Fixed Assets | I30: 156665.85 | J30: 153901 | K30: 155452.61 | L30: 151382.21 | M30: 153901.31
G31: Accum. Depreciation | I31: -15458.2 | J31: -15458 | K31: -15458.2 | L31: -15458.2 | M31: -15458.2
G32: Net Fixed Assets | I32: =SUM(I30:I31) -> 141207.65 | J32: =SUM(J30:J31) -> 138443 | K32: =SUM(K30:K31) -> 139994.41 | L32: =SUM(L30:L31) -> 135924.01 | M32: =SUM(M30:M31) -> 138443.11
G34: Other Assets - Rent deposit | I34: 280 | J34: 280 | K34: 280 | L34: 280 | M34: 280
G35: Other Assets - Endowment Fund | I35: 78503.78 | J35: 76500 | K35: 78336.04 | L35: 68641 | M35: 68236
G36: Total Assets | I36: =I27+I32+I34+I35 -> 907278.81 | J36: =J27+J32+J34+J35 -> 842175 | K36: =K27+K32+K34+K35 -> 945960.13 | L36: =L27+L32+L34+L35 -> 734488.31 | M36: =M27+M32+M34+M35 -> 810386.85
F38: Liabilities & Equity
G39: Current Liabilities
G40: Accounts Payable | I40: 5844.47 | J40: 117860 | K40: 37480.78 | L40: 7500.86 | M40: 8281.74
G41: Accued Liabilities | I41: 22337.17 | J41: 28000 | K41: 13134.93 | L41: 28658.54 | M41: 40343.4
G42: Deferred Chapter Bank Accounts | I42: 5766.93 | J42: 6900 | K42: 16846.04 | L42: 6944.91 | M42: 16583.59
G43: Deferred Chapter Credit Cards | I43: 13940.13 | J43: 15300 | K43: 3934.95 | L43: 9408.55 | M43: -221.89
G44: Deferred Grant Revenue | I44: 100000 | K44: 100000 | L44: 0 | M44: 0
G45: Other Liabilities/LT Notes Payable | I45: 6896.32 | J45: 4000 | K45: 6825.56 | L45: 5066.02 | M45: 5093.48
G46: Total Liabilities | I46: =SUM(I40:I45) -> 154785.02 | J46: =SUM(J40:J45) -> 172060 | K46: =SUM(K40:K45) -> 178222.26 | L46: =SUM(L40:L45) -> 57578.88 | M46: =SUM(M40:M45) -> 70080.32
G47: Equity
...

Sheet CF
A3: Wisconsin Waterfowl Association
A4: Cash Flow
A5: 45991
H6: Actual | K6: Budget
H7: Month | I7: YTD | K7: Month | L7: YTD
A8: Operating Activities
A9: Net Income | H9: =BS!I50-BS!K50 -> -15244.02 | I9: =BS!I49+(BS!I48-BS!M50) -> 12187.92 | K9: -20091 | L9: -70193
A10: Items to Reconcile to Cash Basis:
A11: Depreciation/Amortization | H11: =BS!K31-BS!I31 -> 0 | I11: =BS!M31-BS!I31 -> 0 | K11: 0 | L11: 0
A13: Changes in Components of Working Capital
A14: Accounts Receivable | H14: =(BS!K22+BS!K23)-(BS!I22+BS!I23) -> 33757.38 | I14: =(BS!M22+BS!M23)-(BS!I22+BS!I23) -> -11923.28 | K14: -8670 | L14: 8352
A15: Inventory | H15: =BS!K24-BS!I24 -> -658.68 | I15: =BS!M24-BS!I24 -> -8143.54 | K15: -1000 | L15: 8974
A16: Prepaid Expenses | H16: =BS!K25-BS!I25 -> 2406 | I16: =BS!M25-BS!I25 -> -3028.37 | K16: 2000 | L16: -1004
A17: Other Current Assets | H17: =BS!K26-BS!I26 -> -116.5 | I17: =BS!M26-BS!I26 -> 31710.17 | K17: 0 | L17: 34857
A18: Other Assets | H18: =SUM(BS!K35-BS!I35) -> -167.74 | I18: =SUM(BS!M35-BS!I35) -> -10267.78 | K18: -750 | L18: -8264
A19: Accounts Payable | H19: =BS!I40-BS!K40 -> -31636.31 | I19: =BS!I40-BS!M40 -> -2437.27 | K19: 88242 | L19: 109578
A20: Deferred Income | H20: =(BS!I42+ BS!I43+BS!I44)-(BS!K42+BS!K43+BS!K44) -> -1073.93 | I20: =(BS!I42+BS!I43+BS!I44)-(BS!M42+BS!M43+BS!M44) -> 103345.36 | K20: 4600 | L20: 5838
A21: Accruals | H21: =BS!I41-BS!K41 -> 9202.24 | I21: =BS!I41-BS!M41 -> -18006.23 | K21: 7000 | L21: -12343
A22: Other Liabilities | H22: =BS!I45-BS!K45 -> 70.76 | I22: =BS!I45-BS!M45 -> 1802.84 | K22: 0 | L22: -1093
A23: Total Increase/(Decrease) due to Operating Activities | H23: =SUM(H9:H22) -> -3460.8 | I23: =SUM(I9:I22) -> 95239.82 | K23: 71331 | L23: 74702
A25: Investing Activities
A26: Capital Expenditures | H26: =BS!K30-BS!I30 -> -1213.24 | I26: =BS!M30-BS!I30 -> -2764.54 | K26: 0 | L26: 0
A28: Financing Activities
A29: Loans | H29: 0 | I29: 0 | K29: 0 | L29: 0
A31: Total Increase/(decrease) in Cash | H31: =H23+H26+H29 -> -4674.04 | I31: =I23+I26+I29 -> 92475.28 | K31: 71331 | L31: 74702
A33: Beginning Cash Balance | H33: =BS!K21 -> 567740.8 | I33: =BS!$M$21 -> 470592.08 | K33: 473964 | L33: 470593
A35: Ending Cash Balance | H35: =H31+H33 -> 563066.76 | I35: =I31+I33 -> 563067.36 | K35: 545295 | L35: =L31+L33 -> 545295
A37: (check) | H37: =H35-BS!I21 -> 0.06 | I37: =I35-BS!I21 -> 0.66
