Workbook
Name PRINT_AREA_MI: [1]CAP!#REF!
Name PRINT_TITLES_MI: [1]CAP!#REF!
Name PrintArea: BS!$E$3:$M$51
Name Report: BS!$A$3:$M$51
Name rptacctidend: " "
Name rptacctidstart: " "
Name rptcurr1: " "
Name rptcurr10: " "
Name rptcurr2: " "
Name rptcurr3: " "
Name rptcurr4: " "
Name rptcurr5: " "
Name rptcurr6: " "
Name rptcurr7: " "
Name rptcurr8: " "
Name rptcurr9: " "
Name rptgroupend: 16
Name rptgroupstart: 1
Name rptorderby: 2
Name rptorderbysegid: 1
Name rptperiod: 5
Name rptprovtype: 1
Name rptsegend1: "ZZZZZ"
Name rptsegend10: " "
Name rptsegend2: "ZZ"
Name rptsegend3: "ZZZ"
Name rptsegend4: " "
Name rptsegend5: " "
Name rptsegend6: " "
Name rptsegend7: " "
Name rptsegend8: " "
Name rptsegend9: " "
Name rptsegoption1: 1
Name rptsegoption10: 0
Name rptsegoption2: 1
Name rptsegoption3: 1
Name rptsegoption4: 0
Name rptsegoption5: 0
Name rptsegoption6: 0
Name rptsegoption7: 0
Name rptsegoption8: 0
Name rptsegoption9: 0
Name rptsegstart1: " "
Name rptsegstart10: " "
Name rptsegstart2: " "
Name rptsegstart3: " "
Name rptsegstart4: " "
Name rptsegstart5: " "
Name rptsegstart6: " "
Name rptsegstart7: " "
Name rptsegstart8: " "
Name rptsegstart9: " "
Name rptyear: 2009
Name Spec: BS!#REF!

Sheet Income Statement
A1: Wisconsin Waterfowl Association
A2: Income Statement
A3: 2026 Budget
A6: 2026 Budget | P6: 2025 Actuals
B7: January | C7: February | D7: March | E7: April | F7: May | G7: June | H7: July | I7: August | J7: September | K7: October | L7: November | M7: December | N7: Total | P7: 12.31.25
A8: Gross Sales
A9: Chapter event revenue | B9: 0 | C9: 3750 | D9: 0 | E9: 169750 | F9: 50000 | G9: 18750 | H9: 5000 | I9: 46250 | J9: 53750 | K9: 45250 | L9: 46250 | M9: 38750 | N9: =SUM(B9:M9) -> 477500 | P9: 470178
A10: State event revenue | H10: 750 | I10: 7400 | J10: 4300 | K10: 21000 | L10: 15000 | M10: 44100 | N10: =SUM(B10:M10) -> 92550 | P10: 145441
A11: Membership revenue | B11: 1200 | C11: 825 | D11: 1150 | E11: 700 | F11: 1425 | G11: 2000 | H11: 1750 | I11: 1750 | J11: 1625 | K11: 1100 | L11: 1200 | M11: 1200 | N11: =SUM(B11:M11) -> 15925 | P11: 22830
A12: Sponsor revenue | B12: 0 | C12: 0 | D12: 0 | E12: 0 | F12: 0 | G12: 0 | H12: 0 | I12: 0 | J12: 0 | K12: 0 | L12: 0 | M12: 0 | N12: =SUM(B12:M12) -> 0 | P12: 0
A13: Private Lands revenue | B13: 0 | C13: 0 | D13: 21000 | E13: 0 | F13: 0 | G13: 21450 | H13: 0 | I13: 4000 | J13: 45450 | K13: 72000 | L13: 12000 | M13: 38450 | N13: =SUM(B13:M13) -> 214350 | P13: 115457
A14: Public Lands revenue | B14: 136355.62 | C14: 425450 | D14: 34950 | E14: 9950 | F14: 30950 | G14: 10450 | H14: 31450 | I14: 45250 | J14: 25377.38 | K14: 18750 | L14: 8750 | M14: 205750 | N14: =SUM(B14:M14) -> 983433 | P14: 438826
A15: Other Program Grant revenue | B15: 0 | C15: 20000 | D15: 0 | E15: 0 | F15: 0 | G15: 0 | H15: 0 | I15: 0 | J15: 0 | K15: 0 | L15: 0 | M15: 0 | N15: =SUM(B15:M15) -> 20000 | P15: 1000
A16: USFWS revenue | B16: 12833 | C16: 12833 | D16: 12833 | E16: 12833 | F16: 12833 | G16: 14333 | H16: 14333 | I16: 14333 | J16: 14333 | K16: 14333 | L16: 14333 | M16: 14333 | N16: =SUM(B16:M16) -> 164496 | P16: 163302
A17: EXPO revenue | B17: 2000 | C17: 36000 | D17: 50675 | E17: 24000 | F17: 13500 | G17: 6500 | H17: 13000 | I17: 50820 | J17: 33000 | K17: 0 | L17: 0 | M17: 0 | N17: =SUM(B17:M17) -> 229495 | P17: 227160
A18: Other | B18: 1000 | C18: 1000 | D18: 1500 | E18: 1500 | F18: 1500 | G18: 1500 | H18: 1500 | I18: 1500 | J18: 1500 | K18: 1500 | L18: 2000 | M18: 4000 | N18: =SUM(B18:M18) -> 20000 | P18: 33883
A20: Net Sales | B20: =SUM(B9:B19) -> 153388.62 | C20: =SUM(C9:C19) -> 499858 | D20: =SUM(D9:D19) -> 122108 | E20: =SUM(E9:E19) -> 218733 | F20: =SUM(F9:F19) -> 110208 | G20: =SUM(G9:G19) -> 74983 | H20: =SUM(H9:H19) -> 67783 | I20: =SUM(I9:I19) -> 171303 | ... N20: =SUM(N9:N19) -> 2217749 | P20: 1618077
A22: Standard Cost of Sales
A23: COS-Chapter event revenue | B23: 0 | C23: 2250 | D23: 0 | E23: 101850 | F23: 30000 | G23: 11250 | H23: 3000 | I23: 27750 | J23: 32250 | K23: 27150 | L23: 27750 | M23: 23250 | N23: =SUM(B23:M23) -> 286500 | P23: 266518
A24: COS-State event revenue | B24: 0 | C24: 0 | D24: 0 | E24: 0 | F24: 0 | G24: 0 | H24: 550 | I24: 5000 | J24: 2800 | K24: 14400 | L24: 9800 | M24: 25000 | N24: =SUM(B24:M24) -> 57550 | P24: 79749
A25: COS-Other | B25: 0 | C25: 0 | D25: 0 | E25: 0 | F25: 0 | G25: 0 | H25: 0 | I25: 0 | J25: 0 | K25: 0 | L25: 0 | M25: 0 | N25: =SUM(B25:M25) -> 0 | P25: 0
A29: Total Standard Cost of Sales | B29: =SUM(B23:B28) -> 0 | C29: =SUM(C23:C28) -> 2250 | D29: =SUM(D23:D28) -> 0 | E29: =SUM(E23:E28) -> 101850 | F29: =SUM(F23:F28) -> 30000 | G29: =SUM(G23:G28) -> 11250 | H29: =SUM(H23:H28) -> 3550 | I29: =SUM(I23:I28) -> 32750 | ... N29: =SUM(N23:N28) -> 344050 | P29: 346267
A31: Gross Profit | B31: =B20-B29 -> 153388.62 | C31: =C20-C29 -> 497608 | D31: =D20-D29 -> 122108 | E31: =E20-E29 -> 116883 | F31: =F20-F29 -> 80208 | G31: =G20-G29 -> 63733 | H31: =H20-H29 -> 64233 | I31: =I20-I29 -> 138553 | ... N31: =N20-N29 -> 1873699 | P31: =P20-P29 -> 1271810
A33: Operating Expenses
A34: Development:
A35: Wages | B35: 5130 | C35: 5130 | D35: 5130 | E35: 4900 | F35: 4900 | G35: 4900 | H35: 4900 | I35: 4900 | J35: 4900 | K35: 4900 | L35: 4900 | M35: 4900 | N35: =SUM(B35:M35) -> 59490 | P35: 61976
A36: Benefits | B36: 0 | C36: 0 | D36: 0 | E36: 0 | F36: 0 | G36: 0 | H36: 0 | I36: 0 | J36: 0 | K36: 0 | L36: 0 | M36: 0 | N36: =SUM(B36:M36) -> 0 | P36: 0
A37: Travel | B37: 500 | C37: 500 | D37: 500 | E37: 500 | F37: 500 | G37: 500 | H37: 500 | I37: 500 | J37: 500 | K37: 500 | L37: 500 | M37: 500 | N37: =SUM(B37:M37) -> 6000 | P37: 3890
A38: Phone | B38: 250 | C38: 250 | D38: 250 | E38: 250 | F38: 250 | G38: 250 | H38: 250 | I38: 250 | J38: 250 | K38: 250 | L38: 250 | M38: 250 | N38: =SUM(B38:M38) -> 3000 | P38: 1970
A39: Event expenses | B39: 800 | C39: 1200 | D39: 1200 | E39: 900 | F39: 500 | G39: 350 | H39: 900 | I39: 2500 | J39: 600 | K39: 750 | L39: 1000 | M39: 2000 | N39: =SUM(B39:M39) -> 12700 | P39: 17250
A40: Postage & shipping | B40: 25 | C40: 25 | D40: 100 | E40: 25 | F40: 25 | G40: 100 | H40: 25 | I40: 25 | J40: 100 | K40: 25 | L40: 25 | M40: 100 | N40: =SUM(B40:M40) -> 600 | P40: 437
A41: Shows & meetings | B41: 0 | C41: 0 | D41: 0 | E41: 0 | F41: 0 | G41: 0 | H41: 0 | I41: 0 | J41: 0 | K41: 0 | L41: 0 | M41: 0 | N41: =SUM(B41:M41) -> 0 | P41: 0
A42: Marketing | B42: 0 | C42: 0 | D42: 0 | E42: 0 | F42: 0 | G42: 0 | H42: 0 | I42: 0 | J42: 0 | K42: 0 | L42: 0 | M42: 0 | N42: =SUM(B42:M42) -> 0 | P42: 0
A43: Magazine | B43: 0 | C43: 0 | D43: 0 | E43: 0 | F43: 0 | G43: 0 | H43: 0 | I43: 0 | J43: 0 | K43: 0 | L43: 0 | M43: 0 | N43: =SUM(B43:M43) -> 0 | P43: 0
A44: Advertising | B44: 0 | C44: 0 | D44: 0 | E44: 0 | F44: 0 | G44: 0 | H44: 0 | I44: 0 | J44: 0 | K44: 0 | L44: 0 | M44: 0 | N44: =SUM(B44:M44) -> 0 | P44: 0
A45: Rent | B45: 245 | C45: 100 | D45: 100 | E45: 245 | F45: 100 | G45: 100 | H45: 245 | I45: 100 | J45: 100 | K45: 245 | L45: 100 | M45: 100 | N45: =SUM(B45:M45) -> 1780 | P45: 5280
A46: Other | B46: 25 | C46: 25 | D46: 25 | E46: 25 | F46: 25 | G46: 25 | H46: 25 | I46: 25 | J46: 25 | K46: 25 | L46: 25 | M46: 25 | N46: =SUM(B46:M46) -> 300 | P46: 480
A47: Total | B47: =SUM(B35:B46) -> 6975 | C47: =SUM(C35:C46) -> 7230 | D47: =SUM(D35:D46) -> 7305 | E47: =SUM(E35:E46) -> 6845 | F47: =SUM(F35:F46) -> 6300 | G47: =SUM(G35:G46) -> 6225 | H47: =SUM(H35:H46) -> 6845 | I47: =SUM(I35:I46) -> 8300 | ... N47: =SUM(N35:N46) -> 83870 | P47: =SUM(P35:P46) -> 91283
A49: Program Services:
A50: Wages | B50: 15670 | C50: 15670 | D50: 15670 | E50: 12260 | F50: 12260 | G50: 12260 | H50: 12260 | I50: 12260 | J50: 12260 | K50: 12260 | L50: 12260 | M50: 12260 | N50: =SUM(B50:M50) -> 157350 | P50: 117002
...

Sheet BS
E3: Wisconsin Waterfowl Association
E4: Balance Sheet
J6: 5 | K6: 2009 | L6: 39934 | M6: 39934
F9: Assets | J9: 12.31.25 | K9: January | L9: February | M9: March | N9: April | O9: May | P9: June | Q9: July | R9: August | S9: September | T9: October | U9: November | V9: December
G10: Current Assets
G11: Cash
H12: Chapters | J12: 6336 | K12: 6000 | L12: 30000 | M12: 18000 | N12: 15000 | O12: 12000 | P12: 7000 | Q12: 7000 | R12: 36000 | S12: 27000 | T12: 12500 | U12: 6900 | V12: 6000
H13: Money Market | J13: 215616 | K13: 195100 | L13: 174000 | M13: 174500 | N13: 175000 | O13: 153000 | P13: 153500 | Q13: 133000 | R13: 133500 | S13: 118000 | T13: 118500 | U13: 119000 | V13: 119500
H14: Raffle restricted | J14: 34033 | K14: 32000 | L14: 30000 | M14: 28000 | N14: 26000 | O14: 25000 | P14: 24000 | Q14: 23000 | R14: 22000 | S14: 15000 | T14: 13000 | U14: 23000 | V14: 36000
H15: Abrams restricted | J15: 1510 | K15: 1510 | L15: 1510 | M15: 1510 | N15: 1510 | O15: 1510 | P15: 1510 | Q15: 1510 | R15: 1510 | S15: 1510 | T15: 1510 | U15: 1510 | V15: 1510
H16: AWA restricted | J16: 1721 | K16: 1721 | L16: 1721 | M16: 1721 | N16: 1721 | O16: 1721 | P16: 1721 | Q16: 1721 | R16: 1721 | S16: 1721 | T16: 1721 | U16: 1721 | V16: 1721
H17: EXPO restricted | J17: 98616 | K17: =SUM(J17+'Income Statement'!B17-'Income Statement'!B57) -> 98216 | L17: =SUM(K17+'Income Statement'!C17-'Income Statement'!C57) -> 124516 | M17: =SUM(L17+'Income Statement'!D17-'Income Statement'!D57) -> 168991 | N17: =SUM(M17+'Income Statement'!E17-'Income Statement'!E57) -> 187191 | O17: =SUM(N17+'Income Statement'!F17-'Income Statement'!F57) -> 195391 | P17: =SUM(O17+'Income Statement'!G17-'Income Statement'!G57) -> 181791 | Q17: =SUM(P17+'Income Statement'!H17-'Income Statement'!H57) -> 181591 | R17: =SUM(Q17+'Income Statement'!I17-'Income Statement'!I57) -> 181311 | S17: =SUM((R17+'Income Statement'!J17-'Income Statement'!J57)-105000) -> 99811 | T17: =SUM(S17+'Income Statement'!K17-'Income Statement'!K57) -> 99611 | U17: =SUM(T17+'Income Statement'!L17-'Income Statement'!L57) -> 99411 | V17: =SUM(U17+'Income Statement'!M17-'Income Statement'!M57) -> 99211
H18: Chapter Loan restricted | J18: 6104 | K18: 6104 | L18: 6104 | M18: 6104 | N18: 6104 | O18: 6104 | P18: 6104 | Q18: 6104 | R18: 6104 | S18: 6104 | T18: 6104 | U18: 6104 | V18: 6104
H19: PLE restricted | J19: 0 | K19: 0 | L19: 0 | M19: 0 | N19: 0 | O19: 0 | P19: 1500 | Q19: 0 | R19: 0 | S19: 0 | T19: 0 | U19: 0 | V19: 0
H20: State Unrestricted | J20: 266627 | K20: =SUM(K21-K12-K13-K14-K15-K16-K17-K18-K19) -> 339072.62 | L20: =SUM(L21-L12-L13-L14-L15-L16-L17-L18-L19) -> 324627 | M20: =SUM(M21-M12-M13-M14-M15-M16-M17-M18-M19) -> 338069 | N20: =SUM(N21-N12-N13-N14-N15-N16-N17-N18-N19) -> 307481 | O20: =SUM(O21-O12-O13-O14-O15-O16-O17-O18-O19) -> 299370 | P20: =SUM(P21-P12-P13-P14-P15-P16-P17-P18-P19) -> 263621 | Q20: =SUM(Q21-Q12-Q13-Q14-Q15-Q16-Q17-Q18-Q19) -> 266953 | R20: =SUM(R21-R12-R13-R14-R15-R16-R17-R18-R19) -> 270214 | ... V20: =SUM(V21-V12-V13-V14-V15-V16-V17-V18-V19) -> 308472
H21: Total Cash | J21: =SUM(J12:J20) -> 630563 | K21: =CF!G33 -> 679723.62 | L21: =CF!H33 -> 692478 | M21: =CF!I33 -> 736895 | N21: =CF!J33 -> 720007 | O21: =CF!K33 -> 694096 | P21: =CF!L33 -> 640747 | Q21: =CF!M33 -> 620879 | R21: =CF!N33 -> 652360 | ... V21: =CF!R33 -> 578518
G22: Accounts Receivable - Trade | J22: 0 | K22: 300 | L22: =SUM('BS wrksht'!D14) -> 6000 | M22: =SUM('BS wrksht'!E14) -> 3000 | N22: =SUM('BS wrksht'!F14) -> 9000 | O22: =SUM('BS wrksht'!G14) -> 0 | P22: =SUM('BS wrksht'!H14) -> 3000 | Q22: =SUM('BS wrksht'!I14) -> 6000 | R22: =SUM('BS wrksht'!J14) -> 12000 | S22: =SUM('BS wrksht'!K14) -> 6000 | ... V22: =SUM('BS wrksht'!N14) -> 0
G23: Accounts Receivable - Grants | J23: 41374 | K23: =SUM('BS wrksht'!C9) -> 127833 | L23: =SUM('BS wrksht'!D9) -> 458283 | M23: =SUM('BS wrksht'!E9) -> 47783 | N23: =SUM('BS wrksht'!F9) -> 22783 | O23: =SUM('BS wrksht'!G9) -> 22783 | P23: =SUM('BS wrksht'!H9) -> 44783 | Q23: =SUM('BS wrksht'!I9) -> 24783 | R23: =SUM('BS wrksht'!J9) -> 63583 | ... V23: =SUM('BS wrksht'!N9) -> 237083
G24: Inventory | J24: 41872 | K24: =SUM('BS wrksht'!C20) -> 42172 | L24: =SUM('BS wrksht'!D20) -> 47872 | M24: =SUM('BS wrksht'!E20) -> 44872 | N24: =SUM('BS wrksht'!F20) -> 50872 | O24: =SUM('BS wrksht'!G20) -> 41872 | P24: =SUM('BS wrksht'!H20) -> 44872 | Q24: =SUM('BS wrksht'!I20) -> 47872 | R24: =SUM('BS wrksht'!J20) -> 53872 | ... V24: =SUM('BS wrksht'!N20) -> 41872
G25: Prepaid Expenses | J25: 3048 | K25: 4000 | L25: 7000 | M25: 8000 | N25: 9000 | O25: 8400 | P25: 13000 | Q25: 12400 | R25: 11400 | S25: 9000 | T25: 5000 | U25: 4000 | V25: 3000
G26: Other Current Assets | J26: 20534 | K26: 0 | L26: 0 | M26: 0 | N26: 0 | O26: 0 | P26: 0 | Q26: 0 | R26: 0 | S26: 0 | T26: 0 | U26: 0 | V26: 0
G27: Total Current Assets | J27: =SUM(J21:J26) -> 737391 | K27: =SUM(K21:K26) -> 854028.62 | L27: =SUM(L21:L26) -> 1211633 | M27: =SUM(M21:M26) -> 840550 | N27: =SUM(N21:N26) -> 811662 | O27: =SUM(O21:O26) -> 767151 | P27: =SUM(P21:P26) -> 746402 | Q27: =SUM(Q21:Q26) -> 711934 | ... V27: =SUM(V21:V26) -> 860473
G29: Fixed Assets
G30: Gross Fixed Assets | J30: 156666 | K30: 156666 | L30: 156666 | M30: 156666 | N30: 156666 | O30: 156666 | P30: 156666 | Q30: 156666 | R30: 156666 | S30: 156666 | T30: 156666 | U30: 156666 | V30: 156666
G31: Accum. Depreciation | J31: -15458 | K31: -15458 | L31: -15458 | M31: -15458 | N31: -15458 | O31: -15458 | P31: -15458 | Q31: -15458 | R31: -15458 | S31: -15458 | T31: -15458 | U31: -15458 | V31: -15458
G32: Net Fixed Assets | J32: =SUM(J30:J31) -> 141208 | K32: =SUM(K30:K31) -> 141208 | L32: =SUM(L30:L31) -> 141208 | M32: =SUM(M30:M31) -> 141208 | N32: =SUM(N30:N31) -> 141208 | O32: =SUM(O30:O31) -> 141208 | P32: =SUM(P30:P31) -> 141208 | Q32: =SUM(Q30:Q31) -> 141208 | ... V32: =SUM(V30:V31) -> 141208
G34: Other Assets - Rent deposit | J34: 280 | K34: 280 | L34: 280 | M34: 280 | N34: 280 | O34: 280 | P34: 280 | Q34: 280 | R34: 280 | S34: 280 | T34: 280 | U34: 280 | V34: 280
G35: Other Assets - Endowment Fund | J35: 89669 | K35: =SUM(J35+775) -> 90444 | L35: =SUM(K35+775) -> 91219 | M35: =SUM(L35+775) -> 91994 | N35: =SUM(M35+775) -> 92769 | O35: =SUM(N35+775) -> 93544 | P35: =SUM(O35+775) -> 94319 | Q35: =SUM(P35+775) -> 95094 | R35: =SUM(Q35+775) -> 95869 | ... V35: =SUM(U35+775) -> 98969
G36: Total Assets | J36: =J27+J32+J34+J35 -> 968548 | K36: =K27+K32+K34+K35 -> 1085960.6 | L36: =L27+L32+L34+L35 -> 1444340 | M36: =M27+M32+M34+M35 -> 1074032 | N36: =N27+N32+N34+N35 -> 1045919 | O36: =O27+O32+O34+O35 -> 1002183 | P36: =P27+P32+P34+P35 -> 982209 | Q36: =Q27+Q32+Q34+Q35 -> 948516 | ... V36: =V27+V32+V34+V35 -> 1100930
F38: Liabilities & Equity
G39: Current Liabilities
G40: Accounts Payable | J40: 28482 | K40: =SUM('BS wrksht'!C26) -> 182021 | L40: =SUM('BS wrksht'!D26) -> 466208 | M40: =SUM('BS wrksht'!E26) -> 113288 | N40: =SUM('BS wrksht'!F26) -> 66736 | O40: =SUM('BS wrksht'!G26) -> 83499 | P40: =SUM('BS wrksht'!H26) -> 78718 | Q40: =SUM('BS wrksht'!I26) -> 100289 | R40: =SUM('BS wrksht'!J26) -> 176626 | ... V40: =SUM('BS wrksht'!N26) -> 259128
G41: Accued Liabilities | J41: 34033 | K41: 32000 | L41: 30000 | M41: 28000 | N41: 26000 | O41: 25000 | P41: 24000 | Q41: 23000 | R41: 22000 | S41: 15000 | T41: 13000 | U41: 23000 | V41: 36000
G42: Deferred Chapter Bank Accounts | J42: 6336 | K42: 6000 | L42: 30000 | M42: 18000 | N42: 15000 | O42: 12000 | P42: 7000 | Q42: 7000 | R42: 36000 | S42: 27000 | T42: 12500 | U42: 6900 | V42: 6000
G43: Deferred Chapter Credit Cards | J43: 4896 | K43: 25000 | L43: 50000 | M43: 63000 | N43: 41000 | O43: 13000 | P43: 23000 | Q43: 30000 | R43: 50000 | S43: 18000 | T43: 4000 | U43: 14000 | V43: 4000
G44: Deferred Grant Revenue | J44: 100000 | K44: 78927 | L44: 78927.38 | M44: 57927.38 | N44: 57927.38 | O44: 36927.38 | P44: 36927.38 | Q44: 15927.38 | R44: 15927.38 | S44: 0 | T44: 0 | U44: 0 | V44: 0
G45: Other Liabilities | J45: 8448 | K45: 8500 | L45: 8500 | M45: 8500 | N45: 8000 | O45: 8000 | P45: 8000 | Q45: 8000 | R45: 8000 | S45: 8000 | T45: 8000 | U45: 8000 | V45: 8000
G46: Total Liabilities | J46: =SUM(J40:J45) -> 182195 | K46: =SUM(K40:K45) -> 332448 | L46: =SUM(L40:L45) -> 663635.38 | M46: =SUM(M40:M45) -> 288715.38 | N46: =SUM(N40:N45) -> 214663.38 | O46: =SUM(O40:O45) -> 178426.38 | P46: =SUM(P40:P45) -> 177645.38 | Q46: =SUM(Q40:Q45) -> 184216.38 | ... V46: =SUM(V40:V45) -> 313128
G47: Equity
G48: Net Equity at Beginning of Year | J48: 740601 | K48: 786352 | L48: 786352 | M48: 786352 | N48: 786352 | O48: 786352 | P48: 786352 | Q48: 786352 | R48: 786352 | S48: 786352 | T48: 786352 | U48: 786352 | V48: 786352
...

Sheet CF
A3: Wisconsin Waterfowl Association
A4: Cash Flow
G5: January | H5: February | I5: March | J5: April | K5: May | L5: June | M5: July | N5: August | O5: September | P5: October | Q5: November | R5: December
A6: Operating Activities
A7: Net Income | G7: =SUM('Income Statement'!B77) -> -32840.38 | H7: ='Income Statement'!C77 -> 27192 | I7: ='Income Statement'!D77 -> 4612 | J7: ='Income Statement'!E77 -> 45939 | K7: ='Income Statement'!F77 -> -7499 | L7: ='Income Statement'!G77 -> -19193 | M7: ='Income Statement'!H77 -> -40264 | N7: ='Income Statement'!I77 -> -42281 | O7: ='Income Statement'!J77 -> -21198.62 | ... R7: ='Income Statement'!M77 -> 34997 | S7: =SUM(G7:R7) -> 1449
A8: Items to Reconcile to Cash Basis:
A9: Depreciation/Amortization | G9: =BS!K31-BS!J31 -> 0 | H9: =BS!L31-BS!K31 -> 0 | I9: =BS!M31-BS!L31 -> 0 | J9: =BS!N31-BS!M31 -> 0 | K9: =BS!O31-BS!N31 -> 0 | L9: =BS!P31-BS!O31 -> 0 | M9: =BS!Q31-BS!P31 -> 0 | N9: =BS!R31-BS!Q31 -> 0 | ... R9: =BS!V31-BS!U31 -> 0 | S9: =SUM(G9:R9) -> 0
A11: Changes in Components of Working Capital
A12: Accounts Receivable | G12: =(BS!J22+BS!J23)-(BS!K22+BS!K23) -> -86759 | H12: =(BS!K22+BS!K23)-(BS!L22+BS!L23) -> -336150 | I12: =(BS!L22+BS!L23)-(BS!M22+BS!M23) -> 413500 | J12: =(BS!M22+BS!M23)-(BS!N22+BS!N23) -> 19000 | K12: =(BS!N22+BS!N23)-(BS!O22+BS!O23) -> 9000 | L12: =(BS!O22+BS!O23)-(BS!P22+BS!P23) -> -25000 | M12: =(BS!P22+BS!P23)-(BS!Q22+BS!Q23) -> 17000 | N12: =(BS!Q22+BS!Q23)-(BS!R22+BS!R23) -> -44800 | ... R12: =(BS!U22+BS!U23)-(BS!V22+BS!V23) -> -202000 | S12: =SUM(G12:R12) -> -195709
A13: Inventory | G13: =BS!J24-BS!K24 -> -300 | H13: =BS!K24-BS!L24 -> -5700 | I13: =BS!L24-BS!M24 -> 3000 | J13: =BS!M24-BS!N24 -> -6000 | K13: =BS!N24-BS!O24 -> 9000 | L13: =BS!O24-BS!P24 -> -3000 | M13: =BS!P24-BS!Q24 -> -3000 | N13: =BS!Q24-BS!R24 -> -6000 | ... R13: =BS!U24-BS!V24 -> 0 | S13: =SUM(G13:R13) -> 0
A14: Prepaid Expenses | G14: =BS!J25-BS!K25 -> -952 | H14: =BS!K25-BS!L25 -> -3000 | I14: =BS!L25-BS!M25 -> -1000 | J14: =BS!M25-BS!N25 -> -1000 | K14: =BS!N25-BS!O25 -> 600 | L14: =BS!O25-BS!P25 -> -4600 | M14: =BS!P25-BS!Q25 -> 600 | N14: =BS!Q25-BS!R25 -> 1000 | ... R14: =BS!U25-BS!V25 -> 1000 | S14: =SUM(G14:R14) -> 48
A15: Other Current Assets | G15: =BS!J26-BS!K26 -> 20534 | H15: =BS!K26-BS!L26 -> 0 | I15: =BS!L26-BS!M26 -> 0 | J15: =BS!M26-BS!N26 -> 0 | K15: =BS!N26-BS!O26 -> 0 | L15: =BS!O26-BS!P26 -> 0 | M15: =BS!P26-BS!Q26 -> 0 | N15: =BS!Q26-BS!R26 -> 0 | ... R15: =BS!U26-BS!V26 -> 0 | S15: =SUM(G15:R15) -> 20534
A16: Other Assets | G16: =BS!J35-BS!K35 -> -775 | H16: =BS!K35-BS!L35 -> -775 | I16: =BS!L35-BS!M35 -> -775 | J16: =BS!M35-BS!N35 -> -775 | K16: =BS!N35-BS!O35 -> -775 | L16: =BS!O35-BS!P35 -> -775 | M16: =BS!P35-BS!Q35 -> -775 | N16: =BS!Q35-BS!R35 -> -775 | ... R16: =BS!U35-BS!V35 -> -775 | S16: =SUM(G16:R16) -> -9300
A17: Accounts Payable | G17: =BS!K40-BS!J40 -> 153539 | H17: =BS!L40-BS!K40 -> 284187 | I17: =BS!M40-BS!L40 -> -352920 | J17: =BS!N40-BS!M40 -> -46552 | K17: =BS!O40-BS!N40 -> 16763 | L17: =BS!P40-BS!O40 -> -4781 | M17: =BS!Q40-BS!P40 -> 21571 | N17: =BS!R40-BS!Q40 -> 76337 | ... R17: =BS!V40-BS!U40 -> 199577 | S17: =SUM(G17:R17) -> 230646
A18: Deferred Income | G18: =(BS!K42-BS!J42)+(BS!K43-BS!J43)+(BS!K44-BS!J44) -> -1305 | H18: =(BS!L42-BS!K42)+(BS!L43-BS!K43)+(BS!L44-BS!K44) -> 49000.38 | I18: =(BS!M42-BS!L42)+(BS!M43-BS!L43)+(BS!M44-BS!L44) -> -20000 | J18: =(BS!N42-BS!M42)+(BS!N43-BS!M43)+(BS!N44-BS!M44) -> -25000 | K18: =(BS!O42-BS!N42)+(BS!O43-BS!N43)+(BS!O44-BS!N44) -> -52000 | L18: =(BS!P42-BS!O42)+(BS!P43-BS!O43)+(BS!P44-BS!O44) -> 5000 | M18: =(BS!Q42-BS!P42)+(BS!Q43-BS!P43)+(BS!Q44-BS!P44) -> -14000 | N18: =(BS!R42-BS!Q42)+(BS!R43-BS!Q43)+(BS!R44-BS!Q44) -> 49000 | ... R18: =(BS!V42-BS!U42)+(BS!V43-BS!U43)+(BS!V44-BS!U44) -> -10900 | S18: =SUM(G18:R18) -> -101232
A19: Accruals | G19: =BS!K41-BS!J41 -> -2033 | H19: =BS!L41-BS!K41 -> -2000 | I19: =BS!M41-BS!L41 -> -2000 | J19: =BS!N41-BS!M41 -> -2000 | K19: =BS!O41-BS!N41 -> -1000 | L19: =BS!P41-BS!O41 -> -1000 | M19: =BS!Q41-BS!P41 -> -1000 | N19: =BS!R41-BS!Q41 -> -1000 | ... R19: =BS!V41-BS!U41 -> 13000 | S19: =SUM(G19:R19) -> 1967
A20: Other Liabilities | G20: =BS!K45-BS!J45 -> 52 | H20: =BS!L45-BS!K45 -> 0 | I20: =BS!M45-BS!L45 -> 0 | J20: =BS!N45-BS!M45 -> -500 | K20: =BS!O45-BS!N45 -> 0 | L20: =BS!P45-BS!O45 -> 0 | M20: =BS!Q45-BS!P45 -> 0 | N20: =BS!R45-BS!Q45 -> 0 | ... R20: =BS!V45-BS!U45 -> 0 | S20: =SUM(G20:R20) -> -448
A21: Total Increase/(Decrease) due to Operating Activities | G21: =SUM(G7:G20) -> 49160.62 | H21: =SUM(H7:H20) -> 12754.38 | I21: =SUM(I7:I20) -> 44417 | J21: =SUM(J7:J20) -> -16888 | K21: =SUM(K7:K20) -> -25911 | L21: =SUM(L7:L20) -> -53349 | M21: =SUM(M7:M20) -> -19868 | N21: =SUM(N7:N20) -> 31481 | ... R21: =SUM(R7:R20) -> 34899 | S21: =SUM(G21:R21) -> -52045
A23: Investing Activities
A24: Capital Expenditures | G24: =BS!J30-BS!K30 -> 0 | H24: =BS!K30-BS!L30 -> 0 | I24: =BS!L30-BS!M30 -> 0 | J24: =BS!M30-BS!N30 -> 0 | K24: =BS!N30-BS!O30 -> 0 | L24: =BS!O30-BS!P30 -> 0 | M24: =BS!P30-BS!Q30 -> 0 | N24: =BS!Q30-BS!R30 -> 0 | ... R24: =BS!U30-BS!V30 -> 0 | S24: =SUM(G24:R24) -> 0
A26: Financing Activities
A27: Loans | G27: 0 | H27: 0 | I27: 0 | J27: 0 | K27: 0 | L27: 0 | M27: 0 | N27: 0 | O27: 0 | P27: 0 | Q27: 0 | R27: 0 | S27: =SUM(G27:R27) -> 0
A29: Total Increase/(decrease) in Cash | G29: =G21+G24+G27 -> 49160.62 | H29: =H21+H24+H27 -> 12754.38 | I29: =I21+I24+I27 -> 44417 | J29: =J21+J24+J27 -> -16888 | K29: =K21+K24+K27 -> -25911 | L29: =L21+L24+L27 -> -53349 | M29: =M21+M24+M27 -> -19868 | N29: =N21+N24+N27 -> 31481 | ... R29: =R21+R24+R27 -> 34899 | S29: =SUM(G29:R29) -> -52045
A31: Beginning Cash Balance | G31: =BS!J21 -> 630563 | H31: =BS!K21 -> 679723.62 | I31: =BS!L21 -> 692478 | J31: =BS!M21 -> 736895 | K31: =BS!N21 -> 720007 | L31: =BS!O21 -> 694096 | M31: =BS!P21 -> 640747 | N31: =BS!Q21 -> 620879 | ... R31: =BS!U21 -> 543619
A33: Ending Cash Balance | G33: =G29+G31 -> 679723.62 | H33: =H29+H31 -> 692478 | I33: =I29+I31 -> 736895 | J33: =J29+J31 -> 720007 | K33: =K29+K31 -> 694096 | L33: =L29+L31 -> 640747 | M33: =M29+M31 -> 620879 | N33: =N29+N31 -> 652360 | ... R33: =R29+R31 -> 578518
A35: (check) | G35: =G33-BS!K21 -> 0 | H35: =H33-BS!L21 -> 0 | I35: =I33-BS!M21 -> 0 | J35: =J33-BS!N21 -> 0 | K35: =K33-BS!O21 -> 0 | L35: =L33-BS!P21 -> 0 | M35: =M33-BS!Q21 -> 0 | N35: =N33-BS!R21 -> 0 | ... R35: =R33-BS!V21 -> 0

Sheet BS wrksht
B1: 12.31.25 | C1: January | D1: February | E1: March | F1: April | G1: May | H1: June | I1: July | J1: August | K1: September | L1: October | M1: November | N1: December
A2: AR Grants
A4: Private Lands | B4: 19481.76 | E4: 20000 | F4: 0 | G4: 0 | H4: 20000 | I4: 0 | J4: 4000 | K4: 44000 | L4: 72000 | M4: 12000 | N4: 17000
A5: Public Lands | B5: 7905.33 | C5: 115000 | D5: 425450 | E5: 14950 | F5: 9950 | G5: 9950 | H5: 10450 | I5: 10450 | J5: 45250 | K5: 9450 | L5: 18750 | M5: 8750 | N5: 205750
A6: Other | C6: 0 | D6: 20000 | E6: 0 | F6: 0 | G6: 0 | H6: 0 | I6: 0 | J6: 0 | K6: 0 | L6: 0 | M6: 0 | N6: 0
A7: USFWS | C7: 12833 | D7: 12833 | E7: 12833 | F7: 12833 | G7: 12833 | H7: 14333 | I7: 14333 | J7: 14333 | K7: 14333 | L7: 14333 | M7: 14333 | N7: 14333
A8: AR Grant Payments | C8: -27387.09 | D8: -127833 | E8: -458283 | F8: -47783 | G8: -22783 | H8: -22783 | I8: -44783 | J8: -24783 | K8: -63853 | L8: -67513 | M8: -105083 | N8: -35083
A9: Totals | B9: =SUM(B4:B8) -> 27387.09 | C9: =SUM(B9+C4+C5+C6+C7+C8) -> 127833 | D9: =SUM(C9+D4+D5+D6+D7+D8) -> 458283 | E9: =SUM(D9+E4+E5+E6+E7+E8) -> 47783 | F9: =SUM(E9+F4+F5+F6+F7+F8) -> 22783 | G9: =SUM(F9+G4+G5+G6+G7+G8) -> 22783 | H9: =SUM(G9+H4+H5+H6+H7+H8) -> 44783 | I9: =SUM(H9+I4+I5+I6+I7+I8) -> 24783 | J9: =SUM(I9+J4+J5+J6+J7+J8) -> 63583 | ... N9: =SUM(M9+N4+N5+N6+N7+N8) -> 237083
A11: AR Trade
A12: Banquets - $3000 ea. | B12: 0 | C12: 300 | D12: 6000 | E12: 3000 | F12: 9000 | G12: 0 | H12: 3000 | I12: 6000 | J12: 12000 | K12: 6000 | L12: 6000 | M12: 0 | N12: 6000
A13: Chapter Payments | D13: -300 | E13: -6000 | F13: -3000 | G13: -9000 | H13: 0 | I13: -3000 | J13: -6000 | K13: -12000 | L13: -6000 | M13: -6000 | N13: -6000
A14: Ending Balance | B14: 0 | C14: =SUM(B12+C12+C13) -> 300 | D14: =SUM(C14+D12+D13) -> 6000 | E14: =SUM(D14+E12+E13) -> 3000 | F14: =SUM(E14+F12+F13) -> 9000 | G14: =SUM(F14+G12+G13) -> 0 | H14: =SUM(G14+H12+H13) -> 3000 | I14: =SUM(H14+I12+I13) -> 6000 | J14: =SUM(I14+J12+J13) -> 12000 | K14: =SUM(J14+K12+K13) -> 6000 | ... N14: =SUM(M14+N12+N13) -> 0
A16: Inventory
B17: 41872
A18: Plus Banquets - $3000 ea. | C18: 300 | D18: 6000 | E18: 3000 | F18: 9000 | G18: 0 | H18: 3000 | I18: 6000 | J18: 12000 | K18: 6000 | L18: 6000 | M18: 0 | N18: 6000
A19: Minus Inventory used - $3000 ea. | D19: -300 | E19: -6000 | F19: -3000 | G19: -9000 | H19: 0 | I19: -3000 | J19: -6000 | K19: -12000 | L19: -6000 | M19: -6000 | N19: -6000
A20: Total | C20: =SUM(B17+C18+C19) -> 42172 | D20: =SUM(C20+D18+D19) -> 47872 | E20: =SUM(D20+E18+E19) -> 44872 | F20: =SUM(E20+F18+F19) -> 50872 | G20: =SUM(F20+G18+G19) -> 41872 | H20: =SUM(G20+H18+H19) -> 44872 | I20: =SUM(H20+I18+I19) -> 47872 | J20: =SUM(I20+J18+J19) -> 53872 | K20: =SUM(J20+K18+K19) -> 47872 | ... N20: =SUM(M20+N18+N19) -> 41872
A22: AP
A23: Beginning Balance | B23: 28482 | C23: 28482 | D23: =C26 -> 182021 | E23: =D26 -> 466208 | F23: =E26 -> 113288 | G23: =F26 -> 66736 | H23: =G26 -> 83499 | I23: =H26 -> 78718 | J23: =I26 -> 100289 | K23: =J26 -> 176626 | ... N23: =M26 -> 59551
A24: Budget Exp minus Salaries | C24: =SUM('Income Statement'!B74)-17690 -> 168539 | D24: =SUM('Income Statement'!C74)-15000 -> 455416 | E24: =SUM('Income Statement'!D74)-15000 -> 102496 | F24: =SUM('Income Statement'!E74)-15000 -> 55944 | G24: =SUM('Income Statement'!F74)-15000 -> 72707 | H24: =SUM('Income Statement'!G74)-15000 -> 67926 | I24: =SUM('Income Statement'!H74)-15000 -> 89497 | J24: =SUM('Income Statement'!I74)-15000 -> 165834 | K24: =SUM('Income Statement'!J74)-15000 -> 150484 | ... N24: =SUM('Income Statement'!M74)-15000 -> 248336
A25: Payments | C25: -15000 | D25: =-(SUM('Income Statement'!B74)-15000) -> -171229 | E25: =-(SUM('Income Statement'!C74)-15000) -> -455416 | F25: =-(SUM('Income Statement'!D74)-15000) -> -102496 | G25: =-(SUM('Income Statement'!E74)-15000) -> -55944 | H25: =-(SUM('Income Statement'!F74)-15000) -> -72707 | I25: =-(SUM('Income Statement'!G74)-15000) -> -67926 | J25: =-(SUM('Income Statement'!H74)-15000) -> -89497 | K25: =-(SUM('Income Statement'!I74)-15000) -> -165834 | ... N25: =-(SUM('Income Statement'!L74)-15000) -> -48759
A26: Balance | B26: 28482 | C26: =SUM(C23:C25) -> 182021 | D26: =SUM(D23:D25) -> 466208 | E26: =SUM(E23:E25) -> 113288 | F26: =SUM(F23:F25) -> 66736 | G26: =SUM(G23:G25) -> 83499 | H26: =SUM(H23:H25) -> 78718 | I26: =SUM(I23:I25) -> 100289 | J26: =SUM(J23:J25) -> 176626 | ... N26: =SUM(N23:N25) -> 259128

Sheet 2026 EXPO P&L
A1: 2026 Expo Budget Draft 1 | D1: Jan | E1: Feb | F1: Mar | G1: Apr | H1: May | I1: Jun | J1: Jul | K1: Aug | L1: Sep | M1: Oct | N1: Nov | O1: Dec | P1: Total
B2: REVENUE | D2: =SUM(D3:D7) -> 2000 | E2: =SUM(E3:E7) -> 36000 | F2: =SUM(F3:F7) -> 50675 | G2: =SUM(G3:G7) -> 24000 | H2: =SUM(H3:H7) -> 13500 | I2: =SUM(I3:I7) -> 6500 | J2: =SUM(J3:J7) -> 13000 | K2: =SUM(K3:K7) -> 50820 | ... P2: =SUM(P3:P7) -> 229495
C3: Vendors | D3: 1000 | E3: 25000 | F3: 20000 | G3: 3000 | H3: 3000 | I3: 3000 | J3: 2500 | K3: 2000 | L3: 1000 | P3: =SUM(D3:O3) -> 60500 | R3: Booth sales
C4: Sponsors | D4: 1000 | E4: 11000 | F4: 30000 | G4: 20000 | H4: 9000 | I4: 2000 | J4: 1000 | P4: =SUM(D4:O4) -> 74000 | R4: More sponsor and booth sales
C5: Attendance, etc | G5: 1000 | H5: 1500 | I5: 1500 | J5: 2500 | K5: 45000 | P5: =SUM(D5:O5) -> 51500
C6: Programming/logistics | F6: =3*225 -> 675 | I6: E | K6: 3820 | P6: =SUM(D6:O6) -> 4495 | R6: food trucks, shooting, beer, etc
C7: JEM Grant | J7: 7000 | L7: 32000 | P7: =SUM(D7:O7) -> 39000
B8: EXPENSES | D8: =SUM(D9:D15) -> 2400 | E8: =SUM(E9:E15) -> 9700 | F8: =SUM(F9:F15) -> 6200 | G8: =SUM(G9:G15) -> 5800 | H8: =SUM(H9:H15) -> 5300 | I8: =SUM(I9:I15) -> 20100 | J8: =SUM(J9:J15) -> 13200 | K8: =SUM(K9:K15) -> 51100 | ... P8: =SUM(P9:P15) -> 123900
C9: Admin | D9: 200 | E9: 200 | F9: 200 | G9: 200 | H9: 200 | I9: 200 | J9: 200 | K9: 200 | L9: 200 | M9: 200 | N9: 200 | O9: 200 | P9: =SUM(D9:O9) -> 2400 | R9: storage
C10: Logistics | E10: 2500 | G10: 3000 | I10: 6000 | J10: 4500 | K10: 9500 | L10: 5000 | P10: =SUM(D10:O10) -> 30500 | R10: Insurance, tents, pipe/drape, additional venue space,
C11: Mktg | D11: 2000 | E11: 2000 | F11: 2000 | G11: 2000 | H11: 2000 | I11: 10800 | J11: 2000 | K11: 35000 | L11: 4300 | P11: =SUM(D11:O11) -> 62100 | R11: Mrktng outsource; Directed Marketing;
C12: Programming | J12: 2000 | K12: 4000 | P12: =SUM(D12:O12) -> 6000 | R12: Calling contest, shooting, dogs
C13: Signage | J13: 4000 | K13: 2000 | P13: =SUM(D13:O13) -> 6000 | R13: Signage, outsource?
C14: Support of external programs | D14: 200 | E14: 5000 | F14: 4000 | G14: 600 | H14: 600 | I14: 600 | J14: 500 | K14: 400 | P14: =SUM(D14:O14) -> 11900 | R14: Swiftwaters Sponsor commission
C15: Volunteers | H15: 2500 | I15: 2500 | P15: =SUM(D15:O15) -> 5000
B16: NET | D16: =D2-D8 -> -400 | E16: =E2-E8 -> 26300 | F16: =F2-F8 -> 44475 | G16: =G2-G8 -> 18200 | H16: =H2-H8 -> 8200 | I16: =I2-I8 -> -13600 | J16: =J2-J8 -> -200 | K16: =K2-K8 -> -280 | ... Q16: =Q2-Q8 -> 0
B19: EXPO Fund Balance | D19: 98775.85 | P19: =O19 -> 0

Sheet 2026 - Habitat P&L
A1: HABITAT | C1: $$ Awarded | D1: $$ Remaining | E1: $$ match required | F1: $$ match provided | G1: Jan | H1: Feb | I1: Mar | J1: Apr | K1: May | L1: Jun | M1: Jul | N1: Aug | O1: Sep | P1: Oct | Q1: Nov | R1: Dec | S1: TOTAL | T1: Fed? | U1: Notes | V1: Risk
A2: REVENUE | G2: =SUM(G19,G17,G8,G3) -> 149189.33 | H2: =SUM(H19,H17,H8,H3) -> 458283.33 | I2: =SUM(I19,I17,I8,I3) -> 68783.333 | J2: =SUM(J19,J17,J8,J3) -> 22783.333 | K2: =SUM(K19,K17,K8,K3) -> 43783.333 | L2: =SUM(L19,L17,L8,L3) -> 46233.333 | M2: =SUM(M19,M17,M8,M3) -> 45783.333 | N2: =SUM(N19,N17,N8,N3) -> 63583.333 | ... S2: =SUM(S19,S17,S8,S3) -> 1382283 | T2: x
B3: Private Lands | C3: =SUM(C4:C7) -> 500419 | D3: =SUM(D4:D7) -> 137000 | E3: =SUM(E4:E7) -> 155219 | F3: =SUM(F4:F7) -> 155219 | G3: =SUM(G4:G7) -> 0 | H3: =SUM(H4:H7) -> 0 | I3: =SUM(I4:I7) -> 21000 | J3: =SUM(J4:J7) -> 0 | ... R3: =SUM(R4:R7) -> 38450 | S3: =SUM(G3:R3) -> 214350 | T3: x
B4: Duck stamp FY24- private lands | C4: 50000 | D4: 37000 | I4: 8000 | Q4: 12000 | R4: 17000 | S4: =SUM(G4:R4) -> 37000 | T4: No | U4: PZ says he'll spend this on projects--the total amount in March, Nov/Dec
B5: Leopold Area | C5: 50000 | D5: 0 | E5: 53000 | F5: 53000 | T5: Yes
B6: NAWCA Pines | C6: 100000 | D6: 100000 | E6: 102219 | F6: 102219 | N6: 4000 | O6: 24000 | P6: 72000 | S6: =SUM(G6:R6) -> 100000 | T6: Yes
B7: NRCS | C7: 300419 | I7: 13000 | L7: 21450 | O7: 21450 | R7: 21450 | S7: =SUM(G7:R7) -> 77350 | T7: Yes | U7: Anna & Blake pay increases
B8: Public Lands | C8: =SUM(C9:C16) -> 1525533 | D8: =SUM(D9:D16) -> 1261536 | E8: =SUM(E9:E16) -> 219000 | F8: =SUM(F9:F16) -> 219000 | G8: =SUM(G9:G16) -> 136356 | H8: =SUM(H9:H16) -> 425450 | I8: =SUM(I9:I16) -> 34950 | J8: =SUM(J9:J16) -> 9950 | ... R8: =SUM(R9:R16) -> 205750 | S8: =SUM(G8:R8) -> 983433 | T8: x
B9: DNR PLE. (annual payment of $57,000) | C9: 57000 | D9: 57000 | E9: 19000 | F9: 19000 | G9: 4750 | H9: 4750 | I9: 4750 | J9: 4750 | K9: 4750 | L9: 4750 | M9: 4750 | N9: 4750 | O9: 4750 | P9: 4750 | Q9: 4750 | R9: 4750 | S9: =SUM(G9:R9) -> 57000 | T9: Yes | U9: Projects?
B10: LYR | C10: 994533 | D10: 761736 | E10: 0 | F10: 0 | G10: 105000 | H10: 400000 | I10: 2500 | J10: 2500 | K10: 2500 | L10: 2500 | M10: 2500 | N10: 2500 | O10: 2500 | P10: 2500 | Q10: 2500 | R10: 1000 | S10: =SUM(G10:R10) -> 528500 | T10: Yes | U10: Includes Phase II in Jan and Feb, then Phase 3 in Dec | V10: CAN NOT ACCUMULATE OVER $1M IN FEDERAL FUNDS; Unlikely to spend much in Phase 3 in CY 2026
B11: duck stamp LYR | C11: 200000 | D11: 200000 | E11: 200000 | F11: 200000 | L11: 500 | M11: 500 | N11: 500 | O11: 500 | P11: 500 | Q11: 500 | R11: 200000 | S11: =SUM(G11:R11) -> 203000 | T11: No | U11: Assumes some compensation (?)
B12: GLRI | C12: 168000 | D12: 168000 | E12: 0 | F12: 0 | G12: 700 | H12: 700 | I12: 700 | J12: 700 | K12: 700 | L12: 700 | M12: 700 | N12: 700 | O12: 700 | S12: =SUM(G12:R12) -> 6300 | T12: Yes | U12: Assumes monthly reimbursement but could be quarterly. Projects - Poygan Deer Creek, Sheboygan Marsh, Ertmer
B13: FFLM | C13: 106000 | G13: 21073 | I13: 25000 | K13: 21000 | M13: 21000 | O13: 15927 | P13: 10000 | S13: =SUM(G13:R13) -> 114000 | T13: No | U13: FFLM has already provided the funding save 10% upon final report - this reflects the AJE to move $100k from deferred grant revenue into program revenue with project expense budget
B14: FY24.25 Duck Stamp PLE remainders | D14: 74800 | S14: =SUM(G14:R14) -> 0 | T14: No | U14: Available: $74800, but how to be used? Poygan?
B15: Duck stamp FY 26 PLE | G15: 4833 | H15: 20000 | I15: 2000 | J15: 2000 | K15: 2000 | L15: 2000 | S15: =SUM(G15:R15) -> 32833 | T15: No | U15: White River construction + Planning staff expense (Goose lake , Big Muskego)
B16: Duck Stamp FY 27 PLE | M16: 2000 | N16: 36800 | O16: 1000 | P16: 1000 | Q16: 1000 | S16: =SUM(G16:R16) -> 41800 | T16: No | U16: Projects (Goose Lake - $40K) 2500 in staff planning for kettle morraine
B17: Other Program Grants | C17: =SUM(C18:C18) -> 56405 | D17: =SUM(D18:D18) -> 22253 | E17: =SUM(E18:E18) -> 0 | F17: =SUM(F18:F18) -> 0 | G17: =SUM(G18:G18) -> 0 | H17: =SUM(H18:H18) -> 20000 | I17: =SUM(I18:I18) -> 0 | J17: =SUM(J18:J18) -> 0 | ... R17: =SUM(R18:R18) -> 0 | S17: =SUM(G17:R17) -> 20000 | T17: x
B18: R3 Grant | C18: 56405 | D18: 22253 | E18: 0 | F18: 0 | H18: 20000 | S18: =SUM(G18:R18) -> 20000 | T18: yes | U18: Final reimbursement for R3 program
B19: USFWS | C19: =SUM(C20:C24) -> 613938 | D19: =SUM(D20:D24) -> 373256 | E19: =SUM(E20:E24) -> 41750 | F19: =SUM(F20:F24) -> 41750 | G19: =SUM(G20:G24) -> 12833.333 | H19: =SUM(H20:H24) -> 12833.333 | I19: =SUM(I20:I24) -> 12833.333 | J19: =SUM(J20:J24) -> 12833.333 | ... R19: =SUM(R20:R24) -> 14333.333 | S19: =SUM(G19:R19) -> 164500 | T19: x
B20: Partnership Phase IV (FY22) | C20: 200000 | D20: 5412 | E20: 20000 | F20: 20000 | G20: =154000/48 -> 3208.3333 | H20: =154000/48 -> 3208.3333 | I20: =154000/48 -> 3208.3333 | J20: =154000/48 -> 3208.3333 | K20: =154000/48 -> 3208.3333 | L20: =154000/48 -> 3208.3333 | M20: =154000/48 -> 3208.3333 | N20: =154000/48 -> 3208.3333 | ... R20: =154000/48 -> 3208.3333 | S20: =SUM(G20:R20) -> 38500 | T20: Yes | U20: Note:estimates from WWA---USFWS spent $154K per year across all partnership grants--- in and out
B21: Partnership Phase V (FY23) | C21: 217500 | D21: 217500 | E21: 21750 | F21: 21750 | G21: =154000/48 -> 3208.3333 | H21: =154000/48 -> 3208.3333 | I21: =154000/48 -> 3208.3333 | J21: =154000/48 -> 3208.3333 | K21: =154000/48 -> 3208.3333 | L21: =154000/48 -> 3208.3333 | M21: =154000/48 -> 3208.3333 | N21: =154000/48 -> 3208.3333 | ... R21: =154000/48 -> 3208.3333 | S21: =SUM(G21:R21) -> 38500 | T21: Yes | U21: Note:estimates from WWA---USFWS spent $154K per year across all partnership grants--- in and out
B22: Partnership Phase VI (FY24) | C22: 98000 | D22: 51906 | E22: 0 | F22: 0 | G22: =154000/48 -> 3208.3333 | H22: =154000/48 -> 3208.3333 | I22: =154000/48 -> 3208.3333 | J22: =154000/48 -> 3208.3333 | K22: =154000/48 -> 3208.3333 | L22: =154000/48 -> 3208.3333 | M22: =154000/48 -> 3208.3333 | N22: =154000/48 -> 3208.3333 | ... R22: =154000/48 -> 3208.3333 | S22: =SUM(G22:R22) -> 38500 | T22: Yes | U22: Note:estimates from WWA---USFWS spent $154K per year across all partnership grants--- in and out
B23: Partnership Phase VII (FY25) | C23: 49939 | D23: 49939 | E23: 0 | F23: 0 | G23: =154000/48 -> 3208.3333 | H23: =154000/48 -> 3208.3333 | I23: =154000/48 -> 3208.3333 | J23: =154000/48 -> 3208.3333 | K23: =154000/48 -> 3208.3333 | L23: =154000/48 -> 3208.3333 | M23: =154000/48 -> 3208.3333 | N23: =154000/48 -> 3208.3333 | ... R23: =154000/48 -> 3208.3333 | S23: =SUM(G23:R23) -> 38500 | T23: Yes | U23: Note:estimates from WWA---USFWS spent $154K per year across all partnership grants--- in and out
B24: Terrestrial invasives (FY25) | C24: 48499 | D24: 48499 | E24: 0 | F24: 0 | L24: 1500 | M24: 1500 | N24: 1500 | O24: 1500 | P24: 1500 | Q24: 1500 | R24: 1500 | S24: =SUM(G24:R24) -> 10500 | T24: Yes | U24: new program, estimate only--should be in and out
A26: EXPENSES | G26: =G27+G33+G46+G48 -> 154120.83 | H26: =H27+H33+H46+H48 -> 431570.83 | I26: =I27+I33+I46+I48 -> 80345.833 | J26: =J27+J33+J46+J48 -> 37045.833 | K26: =K27+K33+K46+K48 -> 57045.833 | L26: =L27+L33+L46+L48 -> 39295.833 | M26: =M27+M33+M46+M48 -> 66128.833 | N26: =N27+N33+N46+N48 -> 103128.83 | ... R26: =R27+R33+R46+R48 -> 236955.83 | S26: =SUM(G26:R26) -> 1423000
B27: Private Lands rexpenses | G27: =SUM(G28:G32) -> 7950 | H27: =SUM(H28:H32) -> 8150 | I27: =SUM(I28:I32) -> 16750 | J27: =SUM(J28:J32) -> 10450 | K27: =SUM(K28:K32) -> 11450 | L27: =SUM(L28:L32) -> 11450 | M27: =SUM(M28:M32) -> 20283 | N27: =SUM(N28:N32) -> 40283 | ... R27: =SUM(R28:R32) -> 14285 | S27: =SUM(G27:R27) -> 256900
B28: Admin/Grant Management/support | G28: 250 | H28: 250 | I28: 250 | J28: 250 | K28: 250 | L28: 250 | M28: 250 | N28: 250 | O28: 250 | P28: 250 | Q28: 250 | R28: 250 | S28: =SUM(G28:R28) -> 3000 | U28: Kelcy, Bruce and Brad private lands support effort
B29: HRP contract | G29: 3700 | H29: 3700 | I29: 3700 | J29: 3700 | K29: 3700 | L29: 3700 | M29: 3700 | N29: 3700 | O29: 3700 | P29: 3700 | Q29: 3700 | R29: 3700 | S29: =SUM(G29:R29) -> 44400
B30: Various PL projects | I30: 8000 | M30: 4833 | N30: 4833 | O30: 4833 | P30: 4833 | Q30: 4833 | R30: 4835 | S30: =SUM(G30:R30) -> 37000 | U30: PZ says he'll spend this on projects--the total amount just spread across these months
B31: Pines Project | M31: 4000 | N31: 24000 | O31: 72000 | S31: =SUM(G31:R31) -> 100000
B32: NRCS Monitoring | G32: 4000 | H32: 4200 | I32: 4800 | J32: 6500 | K32: 7500 | L32: 7500 | M32: 7500 | N32: 7500 | O32: 6500 | P32: 5500 | Q32: 5500 | R32: 5500 | S32: =SUM(G32:R32) -> 72500 | U32: Anna & Blake pay increases
B33: Public Lands expenses | G33: =SUM(G34:G45) -> 133337.5 | H33: =SUM(H34:H45) -> 410587.5 | I33: =SUM(I34:I45) -> 50762.5 | J33: =SUM(J34:J45) -> 13762.5 | K33: =SUM(K34:K45) -> 32762.5 | L33: =SUM(L34:L45) -> 13512.5 | M33: =SUM(M34:M45) -> 31512.5 | N33: =SUM(N34:N45) -> 48512.5 | ... R33: =SUM(R34:R45) -> 208337.5 | S33: =SUM(G33:R33) -> 1001600
B34: Prospecting/grant wrtiing/Admin chargeable to DNR or GLRI | G34: =4750*1.25 -> 5937.5 | H34: =4750*1.25 -> 5937.5 | I34: =4750*1.25+500 -> 6437.5 | J34: =4750*1.25+500 -> 6437.5 | K34: =4750*1.25+500 -> 6437.5 | L34: =4750*1.25+500 -> 6437.5 | M34: =4750*1.25+500 -> 6437.5 | N34: =4750*1.25+500 -> 6437.5 | O34: =4750*1.25 -> 5937.5 | P34: =4750*1.25 -> 5937.5 | Q34: =4750*1.25 -> 5937.5 | R34: =4750*1.25 -> 5937.5 | S34: =SUM(G34:R34) -> 74250 | U34: Average payment from DNR is 4750, add in WWA's 25%; Mar-Aug include QAPP development admin ($500)
B35: Admin/Grant Management/support | G35: 1400 | H35: 1400 | I35: 1400 | J35: 1400 | K35: 1400 | L35: 1400 | M35: 1400 | N35: 1400 | O35: 1400 | P35: 1400 | Q35: 1400 | R35: 1400 | S35: =SUM(G35:R35) -> 16800 | U35: Kelcy, Bruce and Brad private lands support effort--directly chargeable to grants (various)
B36: LYR | G36: 105000 | H36: 400000 | I36: 2500 | J36: 2500 | K36: 2500 | L36: 2500 | M36: 2500 | N36: 2500 | O36: 2500 | P36: 2500 | Q36: 2500 | R36: 201000 | S36: =SUM(G36:R36) -> 728500 | U36: $5k grant software in January
B37: Cedar Creek | G37: 20000 | H37: 1000 | I37: 20000 | J37: 1000 | K37: 20000 | L37: 1000 | M37: 20000 | N37: 1000 | O37: 19000 | P37: 8000 | Q37: 0 | S37: =SUM(G37:R37) -> 111000 | U37: staff effort plus KCI contract
B38: White River | H38: 1000 | I38: 18000 | S38: =SUM(G38:R38) -> 19000 | U38: Project complete in March
B39: Ertmer | H39: 250 | I39: 250 | J39: 250 | K39: 250 | S39: =SUM(G39:R39) -> 1000 | U39: ecologist Staff time planning
B40: Goose Lake | G40: 1000 | H40: 1000 | I40: 1000 | J40: 1000 | K40: 1000 | L40: 1000 | N40: 36000 | S40: =SUM(G40:R40) -> 42000 | U40: Staff time planning + construction in Aug
B41: Big Muskego | I41: 425 | J41: 425 | K41: 425 | L41: 425 | M41: 425 | N41: 425 | S41: =SUM(G41:R41) -> 2550 | U41: ecologist Staff time planning
...

Sheet Sheet4
A1: Employee | B1: 2026 Annual | C1: Monthly | D1: Employer taxes @ 8.3% | E1: Gross Monthly | F1: Admin | G1: Develop | H1: PS | I1: PS Brock thru 3/31 | J1: PS Brock after 4/1 | K1: Develop Brock thru 3/31 | L1: Develop Brock after 4/1
A2: Boettcher | B2: 58000 | C2: 4833.33 | D2: =SUM(C2*0.083) -> 401.16639 | E2: =SUM(C2:D2) -> 5234.4964 | F2: =SUM(E2*0.1) -> 523.44964 | G2: =SUM(E2*0.1) -> 523.44964 | H2: =SUM(E2*0.8) -> 4187.5971
A3: Heidel | B3: 75000 | C3: 6250 | D3: =SUM(C3*0.083) -> 518.75 | E3: =SUM(C3:D3) -> 6768.75 | F3: =SUM(E3*0.1) -> 676.875 | G3: =SUM(E3*0.1) -> 676.875 | H3: =SUM(E3*0.8) -> 5415
A4: Monette | B4: 50486 | C4: 4207.17 | D4: =SUM(C4*0.083) -> 349.19511 | E4: =SUM(C4:D4) -> 4556.3651 | G4: =SUM(E4*0.8) -> 3645.0921 | H4: =SUM(E4*0.2) -> 911.27302
A5: Rosenkranz | B5: 54000 | C5: 4500 | D5: =SUM(C5*0.083) -> 373.5 | E5: =SUM(C5:D5) -> 4873.5 | I5: 4873.5 | J5: =SUM(E5*0.3) -> 1462.05 | K5: 0 | L5: 3411.45
A6: Seibert | B6: 6240 | C6: 520 | D6: =SUM(C6*0.083) -> 43.16 | E6: =SUM(C6:D6) -> 563.16 | G6: =SUM(E6*0.5) -> 281.58 | H6: =SUM(E6*0.5) -> 281.58
D7: =SUM(C7*0.083) -> 0 | E7: =SUM(C7:D7) -> 0
B8: =SUM(B2:B6) -> 243726 | C8: =SUM(C2:C7) -> 20310.5 | D8: =SUM(D2:D7) -> 1685.7715 | E8: =SUM(E2:E7) -> 21996.271 | F8: =SUM(F2:F7) -> 1200.3246 | G8: =SUM(G2:G7) -> 5126.9967 | H8: =SUM(H2:H7) -> 10795.45
E9: Thru 3/31 | G9: =SUM(G8+K5) -> 5126.9967 | H9: =SUM(H8+I5) -> 15668.95
E10: After 4/1 | G10: =SUM(G8+L5-G4) -> 4893.3546 | H10: =SUM(H8+J5) -> 12257.5

Sheet P&L Monthly Totals
B1: January | C1: Feb | D1: March | E1: April | F1: May | G1: June | H1: July | I1: August | J1: Sept | K1: Oct | L1: Nov | M1: Dec | N1: Totals
A2: Gross Sales
A3: Chapter event revenue | N3: =SUM(B3:M3) -> 0
A4: State event revenue | N4: =SUM(B4:M4) -> 0
A5: Membership revenue | N5: =SUM(B5:M5) -> 0
A6: Sponsor revenue | N6: =SUM(B6:M6) -> 0
A7: Private Lands revenue | N7: =SUM(B7:M7) -> 0
A8: Public Lands revenue | N8: =SUM(B8:M8) -> 0
A9: Other Program Grant revenue | N9: =SUM(B9:M9) -> 0
A10: USFWS revenue | N10: =SUM(B10:M10) -> 0
A11: EXPO revenue | N11: =SUM(B11:M11) -> 0
A12: Other | N12: =SUM(B12:M12) -> 0
N13: =SUM(B13:M13) -> 0
A14: Net Sales | B14: =SUM(B3:B13) -> 0 | C14: =SUM(C3:C13) -> 0 | D14: =SUM(D3:D13) -> 0 | E14: =SUM(E3:E13) -> 0 | F14: =SUM(F3:F13) -> 0 | G14: =SUM(G3:G13) -> 0 | H14: =SUM(H3:H13) -> 0 | I14: =SUM(I3:I13) -> 0 | ... M14: =SUM(M3:M13) -> 0 | N14: =SUM(B14:M14) -> 0
N15: =SUM(B15:M15) -> 0
A16: Standard Cost of Sales | N16: =SUM(B16:M16) -> 0
A17: COS-Chapter event revenue | B17: 0 | N17: =SUM(B17:M17) -> 0
A18: COS-State event revenue | B18: 0 | N18: =SUM(B18:M18) -> 0
A19: COS-Other | B19: 0 | C19: 0 | D19: 0 | E19: 0 | F19: 0 | G19: 0 | H19: 0 | I19: 0 | J19: 0 | K19: 0 | L19: 0 | M19: 0 | N19: =SUM(B19:M19) -> 0
N20: =SUM(B20:M20) -> 0
N21: =SUM(B21:M21) -> 0
N22: =SUM(B22:M22) -> 0
A23: Total Standard Cost of Sales | B23: =SUM(B17:B22) -> 0 | C23: =SUM(C17:C22) -> 0 | D23: =SUM(D17:D22) -> 0 | E23: =SUM(E17:E22) -> 0 | F23: =SUM(F17:F22) -> 0 | G23: =SUM(G17:G22) -> 0 | H23: =SUM(H17:H22) -> 0 | I23: =SUM(I17:I22) -> 0 | ... M23: =SUM(M17:M22) -> 0 | N23: =SUM(B23:M23) -> 0
N24: =SUM(B24:M24) -> 0
A25: Gross Profit | B25: =B14-B23 -> 0 | C25: =C14-C23 -> 0 | D25: =D14-D23 -> 0 | E25: =E14-E23 -> 0 | F25: =F14-F23 -> 0 | G25: =G14-G23 -> 0 | H25: =H14-H23 -> 0 | I25: =I14-I23 -> 0 | ... M25: =M14-M23 -> 0 | N25: =SUM(B25:M25) -> 0
N26: =SUM(B26:M26) -> 0
A27: Operating Expenses | N27: =SUM(B27:M27) -> 0
A28: Development: | N28: =SUM(B28:M28) -> 0
A29: Wages | N29: =SUM(B29:M29) -> 0
A30: Benefits | N30: =SUM(B30:M30) -> 0
A31: Travel | N31: =SUM(B31:M31) -> 0
A32: Phone | N32: =SUM(B32:M32) -> 0
A33: Event expenses | N33: =SUM(B33:M33) -> 0
A34: Postage & shipping | N34: =SUM(B34:M34) -> 0
A35: Shows & meetings | N35: =SUM(B35:M35) -> 0
A36: Marketing | N36: =SUM(B36:M36) -> 0
A37: Magazine | N37: =SUM(B37:M37) -> 0
A38: Advertising | N38: =SUM(B38:M38) -> 0
... A40: Other | N40: =SUM(B40:M40) -> 0
A41: Total | B41: =SUM(B29:B40) -> 0 | C41: =SUM(C29:C40) -> 0 | D41: =SUM(D29:D40) -> 0 | E41: =SUM(E29:E40) -> 0 | F41: =SUM(F29:F40) -> 0 | G41: =SUM(G29:G40) -> 0 | H41: =SUM(H29:H40) -> 0 | I41: =SUM(I29:I40) -> 0 | ... M41: =SUM(M29:M40) -> 0 | N41: =SUM(B41:M41) -> 0
...

Sheet 2011 VS 2012 by Class
B1: Chapters/Development | E1: Restoration/HRP | H1: Education
B3: 2011 | C3: 2012 | E3: 2011 | F3: 2012 | H3: 2011 | I3: 2012
A4: Revenue | B4: 681264 | C4: 508315 | E4: 69164 | F4: 63500 | H4: 30500 | I4: 0
A5: Expense | B5: 819790 | C5: 547675 | E5: 96398 | F5: 93050 | H5: 20000 | I5: 20000
A6: Profit (Loss) | B6: =SUM(B4-B5) -> -138526 | C6: =SUM(C4-C5) -> -39360 | E6: =SUM(E4-E5) -> -27234 | F6: =SUM(F4-F5) -> -29550 | H6: =SUM(H4-H5) -> 10500 | I6: =SUM(I4-I5) -> -20000
