Workbook
Name PRINT_AREA_MI: [1]CAP!#REF!
Name PRINT_TITLES_MI: [1]CAP!#REF!
Name PrintArea: BS!$E$3:$L$53
Name Report: BS!$A$3:$L$53
Name rptacctidend: " "
Name rptacctidstart: " "
Name rptcurr1: " "
Name rptcurr10: " "
Name rptcurr2: " "
Name rptcurr3: " "
Name rptcurr4: " "
Name rptcurr5: " "
Name rptcurr6: " "
Name rptcurr7: " "
Name rptcurr8: " "
Name rptcurr9: " "
Name rptgroupend: 16
Name rptgroupstart: 1
Name rptorderby: 2
Name rptorderbysegid: 1
Name rptperiod: 5
Name rptprovtype: 1
Name rptsegend1: "ZZZZZ"
Name rptsegend10: " "
Name rptsegend2: "ZZ"
Name rptsegend3: "ZZZ"
Name rptsegend4: " "
Name rptsegend5: " "
Name rptsegend6: " "
Name rptsegend7: " "
Name rptsegend8: " "
Name rptsegend9: " "
Name rptsegoption1: 1
Name rptsegoption10: 0
Name rptsegoption2: 1
Name rptsegoption3: 1
Name rptsegoption4: 0
Name rptsegoption5: 0
Name rptsegoption6: 0
Name rptsegoption7: 0
Name rptsegoption8: 0
Name rptsegoption9: 0
Name rptsegstart1: " "
Name rptsegstart10: " "
Name rptsegstart2: " "
Name rptsegstart3: " "
Name rptsegstart4: " "
Name rptsegstart5: " "
Name rptsegstart6: " "
Name rptsegstart7: " "
Name rptsegstart8: " "
Name rptsegstart9: " "
Name rptyear: 2009
Name Spec: BS!#REF!

Sheet BS
E3: Wisconsin Waterfowl Association
E4: Balance Sheet
I6: 5 | J6: 2009 | K6: 39934 | L6: 39934
I8: 46265
F9: Assets | I9: Actual | J9: Budget | K9: Prior Month | L9: Prior Year | M9: Prior YE
G10: Current Assets
G11: Cash
H12: Chapters | I12: 21210.4 | J12: 36000 | K12: 12044.79 | L12: 20387.52 | M12: 6336.26
H13: Money Market | I13: 172852.5 | J13: 133500 | K13: 172355.54 | L13: 212906.94 | M13: 215616.32
H14: Raffle restricted | I14: 16792.56 | J14: 22000 | K14: 16115.68 | L14: 16324.39 | M14: 38820.71
H15: Abrams restricted | I15: 1510.04 | J15: 1510 | K15: 1510.04 | L15: 1510.04 | M15: 1510.04
H16: AWA restricted | I16: 1720.5 | J16: 1721 | K16: 1720.5 | L16: 1720.5 | M16: 1720.5
H17: EXPO restricted | I17: 175855.36 | J17: 181311 | K17: 156638.53 | L17: 107560.84 | M17: 98615.85
H18: Chapter Loan restricted | I18: 6103.87 | J18: 6104 | K18: 6103.87 | L18: 6103.87 | M18: 6103.87
H19: PLE restricted | I19: 0 | J19: 0 | K19: 0 | L19: 4500 | M19: 0
H20: State Unrestricted | I20: 298843.92 | J20: 269638 | K20: 268221.97 | L20: 255035.59 | M20: 261868.86
H21: Total Cash | I21: =SUM(I12:I20) -> 694889.15 | J21: 654063 | K21: =SUM(K12:K20) -> 634710.92 | L21: =SUM(L12:L20) -> 626049.69 | M21: =SUM(M12:M20) -> 630592.41
G22: Accounts Receivable - Trade | I22: 16674 | J22: 12000 | K22: 12394.95 | L22: 13048.12 | M22: 0
G23: Accounts Receivable - Grants | I23: 45103.67 | J23: 63583 | K23: 36808.47 | L23: 34078.97 | M23: 41374.25
G24: Accrued Grant Revenue Receivable | I24: 19466.42 | J24: 0 | K24: 9965.97 | L24: 0 | M24: 0
G25: Inventory | I25: 42517.77 | J25: 53872 | K25: 55740.38 | L25: 36449.51 | M25: 41872.35
G26: Prepaid Expenses | I26: 10848.96 | J26: 11400 | K26: 6014.08 | L26: 9571.36 | M26: 3047.62
G27: Other Current Assets | I27: 2243.12 | J27: 0 | K27: 22821.17 | L27: 1212.12 | M27: 28664.12
G28: Total Current Assets | I28: =SUM(I21:I27) -> 831743.09 | J28: =SUM(J21:J27) -> 794918 | K28: =SUM(K21:K27) -> 778455.94 | L28: =SUM(L21:L27) -> 720409.77 | M28: =SUM(M21:M27) -> 745550.75
G30: Fixed Assets
G31: Gross Fixed Assets | I31: 156921.14 | J31: 156666 | K31: 156921.14 | L31: 155452.61 | M31: 156665.85
G32: Accum. Depreciation | I32: -15458.2 | J32: -15458 | K32: -15458.2 | L32: -15458.2 | M32: -15458.2
G33: Net Fixed Assets | I33: =SUM(I31:I32) -> 141462.94 | J33: =SUM(J31:J32) -> 141208 | K33: =SUM(K31:K32) -> 141462.94 | L33: =SUM(L31:L32) -> 139994.41 | M33: =SUM(M31:M32) -> 141207.65
G35: Other Assets - Rent deposit | I35: 280 | J35: 280 | K35: 280 | L35: 280 | M35: 280
G36: Other Assets - Endowment Fund | I36: 97222.15 | J36: 95869 | K36: 96015.71 | L36: 75597.73 | M36: 89668.91
G37: Total Assets | I37: =I28+I33+I35+I36 -> 1070708.2 | J37: =J28+J33+J35+J36 -> 1032275 | K37: =K28+K33+K35+K36 -> 1016214.6 | L37: =L28+L33+L35+L36 -> 936281.91 | M37: =M28+M33+M35+M36 -> 976707.31
F39: Liabilities & Equity
G40: Current Liabilities
G41: Accounts Payable | I41: 29528.65 | J41: 177607 | K41: 17112.71 | L41: 32656.67 | M41: 28482.49
G42: Accued Liabilities | I42: 16792.56 | J42: 22000 | K42: 16115.68 | L42: 16324.39 | M42: 38820.71
G43: Deferred Chapter Bank Accounts | I43: 21210.4 | J43: 36000 | K43: 12044.79 | L43: 20387.52 | M43: 6336.26
G44: Deferred Chapter Credit Cards | I44: 57655.37 | J44: 50000 | K44: 32247.03 | L44: 49747.29 | M44: 5016.34
G45: Deferred Grant Revenue | I45: 53417.93 | J45: 15927 | K45: 53417.93 | L45: 100000 | M45: 100000
G46: Other Liabilities/LT Notes Payable | I46: 4101.58 | J46: 8000 | K46: 4179.46 | L46: 6607.56 | M46: 8448.37
G47: Total Liabilities | I47: =SUM(I41:I46) -> 182706.49 | J47: =SUM(J41:J46) -> 309534 | K47: =SUM(K41:K46) -> 135117.6 | L47: =SUM(L41:L46) -> 225723.43 | M47: =SUM(M41:M46) -> 187104.17
...

Sheet CF
A3: Wisconsin Waterfowl Association
A4: Cash Flow
A5: 46265
H6: Actual | K6: Budget
H7: Month | I7: YTD | K7: Month | L7: YTD
A8: Operating Activities
A9: Net Income | H9: =BS!I51-BS!K51 -> 6904.42 | I9: =BS!I50+(BS!I49-BS!M51) -> 98397.87 | K9: -43263 | L9: -66864
A10: Items to Reconcile to Cash Basis:
A11: Depreciation/Amortization | H11: =BS!K32-BS!I32 -> 0 | I11: =BS!M32-BS!I32 -> 0 | K11: 0 | L11: 0
A13: Changes in Components of Working Capital
A14: Accounts Receivable | H14: =(BS!K22+BS!K23)-(BS!I22+BS!I23) -> -12574.25 | I14: =(BS!M22+BS!M23)-(BS!I22+BS!I23) -> -20403.42 | K14: -44800 | L14: -34209
A15: Accrued Grant Revenue Receivable | H15: =(BS!K24)-(BS!I24) -> -9500.45 | I15: =(BS!M24)-(BS!I24) -> -19466.42 | K15: 0 | L15: -12000
A16: Inventory | H16: =BS!K25-BS!I25 -> 13222.61 | I16: =BS!M25-BS!I25 -> -645.42 | K16: -6000 | L16: -6000
A17: Prepaid Expenses | H17: =BS!K26-BS!I26 -> -4834.88 | I17: =BS!M26-BS!I26 -> -7801.34 | K17: 1000 | L17: -8352
A18: Other Current Assets | H18: =BS!K27-BS!I27 -> 20578.05 | I18: =BS!M27-BS!I27 -> 26421 | K18: 0 | L18: 28664
A19: Other Assets | H19: =SUM(BS!K36-BS!I36) -> -1206.44 | I19: =SUM(BS!M36-BS!I36) -> -7553.24 | K19: -775 | L19: -6200
A20: Accounts Payable | H20: =BS!I41-BS!K41 -> 12415.94 | I20: =BS!I41-BS!M41 -> 1046.16 | K20: 76337 | L20: 149125
A21: Deferred Income | H21: =(BS!I43+ BS!I44+BS!I45)-(BS!K43+BS!K44+BS!K45) -> 34573.95 | I21: =(BS!I43+BS!I44+BS!I45)-(BS!M43+BS!M44+BS!M45) -> 20931.1 | K21: 49000 | L21: -9425
A22: Accruals | H22: =BS!I42-BS!K42 -> 676.88 | I22: =BS!I42-BS!M42 -> -22028.15 | K22: -1000 | L22: -16821
A23: Other Liabilities | H23: =BS!I46-BS!K46 -> -77.88 | I23: =BS!I46-BS!M46 -> -4346.79 | K23: 0 | L23: -448
A24: Total Increase/(Decrease) due to Operating Activities | H24: =SUM(H9:H23) -> 60177.95 | I24: =SUM(I9:I23) -> 64551.35 | K24: 30500 | L24: 23470
A26: Investing Activities
A27: Capital Expenditures | H27: =BS!K31-BS!I31 -> 0 | I27: =BS!M31-BS!I31 -> -255.29 | K27: 0 | L27: 0
A29: Financing Activities
A30: Loans | H30: 0 | I30: 0 | K30: 0 | L30: 0
A32: Total Increase/(decrease) in Cash | H32: =H24+H27+H30 -> 60177.95 | I32: =I24+I27+I30 -> 64296.06 | K32: 30500 | L32: 23470
A34: Beginning Cash Balance | H34: =BS!K21 -> 634710.92 | I34: =BS!$M$21 -> 630592.41 | K34: 623564 | L34: 630593
A36: Ending Cash Balance | H36: =H32+H34 -> 694888.87 | I36: =I32+I34 -> 694888.47 | K36: 654063 | L36: =L32+L34 -> 654063
A38: (check) | H38: =H36-BS!I21 -> -0.28 | I38: =I36-BS!I21 -> -0.68
